Workbook
Name Admit_Date: 'CSS-RU'!$AJ$2
Name Audit_Date: 'CSS-RU'!$AB$4
Name Audit_Link: 'CSS-RU'!$Z$2:$AM$36
Name CSS_General: 'CSS-RU'!$A$2:$I$3
Name CSS_RU: 'CSS-RU'!$A$2:$U$30
Name CSS_RU_NoSum: 'CSS-RU'!$A$2:$U$26
Name CSS_Summary: 'CSS-RU'!$A$32:$R$36
Name CSSNEW1: 'CSS-RU NEW'!$A$1:$V$37
Name CSSNEW2: 'CSS-RU NEW'!$O$1:$AZ$13
Name Facility: 'CSS-RU'!$AB$2
Name July_15_Form_Results: 'QRM - GG Audit (7-15-20)'!$B$6:$AA$36
Name July_15_Mobility: 'QRM - GG Audit (7-15-20)'!$B$17:$O$36
Name July_15_Patient_1Line: 'QRM - GG Audit (7-15-20)'!$S$6:$AA$7
Name July_15_Patient_Info: 'QRM - GG Audit (7-15-20)'!$B$2:$O$4
Name July_15_SelfCare: 'QRM - GG Audit (7-15-20)'!$B$6:$O$16
Name July_PatientInfo: 'QRM - GG Audit (7-15-20)'!$B$2:$O$4
Name Mobility: 'CSS-RU'!$Z$17:$AM$36
Name Patient: 'CSS-RU'!$AB$3
Name Self_Care: 'CSS-RU'!$AA$6:$AN$16

Sheet QRM - GG Audit (7-15-20)
AH1: 1
B2: Facility: | C2: Example Facility | F2: QRM ID: | I2: 22310 | K2: Audit Date: | N2: 44048
A3: Patient's First Name: | B3: Patient's First Name: | C3: Case | F3: Patient's Last Name: | I3: Study | K3: PDPM HIPPS: | N3: KBXE1
B4: Admit Date: | C4: 43994 | F4: Last Cover Day: | I4: 44027 | K4: LOS: | N4: =IF(OR(C4="",C4=""),"",_xlfn.DAYS(I4,C4)+1) -> 34
AG5: Change per Day = Change Score/LOS
B6: GG Self-Care Items | E6: Admit Code | F6: Goal Code | G6: D/C Code | I6: Admit Score | J6: Goal Y/N | K6: D/C Score | M6: Goal Met | N6: Change Score | O6: Change per Day | R6: Version | S6: Facility | T6: QRM ID | U6: Audit Date | V6: Patient's First Name | W6: Patient's Last Name | X6: PDPM HIPPS | Y6: Admit Date | Z6: Last Cover Day | AA6: LOS | AD6: Crosswalk
B7: GG Self-Care Items | R7: Updated 7/15/20 | S7: =C2 -> Example Facility | T7: =I2 -> 22310 | U7: =N2 -> 44048 | V7: =C3 -> Case | W7: =I3 -> Study | X7: =N3 -> KBXE1 | Y7: =C4 -> 43994 | Z7: =I4 -> 44027 | AA7: =N4 -> 34 | AD7: GG Code | AE7: GG Score
B8: Eating | E8: 05 | F8: 06 | G8: 05 | I8: =IFERROR(INDEX($AE$8:$AE$18,MATCH(E8,$AD$8:$AD$18,0)),"") -> 5 | J8: =IFERROR(INDEX($AF$8:$AF$18,MATCH(F8,$AD$8:$AD$18,0)),"") -> Yes | K8: =IFERROR(INDEX($AE$8:$AE$18,MATCH(G8,$AD$8:$AD$18,0)),"") -> 5 | M8: =IFERROR(IF(OR(F8="-Dash",E8="",F8="",G8="",J8="No"),"",IF(OR(K8<AG8,G8=$AD$14,G8=$AD$15,G8=$AD$16,G8=$AD$17,G8=$AD$18),"UnMet","Met")),"") -> UnMet | N8: =IFERROR((K8-I8),"") -> 0 | O8: =IFERROR(N8/$N$4,"") -> 0 | AD8: 01 | AE8: 1 | AF8: Yes | AG8: =IFERROR(INDEX($AE$8:$AE$18,MATCH(F8,$AD$8:$AD$18,0)),"") -> 6
B9: Oral Hygiene | E9: 05 | F9: 06 | G9: 04 | I9: =IFERROR(INDEX($AE$8:$AE$18,MATCH(E9,$AD$8:$AD$18,0)),"") -> 5 | J9: =IFERROR(INDEX($AF$8:$AF$18,MATCH(F9,$AD$8:$AD$18,0)),"") -> Yes | K9: =IFERROR(INDEX($AE$8:$AE$18,MATCH(G9,$AD$8:$AD$18,0)),"") -> 4 | M9: =IFERROR(IF(OR(F9="-Dash",E9="",F9="",G9="",J9="No"),"",IF(OR(K9<AG9,G9=$AD$14,G9=$AD$15,G9=$AD$16,G9=$AD$17,G9=$AD$18),"UnMet","Met")),"") -> UnMet | N9: =IFERROR((K9-I9),"") -> -1 | O9: =IFERROR(N9/$N$4,"") -> -0.029411765 | AD9: 02 | AE9: 2 | AF9: Yes | AG9: =IFERROR(INDEX($AE$8:$AE$18,MATCH(F9,$AD$8:$AD$18,0)),"") -> 6
B10: Toilet Hygiene | E10: 03 | F10: 06 | G10: 03 | I10: =IFERROR(INDEX($AE$8:$AE$18,MATCH(E10,$AD$8:$AD$18,0)),"") -> 3 | J10: =IFERROR(INDEX($AF$8:$AF$18,MATCH(F10,$AD$8:$AD$18,0)),"") -> Yes | K10: =IFERROR(INDEX($AE$8:$AE$18,MATCH(G10,$AD$8:$AD$18,0)),"") -> 3 | M10: =IFERROR(IF(OR(F10="-Dash",E10="",F10="",G10="",J10="No"),"",IF(OR(K10<AG10,G10=$AD$14,G10=$AD$15,G10=$AD$16,G10=$AD$17,G10=$AD$18),"UnMet","Met")),"") -> UnMet | N10: =IFERROR((K10-I10),"") -> 0 | O10: =IFERROR(N10/$N$4,"") -> 0 | AD10: 03 | AE10: 3 | AF10: Yes | AG10: =IFERROR(INDEX($AE$8:$AE$18,MATCH(F10,$AD$8:$AD$18,0)),"") -> 6
B11: Shower/bathe self | E11: 03 | F11: 03 | G11: 03 | I11: =IFERROR(INDEX($AE$8:$AE$18,MATCH(E11,$AD$8:$AD$18,0)),"") -> 3 | J11: =IFERROR(INDEX($AF$8:$AF$18,MATCH(F11,$AD$8:$AD$18,0)),"") -> Yes | K11: =IFERROR(INDEX($AE$8:$AE$18,MATCH(G11,$AD$8:$AD$18,0)),"") -> 3 | M11: =IFERROR(IF(OR(F11="-Dash",E11="",F11="",G11="",J11="No"),"",IF(OR(K11<AG11,G11=$AD$14,G11=$AD$15,G11=$AD$16,G11=$AD$17,G11=$AD$18),"UnMet","Met")),"") -> Met | N11: =IFERROR((K11-I11),"") -> 0 | O11: =IFERROR(N11/$N$4,"") -> 0 | AD11: 04 | AE11: 4 | AF11: Yes | AG11: =IFERROR(INDEX($AE$8:$AE$18,MATCH(F11,$AD$8:$AD$18,0)),"") -> 3
B12: UBD | E12: 03 | F12: 03 | G12: 03 | I12: =IFERROR(INDEX($AE$8:$AE$18,MATCH(E12,$AD$8:$AD$18,0)),"") -> 3 | J12: =IFERROR(INDEX($AF$8:$AF$18,MATCH(F12,$AD$8:$AD$18,0)),"") -> Yes | K12: =IFERROR(INDEX($AE$8:$AE$18,MATCH(G12,$AD$8:$AD$18,0)),"") -> 3 | M12: =IFERROR(IF(OR(F12="-Dash",E12="",F12="",G12="",J12="No"),"",IF(OR(K12<AG12,G12=$AD$14,G12=$AD$15,G12=$AD$16,G12=$AD$17,G12=$AD$18),"UnMet","Met")),"") -> Met | N12: =IFERROR((K12-I12),"") -> 0 | O12: =IFERROR(N12/$N$4,"") -> 0 | AD12: 05 | AE12: 5 | AF12: Yes | AG12: =IFERROR(INDEX($AE$8:$AE$18,MATCH(F12,$AD$8:$AD$18,0)),"") -> 3
B13: LBD | E13: 02 | F13: 03 | G13: 03 | I13: =IFERROR(INDEX($AE$8:$AE$18,MATCH(E13,$AD$8:$AD$18,0)),"") -> 2 | J13: =IFERROR(INDEX($AF$8:$AF$18,MATCH(F13,$AD$8:$AD$18,0)),"") -> Yes | K13: =IFERROR(INDEX($AE$8:$AE$18,MATCH(G13,$AD$8:$AD$18,0)),"") -> 3 | M13: =IFERROR(IF(OR(F13="-Dash",E13="",F13="",G13="",J13="No"),"",IF(OR(K13<AG13,G13=$AD$14,G13=$AD$15,G13=$AD$16,G13=$AD$17,G13=$AD$18),"UnMet","Met")),"") -> Met | N13: =IFERROR((K13-I13),"") -> 1 | O13: =IFERROR(N13/$N$4,"") -> 0.029411765 | AD13: 06 | AE13: 6 | AF13: Yes | AG13: =IFERROR(INDEX($AE$8:$AE$18,MATCH(F13,$AD$8:$AD$18,0)),"") -> 3
B14: Don/doff footwear | E14: 03 | F14: 03 | G14: 03 | I14: =IFERROR(INDEX($AE$8:$AE$18,MATCH(E14,$AD$8:$AD$18,0)),"") -> 3 | J14: =IFERROR(INDEX($AF$8:$AF$18,MATCH(F14,$AD$8:$AD$18,0)),"") -> Yes | K14: =IFERROR(INDEX($AE$8:$AE$18,MATCH(G14,$AD$8:$AD$18,0)),"") -> 3 | M14: =IFERROR(IF(OR(F14="-Dash",E14="",F14="",G14="",J14="No"),"",IF(OR(K14<AG14,G14=$AD$14,G14=$AD$15,G14=$AD$16,G14=$AD$17,G14=$AD$18),"UnMet","Met")),"") -> Met | N14: =IFERROR((K14-I14),"") -> 0 | O14: =IFERROR(N14/$N$4,"") -> 0 | AD14: 07 | AE14: 1 | AF14: No | AG14: =IFERROR(INDEX($AE$8:$AE$18,MATCH(F14,$AD$8:$AD$18,0)),"") -> 3 | BA14: LOS:
B15: GG Mobility Items | E15: Self-Care Scores | I15: =SUM(I8:I14) -> 24 | J15: =COUNTIF(J8:J14,"Yes") -> 7 | K15: =SUM(K8:K14) -> 24 | M15: =COUNTIF(M8:M14,"Met") -> 4 | N15: =IFERROR(K15-I15,"") -> 0 | O15: =IFERROR(N15/N4,"") -> 0 | AD15: 09 | AE15: 1 | AF15: No
B16: GG Mobility Items | E16: % of Total Points | I16: =IFERROR((I15/42),"") -> 0.57142857 | K16: =IFERROR((K15/42),"") -> 0.57142857 | M16: =IFERROR($M$15/SUM(COUNTIF($M$8:$M$14,"Met")+COUNTIF($M$8:$M$14,"UnMet")),"") -> 0.57142857 | AD16: 88 | AE16: 1 | AF16: No
B17: GG Mobility Items | AD17: 10 | AE17: 1 | AF17: No
B18: Roll L/R | E18: 04 | F18: 04 | G18: 04 | I18: =IFERROR(INDEX($AE$8:$AE$18,MATCH(E18,$AD$8:$AD$18,0)),"") -> 4 | J18: =IFERROR(INDEX($AF$8:$AF$18,MATCH(F18,$AD$8:$AD$18,0)),"") -> Yes | K18: =IFERROR(INDEX($AE$8:$AE$18,MATCH(G18,$AD$8:$AD$18,0)),"") -> 4 | M18: =IFERROR(IF(OR(F18="-Dash",E18="",F18="",G18="",J18="No"),"",IF(OR(K18<AG18,G18=$AD$14,G18=$AD$15,G18=$AD$16,G18=$AD$17,G18=$AD$18),"UnMet","Met")),"") -> Met | N18: =IFERROR((K18-I18),"") -> 0 | O18: =IFERROR(N18/$N$4,"") -> 0 | AD18: -Dash | AE18: 1 | AF18: No | AG18: =IFERROR(INDEX($AE$8:$AE$18,MATCH(F18,$AD$8:$AD$18,0)),"") -> 4
B19: Sit to Lying | E19: 05 | F19: 06 | G19: 04 | I19: =IFERROR(INDEX($AE$8:$AE$18,MATCH(E19,$AD$8:$AD$18,0)),"") -> 5 | J19: =IFERROR(INDEX($AF$8:$AF$18,MATCH(F19,$AD$8:$AD$18,0)),"") -> Yes | K19: =IFERROR(INDEX($AE$8:$AE$18,MATCH(G19,$AD$8:$AD$18,0)),"") -> 4 | M19: =IFERROR(IF(OR(F19="-Dash",E19="",F19="",G19="",J19="No"),"",IF(OR(K19<AG19,G19=$AD$14,G19=$AD$15,G19=$AD$16,G19=$AD$17,G19=$AD$18),"UnMet","Met")),"") -> UnMet | N19: =IFERROR((K19-I19),"") -> -1 | O19: =IFERROR(N19/$N$4,"") -> -0.029411765 | AD19: Goals | AG19: =IFERROR(INDEX($AE$8:$AE$18,MATCH(F19,$AD$8:$AD$18,0)),"") -> 6
B20: Lying to Sit | E20: 04 | F20: 04 | G20: 04 | I20: =IFERROR(INDEX($AE$8:$AE$18,MATCH(E20,$AD$8:$AD$18,0)),"") -> 4 | J20: =IFERROR(INDEX($AF$8:$AF$18,MATCH(F20,$AD$8:$AD$18,0)),"") -> Yes | K20: =IFERROR(INDEX($AE$8:$AE$18,MATCH(G20,$AD$8:$AD$18,0)),"") -> 4 | M20: =IFERROR(IF(OR(F20="-Dash",E20="",F20="",G20="",J20="No"),"",IF(OR(K20<AG20,G20=$AD$14,G20=$AD$15,G20=$AD$16,G20=$AD$17,G20=$AD$18),"UnMet","Met")),"") -> Met | N20: =IFERROR((K20-I20),"") -> 0 | O20: =IFERROR(N20/$N$4,"") -> 0 | AD20: Goal Status | AE20: Goal Status Score | AG20: =IFERROR(INDEX($AE$8:$AE$18,MATCH(F20,$AD$8:$AD$18,0)),"") -> 4
B21: Sit to Stand | E21: 04 | F21: 04 | G21: 04 | I21: =IFERROR(INDEX($AE$8:$AE$18,MATCH(E21,$AD$8:$AD$18,0)),"") -> 4 | J21: =IFERROR(INDEX($AF$8:$AF$18,MATCH(F21,$AD$8:$AD$18,0)),"") -> Yes | K21: =IFERROR(INDEX($AE$8:$AE$18,MATCH(G21,$AD$8:$AD$18,0)),"") -> 4 | M21: =IFERROR(IF(OR(F21="-Dash",E21="",F21="",G21="",J21="No"),"",IF(OR(K21<AG21,G21=$AD$14,G21=$AD$15,G21=$AD$16,G21=$AD$17,G21=$AD$18),"UnMet","Met")),"") -> Met | N21: =IFERROR((K21-I21),"") -> 0 | O21: =IFERROR(N21/$N$4,"") -> 0 | AD21: Met | AE21: 1 | AG21: =IFERROR(INDEX($AE$8:$AE$18,MATCH(F21,$AD$8:$AD$18,0)),"") -> 4
B22: Bed to Chair T/f | E22: 04 | F22: 04 | G22: 04 | I22: =IFERROR(INDEX($AE$8:$AE$18,MATCH(E22,$AD$8:$AD$18,0)),"") -> 4 | J22: =IFERROR(INDEX($AF$8:$AF$18,MATCH(F22,$AD$8:$AD$18,0)),"") -> Yes | K22: =IFERROR(INDEX($AE$8:$AE$18,MATCH(G22,$AD$8:$AD$18,0)),"") -> 4 | M22: =IFERROR(IF(OR(F22="-Dash",E22="",F22="",G22="",J22="No"),"",IF(OR(K22<AG22,G22=$AD$14,G22=$AD$15,G22=$AD$16,G22=$AD$17,G22=$AD$18),"UnMet","Met")),"") -> Met | N22: =IFERROR((K22-I22),"") -> 0 | O22: =IFERROR(N22/$N$4,"") -> 0 | AD22: Unmet | AE22: 0 | AG22: =IFERROR(INDEX($AE$8:$AE$18,MATCH(F22,$AD$8:$AD$18,0)),"") -> 4
B23: Toilet T/f | E23: 03 | F23: 03 | G23: 03 | I23: =IFERROR(INDEX($AE$8:$AE$18,MATCH(E23,$AD$8:$AD$18,0)),"") -> 3 | J23: =IFERROR(INDEX($AF$8:$AF$18,MATCH(F23,$AD$8:$AD$18,0)),"") -> Yes | K23: =IFERROR(INDEX($AE$8:$AE$18,MATCH(G23,$AD$8:$AD$18,0)),"") -> 3 | M23: =IFERROR(IF(OR(F23="-Dash",E23="",F23="",G23="",J23="No"),"",IF(OR(K23<AG23,G23=$AD$14,G23=$AD$15,G23=$AD$16,G23=$AD$17,G23=$AD$18),"UnMet","Met")),"") -> Met | N23: =IFERROR((K23-I23),"") -> 0 | O23: =IFERROR(N23/$N$4,"") -> 0 | AD23: If Goal Code is - | AE23: n/a | AG23: =IFERROR(INDEX($AE$8:$AE$18,MATCH(F23,$AD$8:$AD$18,0)),"") -> 3
B24: Car T/f | E24: 10 | F24: 10 | G24: 09 | I24: =IFERROR(INDEX($AE$8:$AE$18,MATCH(E24,$AD$8:$AD$18,0)),"") -> 1 | J24: =IFERROR(INDEX($AF$8:$AF$18,MATCH(F24,$AD$8:$AD$18,0)),"") -> No | K24: =IFERROR(INDEX($AE$8:$AE$18,MATCH(G24,$AD$8:$AD$18,0)),"") -> 1 | M24: =IFERROR(IF(OR(F24="-Dash",E24="",F24="",G24="",J24="No"),"",IF(OR(K24<AG24,G24=$AD$14,G24=$AD$15,G24=$AD$16,G24=$AD$17,G24=$AD$18),"UnMet","Met")),"") | N24: =IFERROR((K24-I24),"") -> 0 | O24: =IFERROR(N24/$N$4,"") -> 0 | AD24: GG Summary | AG24: =IFERROR(INDEX($AE$8:$AE$18,MATCH(F24,$AD$8:$AD$18,0)),"") -> 1
B25: Walk 10 ft | E25: 04 | F25: 04 | G25: 04 | I25: =IFERROR(INDEX($AE$8:$AE$18,MATCH(E25,$AD$8:$AD$18,0)),"") -> 4 | J25: =IFERROR(INDEX($AF$8:$AF$18,MATCH(F25,$AD$8:$AD$18,0)),"") -> Yes | K25: =IFERROR(INDEX($AE$8:$AE$18,MATCH(G25,$AD$8:$AD$18,0)),"") -> 4 | M25: =IFERROR(IF(OR(F25="-Dash",E25="",F25="",G25="",J25="No"),"",IF(OR(K25<AG25,G25=$AD$14,G25=$AD$15,G25=$AD$16,G25=$AD$17,G25=$AD$18),"UnMet","Met")),"") -> Met | N25: =IFERROR((K25-I25),"") -> 0 | O25: =IFERROR(N25/$N$4,"") -> 0 | AD25: Goal Status | AE25: Goal Status Score | AG25: =IFERROR(INDEX($AE$8:$AE$18,MATCH(F25,$AD$8:$AD$18,0)),"") -> 4
B26: Walk 50 ft w/ 2 turns | E26: 04 | F26: 04 | G26: 04 | I26: =IFERROR(INDEX($AE$8:$AE$18,MATCH(E26,$AD$8:$AD$18,0)),"") -> 4 | J26: =IFERROR(INDEX($AF$8:$AF$18,MATCH(F26,$AD$8:$AD$18,0)),"") -> Yes | K26: =IFERROR(INDEX($AE$8:$AE$18,MATCH(G26,$AD$8:$AD$18,0)),"") -> 4 | M26: =IFERROR(IF(OR(F26="-Dash",E26="",F26="",G26="",J26="No"),"",IF(OR(K26<AG26,G26=$AD$14,G26=$AD$15,G26=$AD$16,G26=$AD$17,G26=$AD$18),"UnMet","Met")),"") -> Met | N26: =IFERROR((K26-I26),"") -> 0 | O26: =IFERROR(N26/$N$4,"") -> 0 | AD26: Met | AE26: 1 | AG26: =IFERROR(INDEX($AE$8:$AE$18,MATCH(F26,$AD$8:$AD$18,0)),"") -> 4
B27: Walk 150 ft | E27: 04 | F27: 04 | G27: 04 | I27: =IFERROR(INDEX($AE$8:$AE$18,MATCH(E27,$AD$8:$AD$18,0)),"") -> 4 | J27: =IFERROR(INDEX($AF$8:$AF$18,MATCH(F27,$AD$8:$AD$18,0)),"") -> Yes | K27: =IFERROR(INDEX($AE$8:$AE$18,MATCH(G27,$AD$8:$AD$18,0)),"") -> 4 | M27: =IFERROR(IF(OR(F27="-Dash",E27="",F27="",G27="",J27="No"),"",IF(OR(K27<AG27,G27=$AD$14,G27=$AD$15,G27=$AD$16,G27=$AD$17,G27=$AD$18),"UnMet","Met")),"") -> Met | N27: =IFERROR((K27-I27),"") -> 0 | O27: =IFERROR(N27/$N$4,"") -> 0 | AD27: Unmet | AE27: 0 | AG27: =IFERROR(INDEX($AE$8:$AE$18,MATCH(F27,$AD$8:$AD$18,0)),"") -> 4
B28: Walk 10 ft uneven surfaces | E28: 04 | F28: 04 | G28: 09 | I28: =IFERROR(INDEX($AE$8:$AE$18,MATCH(E28,$AD$8:$AD$18,0)),"") -> 4 | J28: =IFERROR(INDEX($AF$8:$AF$18,MATCH(F28,$AD$8:$AD$18,0)),"") -> Yes | K28: =IFERROR(INDEX($AE$8:$AE$18,MATCH(G28,$AD$8:$AD$18,0)),"") -> 1 | M28: =IFERROR(IF(OR(F28="-Dash",E28="",F28="",G28="",J28="No"),"",IF(OR(K28<AG28,G28=$AD$14,G28=$AD$15,G28=$AD$16,G28=$AD$17,G28=$AD$18),"UnMet","Met")),"") -> UnMet | N28: =IFERROR((K28-I28),"") -> -3 | O28: =IFERROR(N28/$N$4,"") -> -0.088235294 | AD28: n/a | AG28: =IFERROR(INDEX($AE$8:$AE$18,MATCH(F28,$AD$8:$AD$18,0)),"") -> 4
B29: 1 curb/step | E29: 03 | F29: 04 | G29: 09 | I29: =IFERROR(INDEX($AE$8:$AE$18,MATCH(E29,$AD$8:$AD$18,0)),"") -> 3 | J29: =IFERROR(INDEX($AF$8:$AF$18,MATCH(F29,$AD$8:$AD$18,0)),"") -> Yes | K29: =IFERROR(INDEX($AE$8:$AE$18,MATCH(G29,$AD$8:$AD$18,0)),"") -> 1 | M29: =IFERROR(IF(OR(F29="-Dash",E29="",F29="",G29="",J29="No"),"",IF(OR(K29<AG29,G29=$AD$14,G29=$AD$15,G29=$AD$16,G29=$AD$17,G29=$AD$18),"UnMet","Met")),"") -> UnMet | N29: =IFERROR((K29-I29),"") -> -2 | O29: =IFERROR(N29/$N$4,"") -> -0.058823529 | AG29: =IFERROR(INDEX($AE$8:$AE$18,MATCH(F29,$AD$8:$AD$18,0)),"") -> 4
B30: 4 steps | E30: 03 | F30: 03 | G30: 09 | I30: =IFERROR(INDEX($AE$8:$AE$18,MATCH(E30,$AD$8:$AD$18,0)),"") -> 3 | J30: =IFERROR(INDEX($AF$8:$AF$18,MATCH(F30,$AD$8:$AD$18,0)),"") -> Yes | K30: =IFERROR(INDEX($AE$8:$AE$18,MATCH(G30,$AD$8:$AD$18,0)),"") -> 1 | M30: =IFERROR(IF(OR(F30="-Dash",E30="",F30="",G30="",J30="No"),"",IF(OR(K30<AG30,G30=$AD$14,G30=$AD$15,G30=$AD$16,G30=$AD$17,G30=$AD$18),"UnMet","Met")),"") -> UnMet | N30: =IFERROR((K30-I30),"") -> -2 | O30: =IFERROR(N30/$N$4,"") -> -0.058823529 | AG30: =IFERROR(INDEX($AE$8:$AE$18,MATCH(F30,$AD$8:$AD$18,0)),"") -> 3
B31: 12 steps | E31: 10 | F31: 03 | G31: 09 | I31: =IFERROR(INDEX($AE$8:$AE$18,MATCH(E31,$AD$8:$AD$18,0)),"") -> 1 | J31: =IFERROR(INDEX($AF$8:$AF$18,MATCH(F31,$AD$8:$AD$18,0)),"") -> Yes | K31: =IFERROR(INDEX($AE$8:$AE$18,MATCH(G31,$AD$8:$AD$18,0)),"") -> 1 | M31: =IFERROR(IF(OR(F31="-Dash",E31="",F31="",G31="",J31="No"),"",IF(OR(K31<AG31,G31=$AD$14,G31=$AD$15,G31=$AD$16,G31=$AD$17,G31=$AD$18),"UnMet","Met")),"") -> UnMet | N31: =IFERROR((K31-I31),"") -> 0 | O31: =IFERROR(N31/$N$4,"") -> 0 | AD31: Goals Met/Unmet Flow | AG31: =IFERROR(INDEX($AE$8:$AE$18,MATCH(F31,$AD$8:$AD$18,0)),"") -> 3
B32: Picking up object | E32: 88 | F32: 10 | G32: 03 | I32: =IFERROR(INDEX($AE$8:$AE$18,MATCH(E32,$AD$8:$AD$18,0)),"") -> 1 | J32: =IFERROR(INDEX($AF$8:$AF$18,MATCH(F32,$AD$8:$AD$18,0)),"") -> No | K32: =IFERROR(INDEX($AE$8:$AE$18,MATCH(G32,$AD$8:$AD$18,0)),"") -> 3 | M32: =IFERROR(IF(OR(F32="-Dash",E32="",F32="",G32="",J32="No"),"",IF(OR(K32<AG32,G32=$AD$14,G32=$AD$15,G32=$AD$16,G32=$AD$17,G32=$AD$18),"UnMet","Met")),"") | N32: =IFERROR((K32-I32),"") -> 2 | O32: =IFERROR(N32/$N$4,"") -> 0.058823529 | AD32: Goal Unmet | AG32: =IFERROR(INDEX($AE$8:$AE$18,MATCH(F32,$AD$8:$AD$18,0)),"") -> 1
B33: W/c 50 ft w/ 2 turns | E33: 09 | F33: 09 | G33: 09 | I33: =IFERROR(INDEX($AE$8:$AE$18,MATCH(E33,$AD$8:$AD$18,0)),"") -> 1 | J33: =IFERROR(INDEX($AF$8:$AF$18,MATCH(F33,$AD$8:$AD$18,0)),"") -> No | K33: =IFERROR(INDEX($AE$8:$AE$18,MATCH(G33,$AD$8:$AD$18,0)),"") -> 1 | M33: =IFERROR(IF(OR(F33="-Dash",E33="",F33="",G33="",J33="No"),"",IF(OR(K33<AG33,G33=$AD$14,G33=$AD$15,G33=$AD$16,G33=$AD$17,G33=$AD$18),"UnMet","Met")),"") | N33: =IFERROR((K33-I33),"") -> 0 | O33: =IFERROR(N33/$N$4,"") -> 0 | AD33: 1) D/C Score is Less than Goal; or | AG33: =IFERROR(INDEX($AE$8:$AE$18,MATCH(F33,$AD$8:$AD$18,0)),"") -> 1
B34: W/c 150 ft | E34: 09 | F34: 09 | G34: 09 | I34: =IFERROR(INDEX($AE$8:$AE$18,MATCH(E34,$AD$8:$AD$18,0)),"") -> 1 | J34: =IFERROR(INDEX($AF$8:$AF$18,MATCH(F34,$AD$8:$AD$18,0)),"") -> No | K34: =IFERROR(INDEX($AE$8:$AE$18,MATCH(G34,$AD$8:$AD$18,0)),"") -> 1 | M34: =IFERROR(IF(OR(F34="-Dash",E34="",F34="",G34="",J34="No"),"",IF(OR(K34<AG34,G34=$AD$14,G34=$AD$15,G34=$AD$16,G34=$AD$17,G34=$AD$18),"UnMet","Met")),"") | N34: =IFERROR((K34-I34),"") -> 0 | O34: =IFERROR(N34/$N$4,"") -> 0 | AD34: 2) D/C Code is Red Option (5 red above) | AG34: =IFERROR(INDEX($AE$8:$AE$18,MATCH(F34,$AD$8:$AD$18,0)),"") -> 1
E35: Mobility Scores | I35: =SUM(I18:I32) -> 49 | J35: =COUNTIF(J18:J34,"Yes") -> 13 | K35: =SUM(K18:L32) -> 43 | M35: =COUNTIF(M18:M34,"Met") -> 8 | N35: =IFERROR(K35-I35,"") -> -6 | O35: =IFERROR(N35/$N$4,"") -> -0.17647059
E36: % of Total Points | I36: =IFERROR(($I$35/90),"") -> 0.54444444 | K36: =IFERROR(($K$35/90),"") -> 0.47777778 | M36: =IFERROR($M$35/SUM(COUNTIF(M18:M34,"Met")+COUNTIF(M18:M34,"UnMet")),"") -> 0.61538462

Sheet QRM - GG Audit
AF1: 1
B2: Facility: | C2: ='QRM - GG Audit (7-15-20)'!C2 -> Example Facility | I2: Admit Date: | K2: ='QRM - GG Audit (7-15-20)'!N2 -> 44048 | M2: Last Cover Day: | O2: ='QRM - GG Audit (7-15-20)'!I4 -> 44027
B3: Patient: | C3: ='QRM - GG Audit (7-15-20)'!C3&" "&'QRM - GG Audit (7-15-20)'!I3 -> Case Study | I3: LOS: | K3: =IF(OR(K2="",O2=""),"",_xlfn.DAYS(O2,K2)+1) -> -20 | M3: PDPM HIPPS: | O3: ='QRM - GG Audit (3)'!N3
A4: Auditor: | B4: Audit Date: | C4: ='QRM - GG Audit (7-15-20)'!C4 -> 43994 | I4: QRM ID # | N4: ='QRM - GG Audit (7-15-20)'!I2 -> 22310
AE5: Change per Day = Change Score/LOS
E6: Admit Code | F6: Goal Code | G6: D/C Code | I6: Admit Score | J6: Goal Y/N | K6: D/C Score | M6: Goal Met | N6: Change Score | O6: Change per Day | AB6: Crosswalk
B7: GG Self-Care Items | AB7: GG Code | AC7: GG Score
B8: Eating | E8: ='QRM - GG Audit (7-15-20)'!E8 -> 05 | F8: ='QRM - GG Audit (7-15-20)'!F8 -> 06 | G8: ='QRM - GG Audit (7-15-20)'!G8 -> 05 | H8: ='QRM - GG Audit (7-15-20)'!H8 -> 0 | I8: ='QRM - GG Audit (7-15-20)'!I8 -> 5 | J8: ='QRM - GG Audit (7-15-20)'!J8 -> Yes | K8: ='QRM - GG Audit (7-15-20)'!K8 -> 5 | L8: ='QRM - GG Audit (7-15-20)'!L8 -> 0 | ... O8: ='QRM - GG Audit (7-15-20)'!O8 -> 0 | AB8: 01 | AC8: 1 | AD8: Yes | AE8: =IFERROR(INDEX($AC$8:$AC$18,MATCH(F8,$AB$8:$AB$18,0)),"") -> 6
B9: Oral Hygiene | E9: ='QRM - GG Audit (7-15-20)'!E9 -> 05 | F9: ='QRM - GG Audit (7-15-20)'!F9 -> 06 | G9: ='QRM - GG Audit (7-15-20)'!G9 -> 04 | H9: ='QRM - GG Audit (7-15-20)'!H9 -> 0 | I9: ='QRM - GG Audit (7-15-20)'!I9 -> 5 | J9: ='QRM - GG Audit (7-15-20)'!J9 -> Yes | K9: ='QRM - GG Audit (7-15-20)'!K9 -> 4 | L9: ='QRM - GG Audit (7-15-20)'!L9 -> 0 | ... O9: ='QRM - GG Audit (7-15-20)'!O9 -> -0.029411765 | AB9: 02 | AC9: 2 | AD9: Yes | AE9: =IFERROR(INDEX($AC$8:$AC$18,MATCH(F9,$AB$8:$AB$18,0)),"") -> 6
B10: Toilet Hygiene | E10: ='QRM - GG Audit (7-15-20)'!E10 -> 03 | F10: ='QRM - GG Audit (7-15-20)'!F10 -> 06 | G10: ='QRM - GG Audit (7-15-20)'!G10 -> 03 | H10: ='QRM - GG Audit (7-15-20)'!H10 -> 0 | I10: ='QRM - GG Audit (7-15-20)'!I10 -> 3 | J10: ='QRM - GG Audit (7-15-20)'!J10 -> Yes | K10: ='QRM - GG Audit (7-15-20)'!K10 -> 3 | L10: ='QRM - GG Audit (7-15-20)'!L10 -> 0 | ... O10: ='QRM - GG Audit (7-15-20)'!O10 -> 0 | AB10: 03 | AC10: 3 | AD10: Yes | AE10: =IFERROR(INDEX($AC$8:$AC$18,MATCH(F10,$AB$8:$AB$18,0)),"") -> 6
B11: Shower/bathe self | E11: ='QRM - GG Audit (7-15-20)'!E11 -> 03 | F11: ='QRM - GG Audit (7-15-20)'!F11 -> 03 | G11: ='QRM - GG Audit (7-15-20)'!G11 -> 03 | H11: ='QRM - GG Audit (7-15-20)'!H11 -> 0 | I11: ='QRM - GG Audit (7-15-20)'!I11 -> 3 | J11: ='QRM - GG Audit (7-15-20)'!J11 -> Yes | K11: ='QRM - GG Audit (7-15-20)'!K11 -> 3 | L11: ='QRM - GG Audit (7-15-20)'!L11 -> 0 | ... O11: ='QRM - GG Audit (7-15-20)'!O11 -> 0 | AB11: 04 | AC11: 4 | AD11: Yes | AE11: =IFERROR(INDEX($AC$8:$AC$18,MATCH(F11,$AB$8:$AB$18,0)),"") -> 3
B12: UBD | E12: ='QRM - GG Audit (7-15-20)'!E12 -> 03 | F12: ='QRM - GG Audit (7-15-20)'!F12 -> 03 | G12: ='QRM - GG Audit (7-15-20)'!G12 -> 03 | H12: ='QRM - GG Audit (7-15-20)'!H12 -> 0 | I12: ='QRM - GG Audit (7-15-20)'!I12 -> 3 | J12: ='QRM - GG Audit (7-15-20)'!J12 -> Yes | K12: ='QRM - GG Audit (7-15-20)'!K12 -> 3 | L12: ='QRM - GG Audit (7-15-20)'!L12 -> 0 | ... O12: ='QRM - GG Audit (7-15-20)'!O12 -> 0 | AB12: 05 | AC12: 5 | AD12: Yes | AE12: =IFERROR(INDEX($AC$8:$AC$18,MATCH(F12,$AB$8:$AB$18,0)),"") -> 3
B13: LBD | E13: ='QRM - GG Audit (7-15-20)'!E13 -> 02 | F13: ='QRM - GG Audit (7-15-20)'!F13 -> 03 | G13: ='QRM - GG Audit (7-15-20)'!G13 -> 03 | H13: ='QRM - GG Audit (7-15-20)'!H13 -> 0 | I13: ='QRM - GG Audit (7-15-20)'!I13 -> 2 | J13: ='QRM - GG Audit (7-15-20)'!J13 -> Yes | K13: ='QRM - GG Audit (7-15-20)'!K13 -> 3 | L13: ='QRM - GG Audit (7-15-20)'!L13 -> 0 | ... O13: ='QRM - GG Audit (7-15-20)'!O13 -> 0.029411765 | AB13: 06 | AC13: 6 | AD13: Yes | AE13: =IFERROR(INDEX($AC$8:$AC$18,MATCH(F13,$AB$8:$AB$18,0)),"") -> 3
B14: Don/doff footwear | E14: ='QRM - GG Audit (7-15-20)'!E14 -> 03 | F14: ='QRM - GG Audit (7-15-20)'!F14 -> 03 | G14: ='QRM - GG Audit (7-15-20)'!G14 -> 03 | H14: ='QRM - GG Audit (7-15-20)'!H14 -> 0 | I14: ='QRM - GG Audit (7-15-20)'!I14 -> 3 | J14: ='QRM - GG Audit (7-15-20)'!J14 -> Yes | K14: ='QRM - GG Audit (7-15-20)'!K14 -> 3 | L14: ='QRM - GG Audit (7-15-20)'!L14 -> 0 | ... O14: ='QRM - GG Audit (7-15-20)'!O14 -> 0 | AB14: 07 | AC14: 1 | AD14: No | AE14: =IFERROR(INDEX($AC$8:$AC$18,MATCH(F14,$AB$8:$AB$18,0)),"") -> 3
E15: Self-Care Scores | I15: =SUM(I8:I14) -> 24 | J15: =COUNTIF(J8:J14,"Yes") -> 7 | K15: =SUM(K8:K14) -> 24 | M15: =COUNTIF(M8:M14,"Met") -> 4 | N15: =IFERROR(K15-I15,"") -> 0 | O15: =IFERROR(N15/K3,"") -> 0 | AB15: 09 | AC15: 1 | AD15: No
E16: % of Total Points | I16: =IFERROR((I15/42),"") -> 0.57142857 | K16: =IFERROR((K15/42),"") -> 0.57142857 | M16: =IFERROR($M$15/SUM(COUNTIF($M$8:$M$14,"Met")+COUNTIF($M$8:$M$14,"UnMet")),"") -> 0.57142857 | AB16: 88 | AC16: 1 | AD16: No
B17: GG Mobility Items | AB17: 10 | AC17: 1 | AD17: No
B18: Roll L/R | E18: ='QRM - GG Audit (7-15-20)'!E18 -> 04 | F18: ='QRM - GG Audit (7-15-20)'!F18 -> 04 | G18: ='QRM - GG Audit (7-15-20)'!G18 -> 04 | H18: ='QRM - GG Audit (7-15-20)'!H18 -> 0 | I18: ='QRM - GG Audit (7-15-20)'!I18 -> 4 | J18: ='QRM - GG Audit (7-15-20)'!J18 -> Yes | K18: ='QRM - GG Audit (7-15-20)'!K18 -> 4 | L18: ='QRM - GG Audit (7-15-20)'!L18 -> 0 | ... O18: ='QRM - GG Audit (7-15-20)'!O18 -> 0 | AB18: -Dash | AC18: 1 | AD18: No | AE18: =IFERROR(INDEX($AC$8:$AC$18,MATCH(F18,$AB$8:$AB$18,0)),"") -> 4
B19: Sit to Lying | E19: ='QRM - GG Audit (7-15-20)'!E19 -> 05 | F19: ='QRM - GG Audit (7-15-20)'!F19 -> 06 | G19: ='QRM - GG Audit (7-15-20)'!G19 -> 04 | H19: ='QRM - GG Audit (7-15-20)'!H19 -> 0 | I19: ='QRM - GG Audit (7-15-20)'!I19 -> 5 | J19: ='QRM - GG Audit (7-15-20)'!J19 -> Yes | K19: ='QRM - GG Audit (7-15-20)'!K19 -> 4 | L19: ='QRM - GG Audit (7-15-20)'!L19 -> 0 | ... O19: ='QRM - GG Audit (7-15-20)'!O19 -> -0.029411765 | AB19: Goals | AE19: =IFERROR(INDEX($AC$8:$AC$18,MATCH(F19,$AB$8:$AB$18,0)),"") -> 6
B20: Lying to Sit | E20: ='QRM - GG Audit (7-15-20)'!E20 -> 04 | F20: ='QRM - GG Audit (7-15-20)'!F20 -> 04 | G20: ='QRM - GG Audit (7-15-20)'!G20 -> 04 | H20: ='QRM - GG Audit (7-15-20)'!H20 -> 0 | I20: ='QRM - GG Audit (7-15-20)'!I20 -> 4 | J20: ='QRM - GG Audit (7-15-20)'!J20 -> Yes | K20: ='QRM - GG Audit (7-15-20)'!K20 -> 4 | L20: ='QRM - GG Audit (7-15-20)'!L20 -> 0 | ... O20: ='QRM - GG Audit (7-15-20)'!O20 -> 0 | AB20: Goal Status | AC20: Goal Status Score | AE20: =IFERROR(INDEX($AC$8:$AC$18,MATCH(F20,$AB$8:$AB$18,0)),"") -> 4
B21: Sit to Stand | E21: ='QRM - GG Audit (7-15-20)'!E21 -> 04 | F21: ='QRM - GG Audit (7-15-20)'!F21 -> 04 | G21: ='QRM - GG Audit (7-15-20)'!G21 -> 04 | H21: ='QRM - GG Audit (7-15-20)'!H21 -> 0 | I21: ='QRM - GG Audit (7-15-20)'!I21 -> 4 | J21: ='QRM - GG Audit (7-15-20)'!J21 -> Yes | K21: ='QRM - GG Audit (7-15-20)'!K21 -> 4 | L21: ='QRM - GG Audit (7-15-20)'!L21 -> 0 | ... O21: ='QRM - GG Audit (7-15-20)'!O21 -> 0 | AB21: Met | AC21: 1 | AE21: =IFERROR(INDEX($AC$8:$AC$18,MATCH(F21,$AB$8:$AB$18,0)),"") -> 4
B22: Bed to Chair T/f | E22: ='QRM - GG Audit (7-15-20)'!E22 -> 04 | F22: ='QRM - GG Audit (7-15-20)'!F22 -> 04 | G22: ='QRM - GG Audit (7-15-20)'!G22 -> 04 | H22: ='QRM - GG Audit (7-15-20)'!H22 -> 0 | I22: ='QRM - GG Audit (7-15-20)'!I22 -> 4 | J22: ='QRM - GG Audit (7-15-20)'!J22 -> Yes | K22: ='QRM - GG Audit (7-15-20)'!K22 -> 4 | L22: ='QRM - GG Audit (7-15-20)'!L22 -> 0 | ... O22: ='QRM - GG Audit (7-15-20)'!O22 -> 0 | AB22: Unmet | AC22: 0 | AE22: =IFERROR(INDEX($AC$8:$AC$18,MATCH(F22,$AB$8:$AB$18,0)),"") -> 4
B23: Toilet T/f | E23: ='QRM - GG Audit (7-15-20)'!E23 -> 03 | F23: ='QRM - GG Audit (7-15-20)'!F23 -> 03 | G23: ='QRM - GG Audit (7-15-20)'!G23 -> 03 | H23: ='QRM - GG Audit (7-15-20)'!H23 -> 0 | I23: ='QRM - GG Audit (7-15-20)'!I23 -> 3 | J23: ='QRM - GG Audit (7-15-20)'!J23 -> Yes | K23: ='QRM - GG Audit (7-15-20)'!K23 -> 3 | L23: ='QRM - GG Audit (7-15-20)'!L23 -> 0 | ... O23: ='QRM - GG Audit (7-15-20)'!O23 -> 0 | AB23: If Goal Code is - | AC23: n/a | AE23: =IFERROR(INDEX($AC$8:$AC$18,MATCH(F23,$AB$8:$AB$18,0)),"") -> 3
B24: Car T/f | E24: ='QRM - GG Audit (7-15-20)'!E24 -> 10 | F24: ='QRM - GG Audit (7-15-20)'!F24 -> 10 | G24: ='QRM - GG Audit (7-15-20)'!G24 -> 09 | H24: ='QRM - GG Audit (7-15-20)'!H24 -> 0 | I24: ='QRM - GG Audit (7-15-20)'!I24 -> 1 | J24: ='QRM - GG Audit (7-15-20)'!J24 -> No | K24: ='QRM - GG Audit (7-15-20)'!K24 -> 1 | L24: ='QRM - GG Audit (7-15-20)'!L24 -> 0 | ... O24: ='QRM - GG Audit (7-15-20)'!O24 -> 0 | AB24: GG Summary | AE24: =IFERROR(INDEX($AC$8:$AC$18,MATCH(F24,$AB$8:$AB$18,0)),"") -> 1
B25: Walk 10 ft | E25: ='QRM - GG Audit (7-15-20)'!E25 -> 04 | F25: ='QRM - GG Audit (7-15-20)'!F25 -> 04 | G25: ='QRM - GG Audit (7-15-20)'!G25 -> 04 | H25: ='QRM - GG Audit (7-15-20)'!H25 -> 0 | I25: ='QRM - GG Audit (7-15-20)'!I25 -> 4 | J25: ='QRM - GG Audit (7-15-20)'!J25 -> Yes | K25: ='QRM - GG Audit (7-15-20)'!K25 -> 4 | L25: ='QRM - GG Audit (7-15-20)'!L25 -> 0 | ... O25: ='QRM - GG Audit (7-15-20)'!O25 -> 0 | AB25: Goal Status | AC25: Goal Status Score | AE25: =IFERROR(INDEX($AC$8:$AC$18,MATCH(F25,$AB$8:$AB$18,0)),"") -> 4
B26: Walk 50 ft w/ 2 turns | E26: ='QRM - GG Audit (7-15-20)'!E26 -> 04 | F26: ='QRM - GG Audit (7-15-20)'!F26 -> 04 | G26: ='QRM - GG Audit (7-15-20)'!G26 -> 04 | H26: ='QRM - GG Audit (7-15-20)'!H26 -> 0 | I26: ='QRM - GG Audit (7-15-20)'!I26 -> 4 | J26: ='QRM - GG Audit (7-15-20)'!J26 -> Yes | K26: ='QRM - GG Audit (7-15-20)'!K26 -> 4 | L26: ='QRM - GG Audit (7-15-20)'!L26 -> 0 | ... O26: ='QRM - GG Audit (7-15-20)'!O26 -> 0 | AB26: Met | AC26: 1 | AE26: =IFERROR(INDEX($AC$8:$AC$18,MATCH(F26,$AB$8:$AB$18,0)),"") -> 4
B27: Walk 150 ft | E27: ='QRM - GG Audit (7-15-20)'!E27 -> 04 | F27: ='QRM - GG Audit (7-15-20)'!F27 -> 04 | G27: ='QRM - GG Audit (7-15-20)'!G27 -> 04 | H27: ='QRM - GG Audit (7-15-20)'!H27 -> 0 | I27: ='QRM - GG Audit (7-15-20)'!I27 -> 4 | J27: ='QRM - GG Audit (7-15-20)'!J27 -> Yes | K27: ='QRM - GG Audit (7-15-20)'!K27 -> 4 | L27: ='QRM - GG Audit (7-15-20)'!L27 -> 0 | ... O27: ='QRM - GG Audit (7-15-20)'!O27 -> 0 | AB27: Unmet | AC27: 0 | AE27: =IFERROR(INDEX($AC$8:$AC$18,MATCH(F27,$AB$8:$AB$18,0)),"") -> 4
B28: Walk 10 ft uneven surfaces | E28: ='QRM - GG Audit (7-15-20)'!E28 -> 04 | F28: ='QRM - GG Audit (7-15-20)'!F28 -> 04 | G28: ='QRM - GG Audit (7-15-20)'!G28 -> 09 | H28: ='QRM - GG Audit (7-15-20)'!H28 -> 0 | I28: ='QRM - GG Audit (7-15-20)'!I28 -> 4 | J28: ='QRM - GG Audit (7-15-20)'!J28 -> Yes | K28: ='QRM - GG Audit (7-15-20)'!K28 -> 1 | L28: ='QRM - GG Audit (7-15-20)'!L28 -> 0 | ... O28: ='QRM - GG Audit (7-15-20)'!O28 -> -0.088235294 | AB28: n/a | AE28: =IFERROR(INDEX($AC$8:$AC$18,MATCH(F28,$AB$8:$AB$18,0)),"") -> 4
B29: 1 curb/step | E29: ='QRM - GG Audit (7-15-20)'!E29 -> 03 | F29: ='QRM - GG Audit (7-15-20)'!F29 -> 04 | G29: ='QRM - GG Audit (7-15-20)'!G29 -> 09 | H29: ='QRM - GG Audit (7-15-20)'!H29 -> 0 | I29: ='QRM - GG Audit (7-15-20)'!I29 -> 3 | J29: ='QRM - GG Audit (7-15-20)'!J29 -> Yes | K29: ='QRM - GG Audit (7-15-20)'!K29 -> 1 | L29: ='QRM - GG Audit (7-15-20)'!L29 -> 0 | ... O29: ='QRM - GG Audit (7-15-20)'!O29 -> -0.058823529 | AE29: =IFERROR(INDEX($AC$8:$AC$18,MATCH(F29,$AB$8:$AB$18,0)),"") -> 4
B30: 4 steps | E30: ='QRM - GG Audit (7-15-20)'!E30 -> 03 | F30: ='QRM - GG Audit (7-15-20)'!F30 -> 03 | G30: ='QRM - GG Audit (7-15-20)'!G30 -> 09 | H30: ='QRM - GG Audit (7-15-20)'!H30 -> 0 | I30: ='QRM - GG Audit (7-15-20)'!I30 -> 3 | J30: ='QRM - GG Audit (7-15-20)'!J30 -> Yes | K30: ='QRM - GG Audit (7-15-20)'!K30 -> 1 | L30: ='QRM - GG Audit (7-15-20)'!L30 -> 0 | ... O30: ='QRM - GG Audit (7-15-20)'!O30 -> -0.058823529 | AE30: =IFERROR(INDEX($AC$8:$AC$18,MATCH(F30,$AB$8:$AB$18,0)),"") -> 3
B31: 12 steps | E31: ='QRM - GG Audit (7-15-20)'!E31 -> 10 | F31: ='QRM - GG Audit (7-15-20)'!F31 -> 03 | G31: ='QRM - GG Audit (7-15-20)'!G31 -> 09 | H31: ='QRM - GG Audit (7-15-20)'!H31 -> 0 | I31: ='QRM - GG Audit (7-15-20)'!I31 -> 1 | J31: ='QRM - GG Audit (7-15-20)'!J31 -> Yes | K31: ='QRM - GG Audit (7-15-20)'!K31 -> 1 | L31: ='QRM - GG Audit (7-15-20)'!L31 -> 0 | ... O31: ='QRM - GG Audit (7-15-20)'!O31 -> 0 | AB31: Goals Met/Unmet Flow | AE31: =IFERROR(INDEX($AC$8:$AC$18,MATCH(F31,$AB$8:$AB$18,0)),"") -> 3
B32: Picking up object | E32: ='QRM - GG Audit (7-15-20)'!E32 -> 88 | F32: ='QRM - GG Audit (7-15-20)'!F32 -> 10 | G32: ='QRM - GG Audit (7-15-20)'!G32 -> 03 | H32: ='QRM - GG Audit (7-15-20)'!H32 -> 0 | I32: ='QRM - GG Audit (7-15-20)'!I32 -> 1 | J32: ='QRM - GG Audit (7-15-20)'!J32 -> No | K32: ='QRM - GG Audit (7-15-20)'!K32 -> 3 | L32: ='QRM - GG Audit (7-15-20)'!L32 -> 0 | ... O32: ='QRM - GG Audit (7-15-20)'!O32 -> 0.058823529 | AB32: Goal Unmet | AE32: =IFERROR(INDEX($AC$8:$AC$18,MATCH(F32,$AB$8:$AB$18,0)),"") -> 1
B33: W/c 50 ft w/ 2 turns | E33: ='QRM - GG Audit (7-15-20)'!E33 -> 09 | F33: ='QRM - GG Audit (7-15-20)'!F33 -> 09 | G33: ='QRM - GG Audit (7-15-20)'!G33 -> 09 | H33: ='QRM - GG Audit (7-15-20)'!H33 -> 0 | I33: ='QRM - GG Audit (7-15-20)'!I33 -> 1 | J33: ='QRM - GG Audit (7-15-20)'!J33 -> No | K33: ='QRM - GG Audit (7-15-20)'!K33 -> 1 | L33: ='QRM - GG Audit (7-15-20)'!L33 -> 0 | ... O33: ='QRM - GG Audit (7-15-20)'!O33 -> 0 | AB33: 1) D/C Score is Less than Goal; or | AE33: =IFERROR(INDEX($AC$8:$AC$18,MATCH(F33,$AB$8:$AB$18,0)),"") -> 1
B34: W/c 150 ft | E34: ='QRM - GG Audit (7-15-20)'!E34 -> 09 | F34: ='QRM - GG Audit (7-15-20)'!F34 -> 09 | G34: ='QRM - GG Audit (7-15-20)'!G34 -> 09 | H34: ='QRM - GG Audit (7-15-20)'!H34 -> 0 | I34: ='QRM - GG Audit (7-15-20)'!I34 -> 1 | J34: ='QRM - GG Audit (7-15-20)'!J34 -> No | K34: ='QRM - GG Audit (7-15-20)'!K34 -> 1 | L34: ='QRM - GG Audit (7-15-20)'!L34 -> 0 | ... O34: ='QRM - GG Audit (7-15-20)'!O34 -> 0 | AB34: 2) D/C Code is Red Option (5 red above) | AE34: =IFERROR(INDEX($AC$8:$AC$18,MATCH(F34,$AB$8:$AB$18,0)),"") -> 1
E35: Mobility Scores | I35: =SUM(I18:I32) -> 49 | J35: =COUNTIF(J18:J34,"Yes") -> 13 | K35: =SUM(K18:L32) -> 43 | M35: =COUNTIF(M18:M34,"Met") -> 8 | N35: =IFERROR(K35-I35,"") -> -6 | O35: =IFERROR(N35/$K$3,"") -> 0.3
E36: % of Total Points | I36: =IFERROR(($I$35/90),"") -> 0.54444444 | K36: =IFERROR(($K$35/90),"") -> 0.47777778 | M36: =IFERROR($M$35/SUM(COUNTIF(M18:M34,"Met")+COUNTIF(M18:M34,"UnMet")),"") -> 0.61538462

Sheet Sheet1

Sheet Sheet2

Sheet Sheet3
A4: Medicare Outcomes Audits
A5: Length of Stay | B5: =IF('QRM - GG Audit (7-15-20)'!N4="","",'QRM - GG Audit (7-15-20)'!N4) -> 34
A6: QRP Discharge Date | B6: =IF('QRM - GG Audit (7-15-20)'!I4="","",'QRM - GG Audit (7-15-20)'!I4) -> 44027
A8: Self Care Outcomes
A9: Self-Care Change in Function | B9: =IF('QRM - GG Audit (7-15-20)'!N15="","",'QRM - GG Audit (7-15-20)'!N15) -> 0
A10: Self-Care Change per day | B10: =IF('QRM - GG Audit (7-15-20)'!O15="","",'QRM - GG Audit (7-15-20)'!O15) -> 0
A11: Self-Care Discharge Performance | B11: =IF('QRM - GG Audit (7-15-20)'!K15="","",'QRM - GG Audit (7-15-20)'!K15) -> 24
A12: Self-Care GG Goals | B12: =IF('QRM - GG Audit (7-15-20)'!J15="","",'QRM - GG Audit (7-15-20)'!J15) -> 7
A13: Self-Care GG Goals Met | B13: =IF('QRM - GG Audit (7-15-20)'!M15="","",'QRM - GG Audit (7-15-20)'!M15) -> 4
A14: Self-Care GG Outcomes % | B14: =IFERROR(B13/B12,"") -> 0.57142857
A16: Mobility Outcomes
A17: Mobility Change in Function | B17: =IF('QRM - GG Audit (7-15-20)'!N35="","",'QRM - GG Audit (7-15-20)'!N35) -> -6
A18: Mobility Change per day | B18: =IF('QRM - GG Audit (7-15-20)'!O35="","",'QRM - GG Audit (7-15-20)'!O35) -> -0.17647059
A19: Mobility Discharge Performance | B19: =IF('QRM - GG Audit (7-15-20)'!K35="","",'QRM - GG Audit (7-15-20)'!K35) -> 43
A20: Mobility GG Goals | B20: =IF('QRM - GG Audit (7-15-20)'!J35="","",'QRM - GG Audit (7-15-20)'!J35) -> 13
A21: Mobility GG Goals Met | B21: =IF('QRM - GG Audit (7-15-20)'!M35="","",'QRM - GG Audit (7-15-20)'!M35) -> 8
A22: Mobility GG Outcomes % | B22: =IFERROR(B21/B20,"") -> 0.61538462
A24: GG Goal Outcomes
A25: Total GG Goals | B25: =IFERROR(SUM(B20,B12),"") -> 20
A26: Total GG Goals Met | B26: =IFERROR(SUM(B21,B13),"") -> 12
A27: Total GG Outcomes % | B27: =IFERROR(B26/B25,"") -> 0.6
A29: Rehab Outcomes % Goals Met
A30: PT
A31: OT
A32: ST
A33: Total
A35: Comments

Sheet CSS-RU
A2: Audit Status | B2: Facility | C2: Patient | D2: Audit Date | E2: Admit Date | F2: Last Cover Day | G2: LOS | H2: PDPM HIPPS | I2: I0020B Primary Reason for SNF Stay: ICD-10 Code, not words | J2: GG Category | K2: GG Sub-Category | L2: GG Item | M2: Admit Code | N2: Goal Code | O2: D/C Code | P2: Admit Score | Q2: Goal Y/N | R2: D/C Score | S2: Goal Met | T2: Change Score | U2: Change per Day | AA2: =IF('QRM - GG Audit'!B2="","",'QRM - GG Audit'!B2) -> Facility: | AB2: =IF('QRM - GG Audit'!C2="","",'QRM - GG Audit'!C2) -> Example Facility | AC2: ='QRM - GG Audit'!D2 -> 0 | AD2: ='QRM - GG Audit'!E2 -> 0 | AE2: ='QRM - GG Audit'!F2 -> 0 | AF2: ='QRM - GG Audit'!G2 -> 0 | AG2: =IF('QRM - GG Audit'!H2="","",'QRM - GG Audit'!H2) | AH2: ='QRM - GG Audit'!I2 -> Admit Date: | AI2: ='QRM - GG Audit'!J2 -> 0 | AJ2: =IF('QRM - GG Audit'!K2="","",'QRM - GG Audit'!K2) -> 44048 | AK2: ='QRM - GG Audit'!L2 -> 0 | AL2: ='QRM - GG Audit'!M2 -> Last Cover Day: | AM2: ='QRM - GG Audit'!N2 -> 0 | AN2: =IF('QRM - GG Audit'!O2="","",'QRM - GG Audit'!O2) -> 44027
A3: {=IF(OR('QRM - GG Audit'!$C$1:$G$1="",'QRM - GG Audit'!$K$1="",'QRM - GG Audit'!$O$1="",'QRM - GG Audit'!$C$2:$G$2="",'QRM - GG Audit'!$O$2="",'QRM - GG Audit'!$C$3:$G$3="",'QRM - GG Audit'!$N$3:$O$3=""),"Incomplete","Complete")} -> Incomplete | B3: =IF('QRM - GG Audit'!$C$2="","",'QRM - GG Audit'!$C$2) -> Example Facility | C3: =IF('QRM - GG Audit'!$C$3="","",'QRM - GG Audit'!$C$3) -> Case Study | D3: =IF('QRM - GG Audit'!$C$4="","",'QRM - GG Audit'!$C$4) -> 43994 | E3: =IF('QRM - GG Audit'!$K$2="","",'QRM - GG Audit'!$K$2) -> 44048 | F3: =IF('QRM - GG Audit'!$O$2="","",'QRM - GG Audit'!$O$2) -> 44027 | G3: =IF('QRM - GG Audit'!$K$3="","",'QRM - GG Audit'!$K$3) -> -20 | H3: =IF('QRM - GG Audit'!$K$2="","",'QRM - GG Audit'!$K$2) -> 44048 | I3: ='QRM - GG Audit'!$N$4 -> 22310 | J3: Self-Care | K3: Self-Care Items | L3: Eating | M3: ='QRM - GG Audit'!E8 -> 05 | N3: ='QRM - GG Audit'!F8 -> 06 | O3: ='QRM - GG Audit'!G8 -> 05 | P3: ='QRM - GG Audit'!I8 -> 5 | Q3: ='QRM - GG Audit'!J8 -> Yes | R3: ='QRM - GG Audit'!K8 -> 5 | S3: ='QRM - GG Audit'!M8 -> UnMet | T3: ='QRM - GG Audit'!N8 -> 0 | U3: ='QRM - GG Audit'!O8 -> 0 | AA3: =IF('QRM - GG Audit'!B3="","",'QRM - GG Audit'!B3) -> Patient: | AB3: =IF('QRM - GG Audit'!C3="","",'QRM - GG Audit'!C3) -> Case Study | AC3: ='QRM - GG Audit'!D3 -> 0 | AD3: ='QRM - GG Audit'!E3 -> 0 | AE3: ='QRM - GG Audit'!F3 -> 0 | AF3: ='QRM - GG Audit'!G3 -> 0 | AH3: ='QRM - GG Audit'!I3 -> LOS: | AI3: ='QRM - GG Audit'!J3 -> 0 | AJ3: =IF('QRM - GG Audit'!K3="","",'QRM - GG Audit'!K3) -> -20 | AK3: ='QRM - GG Audit'!L3 -> 0 | AL3: ='QRM - GG Audit'!M3 -> PDPM HIPPS: | AM3: ='QRM - GG Audit'!N3 -> 0 | AN3: =IF('QRM - GG Audit'!O3="","",'QRM - GG Audit'!O3) -> ='QRM - GG Audit (3)'!N3
A4: {=IF(OR('QRM - GG Audit'!$C$1:$G$1="",'QRM - GG Audit'!$K$1="",'QRM - GG Audit'!$O$1="",'QRM - GG Audit'!$C$2:$G$2="",'QRM - GG Audit'!$O$2="",'QRM - GG Audit'!$C$3:$G$3="",'QRM - GG Audit'!$N$3:$O$3=""),"Incomplete","Complete")} -> Incomplete | B4: =IF('QRM - GG Audit'!$C$2="","",'QRM - GG Audit'!$C$2) -> Example Facility | C4: =IF('QRM - GG Audit'!$C$3="","",'QRM - GG Audit'!$C$3) -> Case Study | D4: =IF('QRM - GG Audit'!$C$4="","",'QRM - GG Audit'!$C$4) -> 43994 | E4: =IF('QRM - GG Audit'!$K$2="","",'QRM - GG Audit'!$K$2) -> 44048 | F4: =IF('QRM - GG Audit'!$O$2="","",'QRM - GG Audit'!$O$2) -> 44027 | G4: =IF('QRM - GG Audit'!$K$3="","",'QRM - GG Audit'!$K$3) -> -20 | H4: =IF('QRM - GG Audit'!$K$2="","",'QRM - GG Audit'!$K$2) -> 44048 | I4: ='QRM - GG Audit'!$N$4 -> 22310 | J4: Self-Care | K4: Self-Care Items | L4: Oral Hygiene | M4: ='QRM - GG Audit'!E9 -> 05 | N4: ='QRM - GG Audit'!F9 -> 06 | O4: ='QRM - GG Audit'!G9 -> 04 | P4: ='QRM - GG Audit'!I9 -> 5 | Q4: ='QRM - GG Audit'!J9 -> Yes | R4: ='QRM - GG Audit'!K9 -> 4 | S4: ='QRM - GG Audit'!M9 -> UnMet | T4: ='QRM - GG Audit'!N9 -> -1 | U4: ='QRM - GG Audit'!O9 -> -0.029411765 | AA4: =IF('QRM - GG Audit'!B4="","",'QRM - GG Audit'!B4) -> Audit Date: | AB4: =IF('QRM - GG Audit'!C4="","",'QRM - GG Audit'!C4) -> 43994 | AC4: ='QRM - GG Audit'!D4 -> 0 | AD4: ='QRM - GG Audit'!E4 -> 0 | AE4: ='QRM - GG Audit'!F4 -> 0 | AF4: ='QRM - GG Audit'!G4 -> 0 | AH4: ='QRM - GG Audit'!I4 -> QRM ID # | AI4: ='QRM - GG Audit'!J4 -> 0 | AJ4: ='QRM - GG Audit'!K4 -> 0 | AK4: ='QRM - GG Audit'!L4 -> 0 | AL4: ='QRM - GG Audit'!M4 -> 0 | AM4: =IF('QRM - GG Audit'!N4="","",'QRM - GG Audit'!N4) | AN4: ='QRM - GG Audit'!O4 -> 0
A5: {=IF(OR('QRM - GG Audit'!$C$1:$G$1="",'QRM - GG Audit'!$K$1="",'QRM - GG Audit'!$O$1="",'QRM - GG Audit'!$C$2:$G$2="",'QRM - GG Audit'!$O$2="",'QRM - GG Audit'!$C$3:$G$3="",'QRM - GG Audit'!$N$3:$O$3=""),"Incomplete","Complete")} -> Incomplete | B5: =IF('QRM - GG Audit'!$C$2="","",'QRM - GG Audit'!$C$2) -> Example Facility | C5: =IF('QRM - GG Audit'!$C$3="","",'QRM - GG Audit'!$C$3) -> Case Study | D5: =IF('QRM - GG Audit'!$C$4="","",'QRM - GG Audit'!$C$4) -> 43994 | E5: =IF('QRM - GG Audit'!$K$2="","",'QRM - GG Audit'!$K$2) -> 44048 | F5: =IF('QRM - GG Audit'!$O$2="","",'QRM - GG Audit'!$O$2) -> 44027 | G5: =IF('QRM - GG Audit'!$K$3="","",'QRM - GG Audit'!$K$3) -> -20 | H5: =IF('QRM - GG Audit'!$K$2="","",'QRM - GG Audit'!$K$2) -> 44048 | I5: ='QRM - GG Audit'!$N$4 -> 22310 | J5: Self-Care | K5: Self-Care Items | L5: Toilet Hygiene | M5: ='QRM - GG Audit'!E10 -> 03 | N5: ='QRM - GG Audit'!F10 -> 06 | O5: ='QRM - GG Audit'!G10 -> 03 | P5: ='QRM - GG Audit'!I10 -> 3 | Q5: ='QRM - GG Audit'!J10 -> Yes | R5: ='QRM - GG Audit'!K10 -> 3 | S5: ='QRM - GG Audit'!M10 -> UnMet | T5: ='QRM - GG Audit'!N10 -> 0 | U5: ='QRM - GG Audit'!O10 -> 0 | AA5: =IF('QRM - GG Audit'!B5="","",'QRM - GG Audit'!B5)
A6: {=IF(OR('QRM - GG Audit'!$C$1:$G$1="",'QRM - GG Audit'!$K$1="",'QRM - GG Audit'!$O$1="",'QRM - GG Audit'!$C$2:$G$2="",'QRM - GG Audit'!$O$2="",'QRM - GG Audit'!$C$3:$G$3="",'QRM - GG Audit'!$N$3:$O$3=""),"Incomplete","Complete")} -> Incomplete | B6: =IF('QRM - GG Audit'!$C$2="","",'QRM - GG Audit'!$C$2) -> Example Facility | C6: =IF('QRM - GG Audit'!$C$3="","",'QRM - GG Audit'!$C$3) -> Case Study | D6: =IF('QRM - GG Audit'!$C$4="","",'QRM - GG Audit'!$C$4) -> 43994 | E6: =IF('QRM - GG Audit'!$K$2="","",'QRM - GG Audit'!$K$2) -> 44048 | F6: =IF('QRM - GG Audit'!$O$2="","",'QRM - GG Audit'!$O$2) -> 44027 | G6: =IF('QRM - GG Audit'!$K$3="","",'QRM - GG Audit'!$K$3) -> -20 | H6: =IF('QRM - GG Audit'!$K$2="","",'QRM - GG Audit'!$K$2) -> 44048 | I6: ='QRM - GG Audit'!$N$4 -> 22310 | J6: Self-Care | K6: Self-Care Items | L6: Shower/bathe self | M6: ='QRM - GG Audit'!E11 -> 03 | N6: ='QRM - GG Audit'!F11 -> 03 | O6: ='QRM - GG Audit'!G11 -> 03 | P6: ='QRM - GG Audit'!I11 -> 3 | Q6: ='QRM - GG Audit'!J11 -> Yes | R6: ='QRM - GG Audit'!K11 -> 3 | S6: ='QRM - GG Audit'!M11 -> Met | T6: ='QRM - GG Audit'!N11 -> 0 | U6: ='QRM - GG Audit'!O11 -> 0 | AD6: ='QRM - GG Audit'!E6 -> Admit Code | AE6: ='QRM - GG Audit'!F6 -> Goal Code | AF6: ='QRM - GG Audit'!G6 -> D/C Code | AH6: ='QRM - GG Audit'!I6 -> Admit Score | AI6: ='QRM - GG Audit'!J6 -> Goal Y/N | AJ6: ='QRM - GG Audit'!K6 -> D/C Score | AL6: ='QRM - GG Audit'!M6 -> Goal Met | AM6: ='QRM - GG Audit'!N6 -> Change Score | AN6: ='QRM - GG Audit'!O6 -> Change per Day
A7: {=IF(OR('QRM - GG Audit'!$C$1:$G$1="",'QRM - GG Audit'!$K$1="",'QRM - GG Audit'!$O$1="",'QRM - GG Audit'!$C$2:$G$2="",'QRM - GG Audit'!$O$2="",'QRM - GG Audit'!$C$3:$G$3="",'QRM - GG Audit'!$N$3:$O$3=""),"Incomplete","Complete")} -> Incomplete | B7: =IF('QRM - GG Audit'!$C$2="","",'QRM - GG Audit'!$C$2) -> Example Facility | C7: =IF('QRM - GG Audit'!$C$3="","",'QRM - GG Audit'!$C$3) -> Case Study | D7: =IF('QRM - GG Audit'!$C$4="","",'QRM - GG Audit'!$C$4) -> 43994 | E7: =IF('QRM - GG Audit'!$K$2="","",'QRM - GG Audit'!$K$2) -> 44048 | F7: =IF('QRM - GG Audit'!$O$2="","",'QRM - GG Audit'!$O$2) -> 44027 | G7: =IF('QRM - GG Audit'!$K$3="","",'QRM - GG Audit'!$K$3) -> -20 | H7: =IF('QRM - GG Audit'!$K$2="","",'QRM - GG Audit'!$K$2) -> 44048 | I7: ='QRM - GG Audit'!$N$4 -> 22310 | J7: Self-Care | K7: Self-Care Items | L7: UBD | M7: ='QRM - GG Audit'!E12 -> 03 | N7: ='QRM - GG Audit'!F12 -> 03 | O7: ='QRM - GG Audit'!G12 -> 03 | P7: ='QRM - GG Audit'!I12 -> 3 | Q7: ='QRM - GG Audit'!J12 -> Yes | R7: ='QRM - GG Audit'!K12 -> 3 | S7: ='QRM - GG Audit'!M12 -> Met | T7: ='QRM - GG Audit'!N12 -> 0 | U7: ='QRM - GG Audit'!O12 -> 0 | AA7: ='QRM - GG Audit'!B7 -> GG Self-Care Items | AB7: ='QRM - GG Audit'!C7 -> 0
A8: {=IF(OR('QRM - GG Audit'!$C$1:$G$1="",'QRM - GG Audit'!$K$1="",'QRM - GG Audit'!$O$1="",'QRM - GG Audit'!$C$2:$G$2="",'QRM - GG Audit'!$O$2="",'QRM - GG Audit'!$C$3:$G$3="",'QRM - GG Audit'!$N$3:$O$3=""),"Incomplete","Complete")} -> Incomplete | B8: =IF('QRM - GG Audit'!$C$2="","",'QRM - GG Audit'!$C$2) -> Example Facility | C8: =IF('QRM - GG Audit'!$C$3="","",'QRM - GG Audit'!$C$3) -> Case Study | D8: =IF('QRM - GG Audit'!$C$4="","",'QRM - GG Audit'!$C$4) -> 43994 | E8: =IF('QRM - GG Audit'!$K$2="","",'QRM - GG Audit'!$K$2) -> 44048 | F8: =IF('QRM - GG Audit'!$O$2="","",'QRM - GG Audit'!$O$2) -> 44027 | G8: =IF('QRM - GG Audit'!$K$3="","",'QRM - GG Audit'!$K$3) -> -20 | H8: =IF('QRM - GG Audit'!$K$2="","",'QRM - GG Audit'!$K$2) -> 44048 | I8: ='QRM - GG Audit'!$N$4 -> 22310 | J8: Self-Care | K8: Self-Care Items | L8: LBD | M8: ='QRM - GG Audit'!E13 -> 02 | N8: ='QRM - GG Audit'!F13 -> 03 | O8: ='QRM - GG Audit'!G13 -> 03 | P8: ='QRM - GG Audit'!I13 -> 2 | Q8: ='QRM - GG Audit'!J13 -> Yes | R8: ='QRM - GG Audit'!K13 -> 3 | S8: ='QRM - GG Audit'!M13 -> Met | T8: ='QRM - GG Audit'!N13 -> 1 | U8: ='QRM - GG Audit'!O13 -> 0.029411765 | AA8: ='QRM - GG Audit'!B8 -> Eating | AB8: ='QRM - GG Audit'!C8 -> 0 | AD8: ='QRM - GG Audit'!E8 -> 05 | AE8: ='QRM - GG Audit'!F8 -> 06 | AF8: ='QRM - GG Audit'!G8 -> 05 | AH8: ='QRM - GG Audit'!I8 -> 5 | AI8: ='QRM - GG Audit'!J8 -> Yes | AJ8: ='QRM - GG Audit'!K8 -> 5 | AL8: ='QRM - GG Audit'!M8 -> UnMet | AM8: ='QRM - GG Audit'!N8 -> 0 | AN8: ='QRM - GG Audit'!O8 -> 0
A9: {=IF(OR('QRM - GG Audit'!$C$1:$G$1="",'QRM - GG Audit'!$K$1="",'QRM - GG Audit'!$O$1="",'QRM - GG Audit'!$C$2:$G$2="",'QRM - GG Audit'!$O$2="",'QRM - GG Audit'!$C$3:$G$3="",'QRM - GG Audit'!$N$3:$O$3=""),"Incomplete","Complete")} -> Incomplete | B9: =IF('QRM - GG Audit'!$C$2="","",'QRM - GG Audit'!$C$2) -> Example Facility | C9: =IF('QRM - GG Audit'!$C$3="","",'QRM - GG Audit'!$C$3) -> Case Study | D9: =IF('QRM - GG Audit'!$C$4="","",'QRM - GG Audit'!$C$4) -> 43994 | E9: =IF('QRM - GG Audit'!$K$2="","",'QRM - GG Audit'!$K$2) -> 44048 | F9: =IF('QRM - GG Audit'!$O$2="","",'QRM - GG Audit'!$O$2) -> 44027 | G9: =IF('QRM - GG Audit'!$K$3="","",'QRM - GG Audit'!$K$3) -> -20 | H9: =IF('QRM - GG Audit'!$K$2="","",'QRM - GG Audit'!$K$2) -> 44048 | I9: ='QRM - GG Audit'!$N$4 -> 22310 | J9: Self-Care | K9: Self-Care Items | L9: Don/doff footwear | M9: ='QRM - GG Audit'!E14 -> 03 | N9: ='QRM - GG Audit'!F14 -> 03 | O9: ='QRM - GG Audit'!G14 -> 03 | P9: ='QRM - GG Audit'!I14 -> 3 | Q9: ='QRM - GG Audit'!J14 -> Yes | R9: ='QRM - GG Audit'!K14 -> 3 | S9: ='QRM - GG Audit'!M14 -> Met | T9: ='QRM - GG Audit'!N14 -> 0 | U9: ='QRM - GG Audit'!O14 -> 0 | AA9: ='QRM - GG Audit'!B9 -> Oral Hygiene | AB9: ='QRM - GG Audit'!C9 -> 0 | AD9: ='QRM - GG Audit'!E9 -> 05 | AE9: ='QRM - GG Audit'!F9 -> 06 | AF9: ='QRM - GG Audit'!G9 -> 04 | AH9: ='QRM - GG Audit'!I9 -> 5 | AI9: ='QRM - GG Audit'!J9 -> Yes | AJ9: ='QRM - GG Audit'!K9 -> 4 | AL9: ='QRM - GG Audit'!M9 -> UnMet | AM9: ='QRM - GG Audit'!N9 -> -1 | AN9: ='QRM - GG Audit'!O9 -> -0.029411765
A10: {=IF(OR('QRM - GG Audit'!$C$1:$G$1="",'QRM - GG Audit'!$K$1="",'QRM - GG Audit'!$O$1="",'QRM - GG Audit'!$C$2:$G$2="",'QRM - GG Audit'!$O$2="",'QRM - GG Audit'!$C$3:$G$3="",'QRM - GG Audit'!$N$3:$O$3=""),"Incomplete","Complete")} -> Incomplete | B10: =IF('QRM - GG Audit'!$C$2="","",'QRM - GG Audit'!$C$2) -> Example Facility | C10: =IF('QRM - GG Audit'!$C$3="","",'QRM - GG Audit'!$C$3) -> Case Study | D10: =IF('QRM - GG Audit'!$C$4="","",'QRM - GG Audit'!$C$4) -> 43994 | E10: =IF('QRM - GG Audit'!$K$2="","",'QRM - GG Audit'!$K$2) -> 44048 | F10: =IF('QRM - GG Audit'!$O$2="","",'QRM - GG Audit'!$O$2) -> 44027 | G10: =IF('QRM - GG Audit'!$K$3="","",'QRM - GG Audit'!$K$3) -> -20 | H10: =IF('QRM - GG Audit'!$K$2="","",'QRM - GG Audit'!$K$2) -> 44048 | I10: ='QRM - GG Audit'!$N$4 -> 22310 | J10: Mobility | K10: Mobility Items | L10: Roll L/R | M10: ='QRM - GG Audit'!E18 -> 04 | N10: ='QRM - GG Audit'!F18 -> 04 | O10: ='QRM - GG Audit'!G18 -> 04 | P10: ='QRM - GG Audit'!I18 -> 4 | Q10: ='QRM - GG Audit'!J18 -> Yes | R10: ='QRM - GG Audit'!K18 -> 4 | S10: ='QRM - GG Audit'!M18 -> Met | T10: ='QRM - GG Audit'!N18 -> 0 | U10: ='QRM - GG Audit'!O18 -> 0 | AA10: ='QRM - GG Audit'!B10 -> Toilet Hygiene | AB10: ='QRM - GG Audit'!C10 -> 0 | AD10: ='QRM - GG Audit'!E10 -> 03 | AE10: ='QRM - GG Audit'!F10 -> 06 | AF10: ='QRM - GG Audit'!G10 -> 03 | AH10: ='QRM - GG Audit'!I10 -> 3 | AI10: ='QRM - GG Audit'!J10 -> Yes | AJ10: ='QRM - GG Audit'!K10 -> 3 | AL10: ='QRM - GG Audit'!M10 -> UnMet | AM10: ='QRM - GG Audit'!N10 -> 0 | AN10: ='QRM - GG Audit'!O10 -> 0
A11: {=IF(OR('QRM - GG Audit'!$C$1:$G$1="",'QRM - GG Audit'!$K$1="",'QRM - GG Audit'!$O$1="",'QRM - GG Audit'!$C$2:$G$2="",'QRM - GG Audit'!$O$2="",'QRM - GG Audit'!$C$3:$G$3="",'QRM - GG Audit'!$N$3:$O$3=""),"Incomplete","Complete")} -> Incomplete | B11: =IF('QRM - GG Audit'!$C$2="","",'QRM - GG Audit'!$C$2) -> Example Facility | C11: =IF('QRM - GG Audit'!$C$3="","",'QRM - GG Audit'!$C$3) -> Case Study | D11: =IF('QRM - GG Audit'!$C$4="","",'QRM - GG Audit'!$C$4) -> 43994 | E11: =IF('QRM - GG Audit'!$K$2="","",'QRM - GG Audit'!$K$2) -> 44048 | F11: =IF('QRM - GG Audit'!$O$2="","",'QRM - GG Audit'!$O$2) -> 44027 | G11: =IF('QRM - GG Audit'!$K$3="","",'QRM - GG Audit'!$K$3) -> -20 | H11: =IF('QRM - GG Audit'!$K$2="","",'QRM - GG Audit'!$K$2) -> 44048 | I11: ='QRM - GG Audit'!$N$4 -> 22310 | J11: Mobility | K11: Mobility Items | L11: Sit to Lying | M11: ='QRM - GG Audit'!E19 -> 05 | N11: ='QRM - GG Audit'!F19 -> 06 | O11: ='QRM - GG Audit'!G19 -> 04 | P11: ='QRM - GG Audit'!I19 -> 5 | Q11: ='QRM - GG Audit'!J19 -> Yes | R11: ='QRM - GG Audit'!K19 -> 4 | S11: ='QRM - GG Audit'!M19 -> UnMet | T11: ='QRM - GG Audit'!N19 -> -1 | U11: ='QRM - GG Audit'!O19 -> -0.029411765 | AA11: ='QRM - GG Audit'!B11 -> Shower/bathe self | AB11: ='QRM - GG Audit'!C11 -> 0 | AD11: ='QRM - GG Audit'!E11 -> 03 | AE11: ='QRM - GG Audit'!F11 -> 03 | AF11: ='QRM - GG Audit'!G11 -> 03 | AH11: ='QRM - GG Audit'!I11 -> 3 | AI11: ='QRM - GG Audit'!J11 -> Yes | AJ11: ='QRM - GG Audit'!K11 -> 3 | AL11: ='QRM - GG Audit'!M11 -> Met | AM11: ='QRM - GG Audit'!N11 -> 0 | AN11: ='QRM - GG Audit'!O11 -> 0
A12: {=IF(OR('QRM - GG Audit'!$C$1:$G$1="",'QRM - GG Audit'!$K$1="",'QRM - GG Audit'!$O$1="",'QRM - GG Audit'!$C$2:$G$2="",'QRM - GG Audit'!$O$2="",'QRM - GG Audit'!$C$3:$G$3="",'QRM - GG Audit'!$N$3:$O$3=""),"Incomplete","Complete")} -> Incomplete | B12: =IF('QRM - GG Audit'!$C$2="","",'QRM - GG Audit'!$C$2) -> Example Facility | C12: =IF('QRM - GG Audit'!$C$3="","",'QRM - GG Audit'!$C$3) -> Case Study | D12: =IF('QRM - GG Audit'!$C$4="","",'QRM - GG Audit'!$C$4) -> 43994 | E12: =IF('QRM - GG Audit'!$K$2="","",'QRM - GG Audit'!$K$2) -> 44048 | F12: =IF('QRM - GG Audit'!$O$2="","",'QRM - GG Audit'!$O$2) -> 44027 | G12: =IF('QRM - GG Audit'!$K$3="","",'QRM - GG Audit'!$K$3) -> -20 | H12: =IF('QRM - GG Audit'!$K$2="","",'QRM - GG Audit'!$K$2) -> 44048 | I12: ='QRM - GG Audit'!$N$4 -> 22310 | J12: Mobility | K12: Mobility Items | L12: Lying to Sit | M12: ='QRM - GG Audit'!E20 -> 04 | N12: ='QRM - GG Audit'!F20 -> 04 | O12: ='QRM - GG Audit'!G20 -> 04 | P12: ='QRM - GG Audit'!I20 -> 4 | Q12: ='QRM - GG Audit'!J20 -> Yes | R12: ='QRM - GG Audit'!K20 -> 4 | S12: ='QRM - GG Audit'!M20 -> Met | T12: ='QRM - GG Audit'!N20 -> 0 | U12: ='QRM - GG Audit'!O20 -> 0 | AA12: ='QRM - GG Audit'!B12 -> UBD | AB12: ='QRM - GG Audit'!C12 -> 0 | AD12: ='QRM - GG Audit'!E12 -> 03 | AE12: ='QRM - GG Audit'!F12 -> 03 | AF12: ='QRM - GG Audit'!G12 -> 03 | AH12: ='QRM - GG Audit'!I12 -> 3 | AI12: ='QRM - GG Audit'!J12 -> Yes | AJ12: ='QRM - GG Audit'!K12 -> 3 | AL12: ='QRM - GG Audit'!M12 -> Met | AM12: ='QRM - GG Audit'!N12 -> 0 | AN12: ='QRM - GG Audit'!O12 -> 0
A13: {=IF(OR('QRM - GG Audit'!$C$1:$G$1="",'QRM - GG Audit'!$K$1="",'QRM - GG Audit'!$O$1="",'QRM - GG Audit'!$C$2:$G$2="",'QRM - GG Audit'!$O$2="",'QRM - GG Audit'!$C$3:$G$3="",'QRM - GG Audit'!$N$3:$O$3=""),"Incomplete","Complete")} -> Incomplete | B13: =IF('QRM - GG Audit'!$C$2="","",'QRM - GG Audit'!$C$2) -> Example Facility | C13: =IF('QRM - GG Audit'!$C$3="","",'QRM - GG Audit'!$C$3) -> Case Study | D13: =IF('QRM - GG Audit'!$C$4="","",'QRM - GG Audit'!$C$4) -> 43994 | E13: =IF('QRM - GG Audit'!$K$2="","",'QRM - GG Audit'!$K$2) -> 44048 | F13: =IF('QRM - GG Audit'!$O$2="","",'QRM - GG Audit'!$O$2) -> 44027 | G13: =IF('QRM - GG Audit'!$K$3="","",'QRM - GG Audit'!$K$3) -> -20 | H13: =IF('QRM - GG Audit'!$K$2="","",'QRM - GG Audit'!$K$2) -> 44048 | I13: ='QRM - GG Audit'!$N$4 -> 22310 | J13: Mobility | K13: Mobility Items | L13: Sit to Stand | M13: ='QRM - GG Audit'!E21 -> 04 | N13: ='QRM - GG Audit'!F21 -> 04 | O13: ='QRM - GG Audit'!G21 -> 04 | P13: ='QRM - GG Audit'!I21 -> 4 | Q13: ='QRM - GG Audit'!J21 -> Yes | R13: ='QRM - GG Audit'!K21 -> 4 | S13: ='QRM - GG Audit'!M21 -> Met | T13: ='QRM - GG Audit'!N21 -> 0 | U13: ='QRM - GG Audit'!O21 -> 0 | AA13: ='QRM - GG Audit'!B13 -> LBD | AB13: ='QRM - GG Audit'!C13 -> 0 | AD13: ='QRM - GG Audit'!E13 -> 02 | AE13: ='QRM - GG Audit'!F13 -> 03 | AF13: ='QRM - GG Audit'!G13 -> 03 | AH13: ='QRM - GG Audit'!I13 -> 2 | AI13: ='QRM - GG Audit'!J13 -> Yes | AJ13: ='QRM - GG Audit'!K13 -> 3 | AL13: ='QRM - GG Audit'!M13 -> Met | AM13: ='QRM - GG Audit'!N13 -> 1 | AN13: ='QRM - GG Audit'!O13 -> 0.029411765
A14: {=IF(OR('QRM - GG Audit'!$C$1:$G$1="",'QRM - GG Audit'!$K$1="",'QRM - GG Audit'!$O$1="",'QRM - GG Audit'!$C$2:$G$2="",'QRM - GG Audit'!$O$2="",'QRM - GG Audit'!$C$3:$G$3="",'QRM - GG Audit'!$N$3:$O$3=""),"Incomplete","Complete")} -> Incomplete | B14: =IF('QRM - GG Audit'!$C$2="","",'QRM - GG Audit'!$C$2) -> Example Facility | C14: =IF('QRM - GG Audit'!$C$3="","",'QRM - GG Audit'!$C$3) -> Case Study | D14: =IF('QRM - GG Audit'!$C$4="","",'QRM - GG Audit'!$C$4) -> 43994 | E14: =IF('QRM - GG Audit'!$K$2="","",'QRM - GG Audit'!$K$2) -> 44048 | F14: =IF('QRM - GG Audit'!$O$2="","",'QRM - GG Audit'!$O$2) -> 44027 | G14: =IF('QRM - GG Audit'!$K$3="","",'QRM - GG Audit'!$K$3) -> -20 | H14: =IF('QRM - GG Audit'!$K$2="","",'QRM - GG Audit'!$K$2) -> 44048 | I14: ='QRM - GG Audit'!$N$4 -> 22310 | J14: Mobility | K14: Mobility Items | L14: Bed to Chair T/f | M14: ='QRM - GG Audit'!E22 -> 04 | N14: ='QRM - GG Audit'!F22 -> 04 | O14: ='QRM - GG Audit'!G22 -> 04 | P14: ='QRM - GG Audit'!I22 -> 4 | Q14: ='QRM - GG Audit'!J22 -> Yes | R14: ='QRM - GG Audit'!K22 -> 4 | S14: ='QRM - GG Audit'!M22 -> Met | T14: ='QRM - GG Audit'!N22 -> 0 | U14: ='QRM - GG Audit'!O22 -> 0 | AA14: ='QRM - GG Audit'!B14 -> Don/doff footwear | AB14: ='QRM - GG Audit'!C14 -> 0 | AD14: ='QRM - GG Audit'!E14 -> 03 | AE14: ='QRM - GG Audit'!F14 -> 03 | AF14: ='QRM - GG Audit'!G14 -> 03 | AH14: ='QRM - GG Audit'!I14 -> 3 | AI14: ='QRM - GG Audit'!J14 -> Yes | AJ14: ='QRM - GG Audit'!K14 -> 3 | AL14: ='QRM - GG Audit'!M14 -> Met | AM14: ='QRM - GG Audit'!N14 -> 0 | AN14: ='QRM - GG Audit'!O14 -> 0
A15: {=IF(OR('QRM - GG Audit'!$C$1:$G$1="",'QRM - GG Audit'!$K$1="",'QRM - GG Audit'!$O$1="",'QRM - GG Audit'!$C$2:$G$2="",'QRM - GG Audit'!$O$2="",'QRM - GG Audit'!$C$3:$G$3="",'QRM - GG Audit'!$N$3:$O$3=""),"Incomplete","Complete")} -> Incomplete | B15: =IF('QRM - GG Audit'!$C$2="","",'QRM - GG Audit'!$C$2) -> Example Facility | C15: =IF('QRM - GG Audit'!$C$3="","",'QRM - GG Audit'!$C$3) -> Case Study | D15: =IF('QRM - GG Audit'!$C$4="","",'QRM - GG Audit'!$C$4) -> 43994 | E15: =IF('QRM - GG Audit'!$K$2="","",'QRM - GG Audit'!$K$2) -> 44048 | F15: =IF('QRM - GG Audit'!$O$2="","",'QRM - GG Audit'!$O$2) -> 44027 | G15: =IF('QRM - GG Audit'!$K$3="","",'QRM - GG Audit'!$K$3) -> -20 | H15: =IF('QRM - GG Audit'!$K$2="","",'QRM - GG Audit'!$K$2) -> 44048 | I15: ='QRM - GG Audit'!$N$4 -> 22310 | J15: Mobility | K15: Mobility Items | L15: Toilet T/f | M15: ='QRM - GG Audit'!E23 -> 03 | N15: ='QRM - GG Audit'!F23 -> 03 | O15: ='QRM - GG Audit'!G23 -> 03 | P15: ='QRM - GG Audit'!I23 -> 3 | Q15: ='QRM - GG Audit'!J23 -> Yes | R15: ='QRM - GG Audit'!K23 -> 3 | S15: ='QRM - GG Audit'!M23 -> Met | T15: ='QRM - GG Audit'!N23 -> 0 | U15: ='QRM - GG Audit'!O23 -> 0 | AD15: ='QRM - GG Audit'!E15 -> Self-Care Scores | AE15: ='QRM - GG Audit'!F15 -> 0 | AF15: ='QRM - GG Audit'!G15 -> 0 | AH15: ='QRM - GG Audit'!I15 -> 24 | AI15: ='QRM - GG Audit'!J15 -> 7 | AJ15: ='QRM - GG Audit'!K15 -> 24 | AL15: ='QRM - GG Audit'!M15 -> 4 | AM15: ='QRM - GG Audit'!N15 -> 0 | AN15: ='QRM - GG Audit'!O15 -> 0
A16: {=IF(OR('QRM - GG Audit'!$C$1:$G$1="",'QRM - GG Audit'!$K$1="",'QRM - GG Audit'!$O$1="",'QRM - GG Audit'!$C$2:$G$2="",'QRM - GG Audit'!$O$2="",'QRM - GG Audit'!$C$3:$G$3="",'QRM - GG Audit'!$N$3:$O$3=""),"Incomplete","Complete")} -> Incomplete | B16: =IF('QRM - GG Audit'!$C$2="","",'QRM - GG Audit'!$C$2) -> Example Facility | C16: =IF('QRM - GG Audit'!$C$3="","",'QRM - GG Audit'!$C$3) -> Case Study | D16: =IF('QRM - GG Audit'!$C$4="","",'QRM - GG Audit'!$C$4) -> 43994 | E16: =IF('QRM - GG Audit'!$K$2="","",'QRM - GG Audit'!$K$2) -> 44048 | F16: =IF('QRM - GG Audit'!$O$2="","",'QRM - GG Audit'!$O$2) -> 44027 | G16: =IF('QRM - GG Audit'!$K$3="","",'QRM - GG Audit'!$K$3) -> -20 | H16: =IF('QRM - GG Audit'!$K$2="","",'QRM - GG Audit'!$K$2) -> 44048 | I16: ='QRM - GG Audit'!$N$4 -> 22310 | J16: Mobility | K16: Mobility Items | L16: Car T/f | M16: ='QRM - GG Audit'!E24 -> 10 | N16: ='QRM - GG Audit'!F24 -> 10 | O16: ='QRM - GG Audit'!G24 -> 09 | P16: ='QRM - GG Audit'!I24 -> 1 | Q16: ='QRM - GG Audit'!J24 -> No | R16: ='QRM - GG Audit'!K24 -> 1 | S16: ='QRM - GG Audit'!M24 | T16: ='QRM - GG Audit'!N24 -> 0 | U16: ='QRM - GG Audit'!O24 -> 0 | AD16: ='QRM - GG Audit'!E16 -> % of Total Points | AE16: ='QRM - GG Audit'!F16 -> 0 | AF16: ='QRM - GG Audit'!G16 -> 0 | AH16: ='QRM - GG Audit'!I16 -> 0.57142857 | AJ16: ='QRM - GG Audit'!K16 -> 0.57142857 | AL16: ='QRM - GG Audit'!M16 -> 0.57142857
A17: {=IF(OR('QRM - GG Audit'!$C$1:$G$1="",'QRM - GG Audit'!$K$1="",'QRM - GG Audit'!$O$1="",'QRM - GG Audit'!$C$2:$G$2="",'QRM - GG Audit'!$O$2="",'QRM - GG Audit'!$C$3:$G$3="",'QRM - GG Audit'!$N$3:$O$3=""),"Incomplete","Complete")} -> Incomplete | B17: =IF('QRM - GG Audit'!$C$2="","",'QRM - GG Audit'!$C$2) -> Example Facility | C17: =IF('QRM - GG Audit'!$C$3="","",'QRM - GG Audit'!$C$3) -> Case Study | D17: =IF('QRM - GG Audit'!$C$4="","",'QRM - GG Audit'!$C$4) -> 43994 | E17: =IF('QRM - GG Audit'!$K$2="","",'QRM - GG Audit'!$K$2) -> 44048 | F17: =IF('QRM - GG Audit'!$O$2="","",'QRM - GG Audit'!$O$2) -> 44027 | G17: =IF('QRM - GG Audit'!$K$3="","",'QRM - GG Audit'!$K$3) -> -20 | H17: =IF('QRM - GG Audit'!$K$2="","",'QRM - GG Audit'!$K$2) -> 44048 | I17: ='QRM - GG Audit'!$N$4 -> 22310 | J17: Mobility | K17: Mobility Items | L17: Walk 10 ft | M17: ='QRM - GG Audit'!E25 -> 04 | N17: ='QRM - GG Audit'!F25 -> 04 | O17: ='QRM - GG Audit'!G25 -> 04 | P17: ='QRM - GG Audit'!I25 -> 4 | Q17: ='QRM - GG Audit'!J25 -> Yes | R17: ='QRM - GG Audit'!K25 -> 4 | S17: ='QRM - GG Audit'!M25 -> Met | T17: ='QRM - GG Audit'!N25 -> 0 | U17: ='QRM - GG Audit'!O25 -> 0 | AA17: ='QRM - GG Audit'!B17 -> GG Mobility Items | AB17: ='QRM - GG Audit'!C17 -> 0
A18: {=IF(OR('QRM - GG Audit'!$C$1:$G$1="",'QRM - GG Audit'!$K$1="",'QRM - GG Audit'!$O$1="",'QRM - GG Audit'!$C$2:$G$2="",'QRM - GG Audit'!$O$2="",'QRM - GG Audit'!$C$3:$G$3="",'QRM - GG Audit'!$N$3:$O$3=""),"Incomplete","Complete")} -> Incomplete | B18: =IF('QRM - GG Audit'!$C$2="","",'QRM - GG Audit'!$C$2) -> Example Facility | C18: =IF('QRM - GG Audit'!$C$3="","",'QRM - GG Audit'!$C$3) -> Case Study | D18: =IF('QRM - GG Audit'!$C$4="","",'QRM - GG Audit'!$C$4) -> 43994 | E18: =IF('QRM - GG Audit'!$K$2="","",'QRM - GG Audit'!$K$2) -> 44048 | F18: =IF('QRM - GG Audit'!$O$2="","",'QRM - GG Audit'!$O$2) -> 44027 | G18: =IF('QRM - GG Audit'!$K$3="","",'QRM - GG Audit'!$K$3) -> -20 | H18: =IF('QRM - GG Audit'!$K$2="","",'QRM - GG Audit'!$K$2) -> 44048 | I18: ='QRM - GG Audit'!$N$4 -> 22310 | J18: Mobility | K18: Mobility Items | L18: Walk 50 ft w/ 2 turns | M18: ='QRM - GG Audit'!E26 -> 04 | N18: ='QRM - GG Audit'!F26 -> 04 | O18: ='QRM - GG Audit'!G26 -> 04 | P18: ='QRM - GG Audit'!I26 -> 4 | Q18: ='QRM - GG Audit'!J26 -> Yes | R18: ='QRM - GG Audit'!K26 -> 4 | S18: ='QRM - GG Audit'!M26 -> Met | T18: ='QRM - GG Audit'!N26 -> 0 | U18: ='QRM - GG Audit'!O26 -> 0 | AA18: ='QRM - GG Audit'!B18 -> Roll L/R | AB18: ='QRM - GG Audit'!C18 -> 0 | AD18: ='QRM - GG Audit'!E18 -> 04 | AE18: ='QRM - GG Audit'!F18 -> 04 | AF18: ='QRM - GG Audit'!G18 -> 04 | AH18: ='QRM - GG Audit'!I18 -> 4 | AI18: ='QRM - GG Audit'!J18 -> Yes | AJ18: ='QRM - GG Audit'!K18 -> 4 | AL18: ='QRM - GG Audit'!M18 -> Met | AM18: ='QRM - GG Audit'!N18 -> 0 | AN18: ='QRM - GG Audit'!O18 -> 0
A19: {=IF(OR('QRM - GG Audit'!$C$1:$G$1="",'QRM - GG Audit'!$K$1="",'QRM - GG Audit'!$O$1="",'QRM - GG Audit'!$C$2:$G$2="",'QRM - GG Audit'!$O$2="",'QRM - GG Audit'!$C$3:$G$3="",'QRM - GG Audit'!$N$3:$O$3=""),"Incomplete","Complete")} -> Incomplete | B19: =IF('QRM - GG Audit'!$C$2="","",'QRM - GG Audit'!$C$2) -> Example Facility | C19: =IF('QRM - GG Audit'!$C$3="","",'QRM - GG Audit'!$C$3) -> Case Study | D19: =IF('QRM - GG Audit'!$C$4="","",'QRM - GG Audit'!$C$4) -> 43994 | E19: =IF('QRM - GG Audit'!$K$2="","",'QRM - GG Audit'!$K$2) -> 44048 | F19: =IF('QRM - GG Audit'!$O$2="","",'QRM - GG Audit'!$O$2) -> 44027 | G19: =IF('QRM - GG Audit'!$K$3="","",'QRM - GG Audit'!$K$3) -> -20 | H19: =IF('QRM - GG Audit'!$K$2="","",'QRM - GG Audit'!$K$2) -> 44048 | I19: ='QRM - GG Audit'!$N$4 -> 22310 | J19: Mobility | K19: Mobility Items | L19: Walk 150 ft | M19: ='QRM - GG Audit'!E27 -> 04 | N19: ='QRM - GG Audit'!F27 -> 04 | O19: ='QRM - GG Audit'!G27 -> 04 | P19: ='QRM - GG Audit'!I27 -> 4 | Q19: ='QRM - GG Audit'!J27 -> Yes | R19: ='QRM - GG Audit'!K27 -> 4 | S19: ='QRM - GG Audit'!M27 -> Met | T19: ='QRM - GG Audit'!N27 -> 0 | U19: ='QRM - GG Audit'!O27 -> 0 | AA19: ='QRM - GG Audit'!B19 -> Sit to Lying | AB19: ='QRM - GG Audit'!C19 -> 0 | AD19: ='QRM - GG Audit'!E19 -> 05 | AE19: ='QRM - GG Audit'!F19 -> 06 | AF19: ='QRM - GG Audit'!G19 -> 04 | AH19: ='QRM - GG Audit'!I19 -> 5 | AI19: ='QRM - GG Audit'!J19 -> Yes | AJ19: ='QRM - GG Audit'!K19 -> 4 | AL19: ='QRM - GG Audit'!M19 -> UnMet | AM19: ='QRM - GG Audit'!N19 -> -1 | AN19: ='QRM - GG Audit'!O19 -> -0.029411765
A20: {=IF(OR('QRM - GG Audit'!$C$1:$G$1="",'QRM - GG Audit'!$K$1="",'QRM - GG Audit'!$O$1="",'QRM - GG Audit'!$C$2:$G$2="",'QRM - GG Audit'!$O$2="",'QRM - GG Audit'!$C$3:$G$3="",'QRM - GG Audit'!$N$3:$O$3=""),"Incomplete","Complete")} -> Incomplete | B20: =IF('QRM - GG Audit'!$C$2="","",'QRM - GG Audit'!$C$2) -> Example Facility | C20: =IF('QRM - GG Audit'!$C$3="","",'QRM - GG Audit'!$C$3) -> Case Study | D20: =IF('QRM - GG Audit'!$C$4="","",'QRM - GG Audit'!$C$4) -> 43994 | E20: =IF('QRM - GG Audit'!$K$2="","",'QRM - GG Audit'!$K$2) -> 44048 | F20: =IF('QRM - GG Audit'!$O$2="","",'QRM - GG Audit'!$O$2) -> 44027 | G20: =IF('QRM - GG Audit'!$K$3="","",'QRM - GG Audit'!$K$3) -> -20 | H20: =IF('QRM - GG Audit'!$K$2="","",'QRM - GG Audit'!$K$2) -> 44048 | I20: ='QRM - GG Audit'!$N$4 -> 22310 | J20: Mobility | K20: Mobility Items | L20: Walk 10 ft uneven surfaces | M20: ='QRM - GG Audit'!E28 -> 04 | N20: ='QRM - GG Audit'!F28 -> 04 | O20: ='QRM - GG Audit'!G28 -> 09 | P20: ='QRM - GG Audit'!I28 -> 4 | Q20: ='QRM - GG Audit'!J28 -> Yes | R20: ='QRM - GG Audit'!K28 -> 1 | S20: ='QRM - GG Audit'!M28 -> UnMet | T20: ='QRM - GG Audit'!N28 -> -3 | U20: ='QRM - GG Audit'!O28 -> -0.088235294 | AA20: ='QRM - GG Audit'!B20 -> Lying to Sit | AB20: ='QRM - GG Audit'!C20 -> 0 | AD20: ='QRM - GG Audit'!E20 -> 04 | AE20: ='QRM - GG Audit'!F20 -> 04 | AF20: ='QRM - GG Audit'!G20 -> 04 | AH20: ='QRM - GG Audit'!I20 -> 4 | AI20: ='QRM - GG Audit'!J20 -> Yes | AJ20: ='QRM - GG Audit'!K20 -> 4 | AL20: ='QRM - GG Audit'!M20 -> Met | AM20: ='QRM - GG Audit'!N20 -> 0 | AN20: ='QRM - GG Audit'!O20 -> 0
A21: {=IF(OR('QRM - GG Audit'!$C$1:$G$1="",'QRM - GG Audit'!$K$1="",'QRM - GG Audit'!$O$1="",'QRM - GG Audit'!$C$2:$G$2="",'QRM - GG Audit'!$O$2="",'QRM - GG Audit'!$C$3:$G$3="",'QRM - GG Audit'!$N$3:$O$3=""),"Incomplete","Complete")} -> Incomplete | B21: =IF('QRM - GG Audit'!$C$2="","",'QRM - GG Audit'!$C$2) -> Example Facility | C21: =IF('QRM - GG Audit'!$C$3="","",'QRM - GG Audit'!$C$3) -> Case Study | D21: =IF('QRM - GG Audit'!$C$4="","",'QRM - GG Audit'!$C$4) -> 43994 | E21: =IF('QRM - GG Audit'!$K$2="","",'QRM - GG Audit'!$K$2) -> 44048 | F21: =IF('QRM - GG Audit'!$O$2="","",'QRM - GG Audit'!$O$2) -> 44027 | G21: =IF('QRM - GG Audit'!$K$3="","",'QRM - GG Audit'!$K$3) -> -20 | H21: =IF('QRM - GG Audit'!$K$2="","",'QRM - GG Audit'!$K$2) -> 44048 | I21: ='QRM - GG Audit'!$N$4 -> 22310 | J21: Mobility | K21: Mobility Items | L21: 1 curb/step | M21: ='QRM - GG Audit'!E29 -> 03 | N21: ='QRM - GG Audit'!F29 -> 04 | O21: ='QRM - GG Audit'!G29 -> 09 | P21: ='QRM - GG Audit'!I29 -> 3 | Q21: ='QRM - GG Audit'!J29 -> Yes | R21: ='QRM - GG Audit'!K29 -> 1 | S21: ='QRM - GG Audit'!M29 -> UnMet | T21: ='QRM - GG Audit'!N29 -> -2 | U21: ='QRM - GG Audit'!O29 -> -0.058823529 | AA21: ='QRM - GG Audit'!B21 -> Sit to Stand | AB21: ='QRM - GG Audit'!C21 -> 0 | AD21: ='QRM - GG Audit'!E21 -> 04 | AE21: ='QRM - GG Audit'!F21 -> 04 | AF21: ='QRM - GG Audit'!G21 -> 04 | AH21: ='QRM - GG Audit'!I21 -> 4 | AI21: ='QRM - GG Audit'!J21 -> Yes | AJ21: ='QRM - GG Audit'!K21 -> 4 | AL21: ='QRM - GG Audit'!M21 -> Met | AM21: ='QRM - GG Audit'!N21 -> 0 | AN21: ='QRM - GG Audit'!O21 -> 0
A22: {=IF(OR('QRM - GG Audit'!$C$1:$G$1="",'QRM - GG Audit'!$K$1="",'QRM - GG Audit'!$O$1="",'QRM - GG Audit'!$C$2:$G$2="",'QRM - GG Audit'!$O$2="",'QRM - GG Audit'!$C$3:$G$3="",'QRM - GG Audit'!$N$3:$O$3=""),"Incomplete","Complete")} -> Incomplete | B22: =IF('QRM - GG Audit'!$C$2="","",'QRM - GG Audit'!$C$2) -> Example Facility | C22: =IF('QRM - GG Audit'!$C$3="","",'QRM - GG Audit'!$C$3) -> Case Study | D22: =IF('QRM - GG Audit'!$C$4="","",'QRM - GG Audit'!$C$4) -> 43994 | E22: =IF('QRM - GG Audit'!$K$2="","",'QRM - GG Audit'!$K$2) -> 44048 | F22: =IF('QRM - GG Audit'!$O$2="","",'QRM - GG Audit'!$O$2) -> 44027 | G22: =IF('QRM - GG Audit'!$K$3="","",'QRM - GG Audit'!$K$3) -> -20 | H22: =IF('QRM - GG Audit'!$K$2="","",'QRM - GG Audit'!$K$2) -> 44048 | I22: ='QRM - GG Audit'!$N$4 -> 22310 | J22: Mobility | K22: Mobility Items | L22: 4 steps | M22: ='QRM - GG Audit'!E30 -> 03 | N22: ='QRM - GG Audit'!F30 -> 03 | O22: ='QRM - GG Audit'!G30 -> 09 | P22: ='QRM - GG Audit'!I30 -> 3 | Q22: ='QRM - GG Audit'!J30 -> Yes | R22: ='QRM - GG Audit'!K30 -> 1 | S22: ='QRM - GG Audit'!M30 -> UnMet | T22: ='QRM - GG Audit'!N30 -> -2 | U22: ='QRM - GG Audit'!O30 -> -0.058823529 | AA22: ='QRM - GG Audit'!B22 -> Bed to Chair T/f | AB22: ='QRM - GG Audit'!C22 -> 0 | AD22: ='QRM - GG Audit'!E22 -> 04 | AE22: ='QRM - GG Audit'!F22 -> 04 | AF22: ='QRM - GG Audit'!G22 -> 04 | AH22: ='QRM - GG Audit'!I22 -> 4 | AI22: ='QRM - GG Audit'!J22 -> Yes | AJ22: ='QRM - GG Audit'!K22 -> 4 | AL22: ='QRM - GG Audit'!M22 -> Met | AM22: ='QRM - GG Audit'!N22 -> 0 | AN22: ='QRM - GG Audit'!O22 -> 0
A23: {=IF(OR('QRM - GG Audit'!$C$1:$G$1="",'QRM - GG Audit'!$K$1="",'QRM - GG Audit'!$O$1="",'QRM - GG Audit'!$C$2:$G$2="",'QRM - GG Audit'!$O$2="",'QRM - GG Audit'!$C$3:$G$3="",'QRM - GG Audit'!$N$3:$O$3=""),"Incomplete","Complete")} -> Incomplete | B23: =IF('QRM - GG Audit'!$C$2="","",'QRM - GG Audit'!$C$2) -> Example Facility | C23: =IF('QRM - GG Audit'!$C$3="","",'QRM - GG Audit'!$C$3) -> Case Study | D23: =IF('QRM - GG Audit'!$C$4="","",'QRM - GG Audit'!$C$4) -> 43994 | E23: =IF('QRM - GG Audit'!$K$2="","",'QRM - GG Audit'!$K$2) -> 44048 | F23: =IF('QRM - GG Audit'!$O$2="","",'QRM - GG Audit'!$O$2) -> 44027 | G23: =IF('QRM - GG Audit'!$K$3="","",'QRM - GG Audit'!$K$3) -> -20 | H23: =IF('QRM - GG Audit'!$K$2="","",'QRM - GG Audit'!$K$2) -> 44048 | I23: ='QRM - GG Audit'!$N$4 -> 22310 | J23: Mobility | K23: Mobility Items | L23: 12 steps | M23: ='QRM - GG Audit'!E31 -> 10 | N23: ='QRM - GG Audit'!F31 -> 03 | O23: ='QRM - GG Audit'!G31 -> 09 | P23: ='QRM - GG Audit'!I31 -> 1 | Q23: ='QRM - GG Audit'!J31 -> Yes | R23: ='QRM - GG Audit'!K31 -> 1 | S23: ='QRM - GG Audit'!M31 -> UnMet | T23: ='QRM - GG Audit'!N31 -> 0 | U23: ='QRM - GG Audit'!O31 -> 0 | AA23: ='QRM - GG Audit'!B23 -> Toilet T/f | AB23: ='QRM - GG Audit'!C23 -> 0 | AD23: ='QRM - GG Audit'!E23 -> 03 | AE23: ='QRM - GG Audit'!F23 -> 03 | AF23: ='QRM - GG Audit'!G23 -> 03 | AH23: ='QRM - GG Audit'!I23 -> 3 | AI23: ='QRM - GG Audit'!J23 -> Yes | AJ23: ='QRM - GG Audit'!K23 -> 3 | AL23: ='QRM - GG Audit'!M23 -> Met | AM23: ='QRM - GG Audit'!N23 -> 0 | AN23: ='QRM - GG Audit'!O23 -> 0
A24: {=IF(OR('QRM - GG Audit'!$C$1:$G$1="",'QRM - GG Audit'!$K$1="",'QRM - GG Audit'!$O$1="",'QRM - GG Audit'!$C$2:$G$2="",'QRM - GG Audit'!$O$2="",'QRM - GG Audit'!$C$3:$G$3="",'QRM - GG Audit'!$N$3:$O$3=""),"Incomplete","Complete")} -> Incomplete | B24: =IF('QRM - GG Audit'!$C$2="","",'QRM - GG Audit'!$C$2) -> Example Facility | C24: =IF('QRM - GG Audit'!$C$3="","",'QRM - GG Audit'!$C$3) -> Case Study | D24: =IF('QRM - GG Audit'!$C$4="","",'QRM - GG Audit'!$C$4) -> 43994 | E24: =IF('QRM - GG Audit'!$K$2="","",'QRM - GG Audit'!$K$2) -> 44048 | F24: =IF('QRM - GG Audit'!$O$2="","",'QRM - GG Audit'!$O$2) -> 44027 | G24: =IF('QRM - GG Audit'!$K$3="","",'QRM - GG Audit'!$K$3) -> -20 | H24: =IF('QRM - GG Audit'!$K$2="","",'QRM - GG Audit'!$K$2) -> 44048 | I24: ='QRM - GG Audit'!$N$4 -> 22310 | J24: Mobility | K24: Mobility Items | L24: Picking up object | M24: ='QRM - GG Audit'!E32 -> 88 | N24: ='QRM - GG Audit'!F32 -> 10 | O24: ='QRM - GG Audit'!G32 -> 03 | P24: ='QRM - GG Audit'!I32 -> 1 | Q24: ='QRM - GG Audit'!J32 -> No | R24: ='QRM - GG Audit'!K32 -> 3 | S24: ='QRM - GG Audit'!M32 | T24: ='QRM - GG Audit'!N32 -> 2 | U24: ='QRM - GG Audit'!O32 -> 0.058823529 | AA24: ='QRM - GG Audit'!B24 -> Car T/f | AB24: ='QRM - GG Audit'!C24 -> 0 | AD24: ='QRM - GG Audit'!E24 -> 10 | AE24: ='QRM - GG Audit'!F24 -> 10 | AF24: ='QRM - GG Audit'!G24 -> 09 | AH24: ='QRM - GG Audit'!I24 -> 1 | AI24: ='QRM - GG Audit'!J24 -> No | AJ24: ='QRM - GG Audit'!K24 -> 1 | AL24: ='QRM - GG Audit'!M24 | AM24: ='QRM - GG Audit'!N24 -> 0 | AN24: ='QRM - GG Audit'!O24 -> 0
A25: {=IF(OR('QRM - GG Audit'!$C$1:$G$1="",'QRM - GG Audit'!$K$1="",'QRM - GG Audit'!$O$1="",'QRM - GG Audit'!$C$2:$G$2="",'QRM - GG Audit'!$O$2="",'QRM - GG Audit'!$C$3:$G$3="",'QRM - GG Audit'!$N$3:$O$3=""),"Incomplete","Complete")} -> Incomplete | B25: =IF('QRM - GG Audit'!$C$2="","",'QRM - GG Audit'!$C$2) -> Example Facility | C25: =IF('QRM - GG Audit'!$C$3="","",'QRM - GG Audit'!$C$3) -> Case Study | D25: =IF('QRM - GG Audit'!$C$4="","",'QRM - GG Audit'!$C$4) -> 43994 | E25: =IF('QRM - GG Audit'!$K$2="","",'QRM - GG Audit'!$K$2) -> 44048 | F25: =IF('QRM - GG Audit'!$O$2="","",'QRM - GG Audit'!$O$2) -> 44027 | G25: =IF('QRM - GG Audit'!$K$3="","",'QRM - GG Audit'!$K$3) -> -20 | H25: =IF('QRM - GG Audit'!$K$2="","",'QRM - GG Audit'!$K$2) -> 44048 | I25: ='QRM - GG Audit'!$N$4 -> 22310 | J25: Mobility | K25: Mobility Items | L25: W/c 50 ft w/ 2 turns | M25: ='QRM - GG Audit'!E33 -> 09 | N25: ='QRM - GG Audit'!F33 -> 09 | O25: ='QRM - GG Audit'!G33 -> 09 | P25: ='QRM - GG Audit'!I33 -> 1 | Q25: ='QRM - GG Audit'!J33 -> No | R25: ='QRM - GG Audit'!K33 -> 1 | S25: ='QRM - GG Audit'!M33 | T25: ='QRM - GG Audit'!N33 -> 0 | U25: ='QRM - GG Audit'!O33 -> 0 | AA25: ='QRM - GG Audit'!B25 -> Walk 10 ft | AB25: ='QRM - GG Audit'!C25 -> 0 | AD25: ='QRM - GG Audit'!E25 -> 04 | AE25: ='QRM - GG Audit'!F25 -> 04 | AF25: ='QRM - GG Audit'!G25 -> 04 | AH25: ='QRM - GG Audit'!I25 -> 4 | AI25: ='QRM - GG Audit'!J25 -> Yes | AJ25: ='QRM - GG Audit'!K25 -> 4 | AL25: ='QRM - GG Audit'!M25 -> Met | AM25: ='QRM - GG Audit'!N25 -> 0 | AN25: ='QRM - GG Audit'!O25 -> 0
A26: {=IF(OR('QRM - GG Audit'!$C$1:$G$1="",'QRM - GG Audit'!$K$1="",'QRM - GG Audit'!$O$1="",'QRM - GG Audit'!$C$2:$G$2="",'QRM - GG Audit'!$O$2="",'QRM - GG Audit'!$C$3:$G$3="",'QRM - GG Audit'!$N$3:$O$3=""),"Incomplete","Complete")} -> Incomplete | B26: =IF('QRM - GG Audit'!$C$2="","",'QRM - GG Audit'!$C$2) -> Example Facility | C26: =IF('QRM - GG Audit'!$C$3="","",'QRM - GG Audit'!$C$3) -> Case Study | D26: =IF('QRM - GG Audit'!$C$4="","",'QRM - GG Audit'!$C$4) -> 43994 | E26: =IF('QRM - GG Audit'!$K$2="","",'QRM - GG Audit'!$K$2) -> 44048 | F26: =IF('QRM - GG Audit'!$O$2="","",'QRM - GG Audit'!$O$2) -> 44027 | G26: =IF('QRM - GG Audit'!$K$3="","",'QRM - GG Audit'!$K$3) -> -20 | H26: =IF('QRM - GG Audit'!$K$2="","",'QRM - GG Audit'!$K$2) -> 44048 | I26: ='QRM - GG Audit'!$N$4 -> 22310 | J26: Mobility | K26: Mobility Items | L26: W/c 150 ft | M26: ='QRM - GG Audit'!E34 -> 09 | N26: ='QRM - GG Audit'!F34 -> 09 | O26: ='QRM - GG Audit'!G34 -> 09 | P26: ='QRM - GG Audit'!I34 -> 1 | Q26: ='QRM - GG Audit'!J34 -> No | R26: ='QRM - GG Audit'!K34 -> 1 | S26: ='QRM - GG Audit'!M34 | T26: ='QRM - GG Audit'!N34 -> 0 | U26: ='QRM - GG Audit'!O34 -> 0 | AA26: ='QRM - GG Audit'!B26 -> Walk 50 ft w/ 2 turns | AB26: ='QRM - GG Audit'!C26 -> 0 | AD26: ='QRM - GG Audit'!E26 -> 04 | AE26: ='QRM - GG Audit'!F26 -> 04 | AF26: ='QRM - GG Audit'!G26 -> 04 | AH26: ='QRM - GG Audit'!I26 -> 4 | AI26: ='QRM - GG Audit'!J26 -> Yes | AJ26: ='QRM - GG Audit'!K26 -> 4 | AL26: ='QRM - GG Audit'!M26 -> Met | AM26: ='QRM - GG Audit'!N26 -> 0 | AN26: ='QRM - GG Audit'!O26 -> 0
A27: {=IF(OR('QRM - GG Audit'!$C$1:$G$1="",'QRM - GG Audit'!$K$1="",'QRM - GG Audit'!$O$1="",'QRM - GG Audit'!$C$2:$G$2="",'QRM - GG Audit'!$O$2="",'QRM - GG Audit'!$C$3:$G$3="",'QRM - GG Audit'!$N$3:$O$3=""),"Incomplete","Complete")} -> Incomplete | B27: =IF('QRM - GG Audit'!$C$2="","",'QRM - GG Audit'!$C$2) -> Example Facility | C27: =IF('QRM - GG Audit'!$C$3="","",'QRM - GG Audit'!$C$3) -> Case Study | D27: =IF('QRM - GG Audit'!$C$4="","",'QRM - GG Audit'!$C$4) -> 43994 | E27: =IF('QRM - GG Audit'!$K$2="","",'QRM - GG Audit'!$K$2) -> 44048 | F27: =IF('QRM - GG Audit'!$O$2="","",'QRM - GG Audit'!$O$2) -> 44027 | G27: =IF('QRM - GG Audit'!$K$3="","",'QRM - GG Audit'!$K$3) -> -20 | H27: =IF('QRM - GG Audit'!$K$2="","",'QRM - GG Audit'!$K$2) -> 44048 | I27: ='QRM - GG Audit'!$N$4 -> 22310 | J27: Summary | K27: Self-Care Scores | L27: Self-Care Scores (Summary) | P27: ='QRM - GG Audit'!I15 -> 24 | Q27: ='QRM - GG Audit'!J15 -> 7 | R27: ='QRM - GG Audit'!K15 -> 24 | S27: ='QRM - GG Audit'!M15 -> 4 | T27: ='QRM - GG Audit'!N15 -> 0 | U27: ='QRM - GG Audit'!O15 -> 0 | AA27: ='QRM - GG Audit'!B27 -> Walk 150 ft | AB27: ='QRM - GG Audit'!C27 -> 0 | AD27: ='QRM - GG Audit'!E27 -> 04 | AE27: ='QRM - GG Audit'!F27 -> 04 | AF27: ='QRM - GG Audit'!G27 -> 04 | AH27: ='QRM - GG Audit'!I27 -> 4 | AI27: ='QRM - GG Audit'!J27 -> Yes | AJ27: ='QRM - GG Audit'!K27 -> 4 | AL27: ='QRM - GG Audit'!M27 -> Met | AM27: ='QRM - GG Audit'!N27 -> 0 | AN27: ='QRM - GG Audit'!O27 -> 0
A28: {=IF(OR('QRM - GG Audit'!$C$1:$G$1="",'QRM - GG Audit'!$K$1="",'QRM - GG Audit'!$O$1="",'QRM - GG Audit'!$C$2:$G$2="",'QRM - GG Audit'!$O$2="",'QRM - GG Audit'!$C$3:$G$3="",'QRM - GG Audit'!$N$3:$O$3=""),"Incomplete","Complete")} -> Incomplete | B28: =IF('QRM - GG Audit'!$C$2="","",'QRM - GG Audit'!$C$2) -> Example Facility | C28: =IF('QRM - GG Audit'!$C$3="","",'QRM - GG Audit'!$C$3) -> Case Study | D28: =IF('QRM - GG Audit'!$C$4="","",'QRM - GG Audit'!$C$4) -> 43994 | E28: =IF('QRM - GG Audit'!$K$2="","",'QRM - GG Audit'!$K$2) -> 44048 | F28: =IF('QRM - GG Audit'!$O$2="","",'QRM - GG Audit'!$O$2) -> 44027 | G28: =IF('QRM - GG Audit'!$K$3="","",'QRM - GG Audit'!$K$3) -> -20 | H28: =IF('QRM - GG Audit'!$K$2="","",'QRM - GG Audit'!$K$2) -> 44048 | I28: ='QRM - GG Audit'!$N$4 -> 22310 | J28: Summary | K28: Self-Care % of Total Points | L28: Self-Care % of Total Points (Summary) | P28: ='QRM - GG Audit'!I16 -> 0.57142857 | R28: ='QRM - GG Audit'!K16 -> 0.57142857 | S28: ='QRM - GG Audit'!M16 -> 0.57142857 | AA28: ='QRM - GG Audit'!B28 -> Walk 10 ft uneven surfaces | AB28: ='QRM - GG Audit'!C28 -> 0 | AD28: ='QRM - GG Audit'!E28 -> 04 | AE28: ='QRM - GG Audit'!F28 -> 04 | AF28: ='QRM - GG Audit'!G28 -> 09 | AH28: ='QRM - GG Audit'!I28 -> 4 | AI28: ='QRM - GG Audit'!J28 -> Yes | AJ28: ='QRM - GG Audit'!K28 -> 1 | AL28: ='QRM - GG Audit'!M28 -> UnMet | AM28: ='QRM - GG Audit'!N28 -> -3 | AN28: ='QRM - GG Audit'!O28 -> -0.088235294
A29: {=IF(OR('QRM - GG Audit'!$C$1:$G$1="",'QRM - GG Audit'!$K$1="",'QRM - GG Audit'!$O$1="",'QRM - GG Audit'!$C$2:$G$2="",'QRM - GG Audit'!$O$2="",'QRM - GG Audit'!$C$3:$G$3="",'QRM - GG Audit'!$N$3:$O$3=""),"Incomplete","Complete")} -> Incomplete | B29: =IF('QRM - GG Audit'!$C$2="","",'QRM - GG Audit'!$C$2) -> Example Facility | C29: =IF('QRM - GG Audit'!$C$3="","",'QRM - GG Audit'!$C$3) -> Case Study | D29: =IF('QRM - GG Audit'!$C$4="","",'QRM - GG Audit'!$C$4) -> 43994 | E29: =IF('QRM - GG Audit'!$K$2="","",'QRM - GG Audit'!$K$2) -> 44048 | F29: =IF('QRM - GG Audit'!$O$2="","",'QRM - GG Audit'!$O$2) -> 44027 | G29: =IF('QRM - GG Audit'!$K$3="","",'QRM - GG Audit'!$K$3) -> -20 | H29: =IF('QRM - GG Audit'!$K$2="","",'QRM - GG Audit'!$K$2) -> 44048 | I29: ='QRM - GG Audit'!$N$4 -> 22310 | J29: Summary | K29: Mobility Scores | L29: Mobility Scores (Summary) | P29: ='QRM - GG Audit'!I35 -> 49 | Q29: ='QRM - GG Audit'!J35 -> 13 | R29: ='QRM - GG Audit'!K35 -> 43 | S29: ='QRM - GG Audit'!M35 -> 8 | T29: ='QRM - GG Audit'!N35 -> -6 | U29: ='QRM - GG Audit'!O35 -> 0.3 | AA29: ='QRM - GG Audit'!B29 -> 1 curb/step | AB29: ='QRM - GG Audit'!C29 -> 0 | AD29: ='QRM - GG Audit'!E29 -> 03 | AE29: ='QRM - GG Audit'!F29 -> 04 | AF29: ='QRM - GG Audit'!G29 -> 09 | AH29: ='QRM - GG Audit'!I29 -> 3 | AI29: ='QRM - GG Audit'!J29 -> Yes | AJ29: ='QRM - GG Audit'!K29 -> 1 | AL29: ='QRM - GG Audit'!M29 -> UnMet | AM29: ='QRM - GG Audit'!N29 -> -2 | AN29: ='QRM - GG Audit'!O29 -> -0.058823529
A30: {=IF(OR('QRM - GG Audit'!$C$1:$G$1="",'QRM - GG Audit'!$K$1="",'QRM - GG Audit'!$O$1="",'QRM - GG Audit'!$C$2:$G$2="",'QRM - GG Audit'!$O$2="",'QRM - GG Audit'!$C$3:$G$3="",'QRM - GG Audit'!$N$3:$O$3=""),"Incomplete","Complete")} -> Incomplete | B30: =IF('QRM - GG Audit'!$C$2="","",'QRM - GG Audit'!$C$2) -> Example Facility | C30: =IF('QRM - GG Audit'!$C$3="","",'QRM - GG Audit'!$C$3) -> Case Study | D30: =IF('QRM - GG Audit'!$C$4="","",'QRM - GG Audit'!$C$4) -> 43994 | E30: =IF('QRM - GG Audit'!$K$2="","",'QRM - GG Audit'!$K$2) -> 44048 | F30: =IF('QRM - GG Audit'!$O$2="","",'QRM - GG Audit'!$O$2) -> 44027 | G30: =IF('QRM - GG Audit'!$K$3="","",'QRM - GG Audit'!$K$3) -> -20 | H30: =IF('QRM - GG Audit'!$K$2="","",'QRM - GG Audit'!$K$2) -> 44048 | I30: ='QRM - GG Audit'!$N$4 -> 22310 | J30: Summary | K30: Mobility % of Total Points | L30: Mobility % of Total Points (Summary) | P30: ='QRM - GG Audit'!I36 -> 0.54444444 | R30: ='QRM - GG Audit'!K36 -> 0.47777778 | S30: ='QRM - GG Audit'!M36 -> 0.61538462 | AA30: ='QRM - GG Audit'!B30 -> 4 steps | AB30: ='QRM - GG Audit'!C30 -> 0 | AD30: ='QRM - GG Audit'!E30 -> 03 | AE30: ='QRM - GG Audit'!F30 -> 03 | AF30: ='QRM - GG Audit'!G30 -> 09 | AH30: ='QRM - GG Audit'!I30 -> 3 | AI30: ='QRM - GG Audit'!J30 -> Yes | AJ30: ='QRM - GG Audit'!K30 -> 1 | AL30: ='QRM - GG Audit'!M30 -> UnMet | AM30: ='QRM - GG Audit'!N30 -> -2 | AN30: ='QRM - GG Audit'!O30 -> -0.058823529
AA31: ='QRM - GG Audit'!B31 -> 12 steps | AB31: ='QRM - GG Audit'!C31 -> 0 | AD31: ='QRM - GG Audit'!E31 -> 10 | AE31: ='QRM - GG Audit'!F31 -> 03 | AF31: ='QRM - GG Audit'!G31 -> 09 | AH31: ='QRM - GG Audit'!I31 -> 1 | AI31: ='QRM - GG Audit'!J31 -> Yes | AJ31: ='QRM - GG Audit'!K31 -> 1 | AL31: ='QRM - GG Audit'!M31 -> UnMet | AM31: ='QRM - GG Audit'!N31 -> 0 | AN31: ='QRM - GG Audit'!O31 -> 0
A32: Audit Status | B32: Facility | C32: Patient | D32: Audit Date | E32: Admit Date | F32: Last Cover Day | G32: LOS | H32: PDPM HIPPS | I32: I0020B Primary Reason for SNF Stay: ICD-10 Code, not words | J32: GG Category | K32: GG Sub-Category | L32: GG Item | M32: Admit Score | N32: Goal Y/N | O32: D/C Score | P32: Goal Met | Q32: Change Score | R32: Change per Day | AA32: ='QRM - GG Audit'!B32 -> Picking up object | AB32: ='QRM - GG Audit'!C32 -> 0 | AD32: ='QRM - GG Audit'!E32 -> 88 | AE32: ='QRM - GG Audit'!F32 -> 10 | AF32: ='QRM - GG Audit'!G32 -> 03 | AH32: ='QRM - GG Audit'!I32 -> 1 | AI32: ='QRM - GG Audit'!J32 -> No | AJ32: ='QRM - GG Audit'!K32 -> 3 | AL32: ='QRM - GG Audit'!M32 | AM32: ='QRM - GG Audit'!N32 -> 2 | AN32: ='QRM - GG Audit'!O32 -> 0.058823529
A33: =A3 -> Incomplete | B33: =B3 -> Example Facility | C33: =C3 -> Case Study | D33: =D3 -> 43994 | E33: =E3 -> 44048 | F33: =F3 -> 44027 | G33: =G3 -> -20 | H33: =H3 -> 44048 | I33: =I3 -> 22310 | J33: =J27 -> Summary | K33: =K27 -> Self-Care Scores | L33: =L27 -> Self-Care Scores (Summary) | M33: =P27 -> 24 | N33: =Q27 -> 7 | O33: =R27 -> 24 | P33: =S27 -> 4 | Q33: =T27 -> 0 | R33: =U27 -> 0 | AA33: ='QRM - GG Audit'!B33 -> W/c 50 ft w/ 2 turns | AB33: ='QRM - GG Audit'!C33 -> 0 | AD33: ='QRM - GG Audit'!E33 -> 09 | AE33: ='QRM - GG Audit'!F33 -> 09 | AF33: ='QRM - GG Audit'!G33 -> 09 | AH33: ='QRM - GG Audit'!I33 -> 1 | AI33: ='QRM - GG Audit'!J33 -> No | AJ33: ='QRM - GG Audit'!K33 -> 1 | AL33: ='QRM - GG Audit'!M33 | AM33: ='QRM - GG Audit'!N33 -> 0 | AN33: ='QRM - GG Audit'!O33 -> 0
A34: =A4 -> Incomplete | B34: =B4 -> Example Facility | C34: =C4 -> Case Study | D34: =D4 -> 43994 | E34: =E4 -> 44048 | F34: =F4 -> 44027 | G34: =G4 -> -20 | H34: =H4 -> 44048 | I34: =I4 -> 22310 | J34: =J28 -> Summary | K34: =K28 -> Self-Care % of Total Points | L34: =L28 -> Self-Care % of Total Points (Summary) | M34: =P28 -> 0.57142857 | O34: =R28 -> 0.57142857 | P34: =S28 -> 0.57142857 | AA34: ='QRM - GG Audit'!B34 -> W/c 150 ft | AB34: ='QRM - GG Audit'!C34 -> 0 | AD34: ='QRM - GG Audit'!E34 -> 09 | AE34: ='QRM - GG Audit'!F34 -> 09 | AF34: ='QRM - GG Audit'!G34 -> 09 | AH34: ='QRM - GG Audit'!I34 -> 1 | AI34: ='QRM - GG Audit'!J34 -> No | AJ34: ='QRM - GG Audit'!K34 -> 1 | AL34: ='QRM - GG Audit'!M34 | AM34: ='QRM - GG Audit'!N34 -> 0 | AN34: ='QRM - GG Audit'!O34 -> 0
A35: =A5 -> Incomplete | B35: =B5 -> Example Facility | C35: =C5 -> Case Study | D35: =D5 -> 43994 | E35: =E5 -> 44048 | F35: =F5 -> 44027 | G35: =G5 -> -20 | H35: =H5 -> 44048 | I35: =I5 -> 22310 | J35: =J29 -> Summary | K35: =K29 -> Mobility Scores | L35: =L29 -> Mobility Scores (Summary) | M35: =P29 -> 49 | N35: =Q29 -> 13 | O35: =R29 -> 43 | P35: =S29 -> 8 | Q35: =T29 -> -6 | R35: =U29 -> 0.3 | AD35: ='QRM - GG Audit'!E35 -> Mobility Scores | AH35: ='QRM - GG Audit'!I35 -> 49 | AI35: ='QRM - GG Audit'!J35 -> 13 | AJ35: ='QRM - GG Audit'!K35 -> 43 | AL35: ='QRM - GG Audit'!M35 -> 8 | AM35: ='QRM - GG Audit'!N35 -> -6 | AN35: ='QRM - GG Audit'!O35 -> 0.3
A36: =A6 -> Incomplete | B36: =B6 -> Example Facility | C36: =C6 -> Case Study | D36: =D6 -> 43994 | E36: =E6 -> 44048 | F36: =F6 -> 44027 | G36: =G6 -> -20 | H36: =H6 -> 44048 | I36: =I6 -> 22310 | J36: =J30 -> Summary | K36: =K30 -> Mobility % of Total Points | L36: =L30 -> Mobility % of Total Points (Summary) | M36: =P30 -> 0.54444444 | O36: =R30 -> 0.47777778 | P36: =S30 -> 0.61538462 | AD36: ='QRM - GG Audit'!E36 -> % of Total Points | AH36: ='QRM - GG Audit'!I36 -> 0.54444444 | AJ36: ='QRM - GG Audit'!K36 -> 0.47777778 | AL36: ='QRM - GG Audit'!M36 -> 0.61538462
B39: Facility: | I39: Admit Date: | M39: Last Cover Day:
B40: Patient: | I40: LOS: | K40: =IF(OR(K39="",O39=""),"",_xlfn.DAYS(O39,K39)+1) | M40: PDPM HIPPS:
B41: Audit Date: | I41: I0020B Primary Reason for SNF Stay: ICD-10 Code, not words
E43: Admit Code | F43: Goal Code | G43: D/C Code | I43: Admit Score | J43: Goal Y/N | K43: D/C Score | M43: Goal Met | N43: Change Score | O43: Change per Day
B44: GG Self-Care Items
B45: Eating | E45: 04 | F45: -Dash | G45: 04 | I45: =IFERROR(INDEX($AC$8:$AC$18,MATCH(E45,$AB$8:$AB$18,0)),"") | J45: =IFERROR(INDEX($AD$8:$AD$18,MATCH(F45,$AB$8:$AB$18,0)),"") | K45: =IFERROR(INDEX($AC$8:$AC$18,MATCH(G45,$AB$8:$AB$18,0)),"") | M45: =IFERROR(IF(OR(F45="-Dash",E45="",F45="",G45="",J45="No"),"",IF(OR(K45<AE45,G45=$AB$14,G45=$AB$15,G45=$AB$16,G45=$AB$17,G45=$AB$18),"UnMet","Met")),"") | N45: =IFERROR((K45-I45),"") | O45: =IFERROR(N45/$K$3,"")
B46: Oral Hygiene | E46: 03 | F46: -Dash | G46: 03 | I46: =IFERROR(INDEX($AC$8:$AC$18,MATCH(E46,$AB$8:$AB$18,0)),"") | J46: =IFERROR(INDEX($AD$8:$AD$18,MATCH(F46,$AB$8:$AB$18,0)),"") | K46: =IFERROR(INDEX($AC$8:$AC$18,MATCH(G46,$AB$8:$AB$18,0)),"") | M46: =IFERROR(IF(OR(F46="-Dash",E46="",F46="",G46="",J46="No"),"",IF(OR(K46<AE46,G46=$AB$14,G46=$AB$15,G46=$AB$16,G46=$AB$17,G46=$AB$18),"UnMet","Met")),"") | N46: =IFERROR((K46-I46),"") | O46: =IFERROR(N46/$K$3,"")
B47: Toilet Hygiene | E47: 01 | F47: -Dash | G47: 01 | I47: =IFERROR(INDEX($AC$8:$AC$18,MATCH(E47,$AB$8:$AB$18,0)),"") | J47: =IFERROR(INDEX($AD$8:$AD$18,MATCH(F47,$AB$8:$AB$18,0)),"") | K47: =IFERROR(INDEX($AC$8:$AC$18,MATCH(G47,$AB$8:$AB$18,0)),"") | M47: =IFERROR(IF(OR(F47="-Dash",E47="",F47="",G47="",J47="No"),"",IF(OR(K47<AE47,G47=$AB$14,G47=$AB$15,G47=$AB$16,G47=$AB$17,G47=$AB$18),"UnMet","Met")),"") | N47: =IFERROR((K47-I47),"") | O47: =IFERROR(N47/$K$3,"")
B48: Shower/bathe self | E48: 02 | F48: 03 | G48: 02 | I48: =IFERROR(INDEX($AC$8:$AC$18,MATCH(E48,$AB$8:$AB$18,0)),"") | J48: =IFERROR(INDEX($AD$8:$AD$18,MATCH(F48,$AB$8:$AB$18,0)),"") | K48: =IFERROR(INDEX($AC$8:$AC$18,MATCH(G48,$AB$8:$AB$18,0)),"") | M48: =IFERROR(IF(OR(F48="-Dash",E48="",F48="",G48="",J48="No"),"",IF(OR(K48<AE48,G48=$AB$14,G48=$AB$15,G48=$AB$16,G48=$AB$17,G48=$AB$18),"UnMet","Met")),"") -> Met | N48: =IFERROR((K48-I48),"") | O48: =IFERROR(N48/$K$3,"")
B49: UBD | E49: 02 | F49: -Dash | G49: 02 | I49: =IFERROR(INDEX($AC$8:$AC$18,MATCH(E49,$AB$8:$AB$18,0)),"") | J49: =IFERROR(INDEX($AD$8:$AD$18,MATCH(F49,$AB$8:$AB$18,0)),"") | K49: =IFERROR(INDEX($AC$8:$AC$18,MATCH(G49,$AB$8:$AB$18,0)),"") | M49: =IFERROR(IF(OR(F49="-Dash",E49="",F49="",G49="",J49="No"),"",IF(OR(K49<AE49,G49=$AB$14,G49=$AB$15,G49=$AB$16,G49=$AB$17,G49=$AB$18),"UnMet","Met")),"") | N49: =IFERROR((K49-I49),"") | O49: =IFERROR(N49/$K$3,"")
B50: LBD | E50: 01 | F50: -Dash | G50: 01 | I50: =IFERROR(INDEX($AC$8:$AC$18,MATCH(E50,$AB$8:$AB$18,0)),"") | J50: =IFERROR(INDEX($AD$8:$AD$18,MATCH(F50,$AB$8:$AB$18,0)),"") | K50: =IFERROR(INDEX($AC$8:$AC$18,MATCH(G50,$AB$8:$AB$18,0)),"") | M50: =IFERROR(IF(OR(F50="-Dash",E50="",F50="",G50="",J50="No"),"",IF(OR(K50<AE50,G50=$AB$14,G50=$AB$15,G50=$AB$16,G50=$AB$17,G50=$AB$18),"UnMet","Met")),"") | N50: =IFERROR((K50-I50),"") | O50: =IFERROR(N50/$K$3,"")
B51: Don/doff footwear | E51: 01 | F51: -Dash | G51: 01 | I51: =IFERROR(INDEX($AC$8:$AC$18,MATCH(E51,$AB$8:$AB$18,0)),"") | J51: =IFERROR(INDEX($AD$8:$AD$18,MATCH(F51,$AB$8:$AB$18,0)),"") | K51: =IFERROR(INDEX($AC$8:$AC$18,MATCH(G51,$AB$8:$AB$18,0)),"") | M51: =IFERROR(IF(OR(F51="-Dash",E51="",F51="",G51="",J51="No"),"",IF(OR(K51<AE51,G51=$AB$14,G51=$AB$15,G51=$AB$16,G51=$AB$17,G51=$AB$18),"UnMet","Met")),"") | N51: =IFERROR((K51-I51),"") | O51: =IFERROR(N51/$K$3,"")
E52: Self-Care Scores | I52: =SUM(I45:I51) -> 0 | J52: =COUNTIF(J45:J51,"Yes") -> 0 | K52: =SUM(K45:K51) -> 0 | M52: =COUNTIF(M45:M51,"Met") -> 1 | N52: =IFERROR(K52-I52,"") -> 0 | O52: =IFERROR(N52/K40,"")
E53: % of Total Points | I53: =IFERROR((I52/42),"") -> 0 | K53: =IFERROR((K52/42),"") -> 0 | M53: =IFERROR($M$15/SUM(COUNTIF($M$8:$M$14,"Met")+COUNTIF($M$8:$M$14,"UnMet")),"")
B54: GG Mobility Items
B55: Roll L/R | E55: 02 | F55: -Dash | G55: 03 | I55: =IFERROR(INDEX($AC$8:$AC$18,MATCH(E55,$AB$8:$AB$18,0)),"") | J55: =IFERROR(INDEX($AD$8:$AD$18,MATCH(F55,$AB$8:$AB$18,0)),"") | K55: =IFERROR(INDEX($AC$8:$AC$18,MATCH(G55,$AB$8:$AB$18,0)),"") | M55: =IFERROR(IF(OR(F55="-Dash",E55="",F55="",G55="",J55="No"),"",IF(OR(K55<AE55,G55=$AB$14,G55=$AB$15,G55=$AB$16,G55=$AB$17,G55=$AB$18),"UnMet","Met")),"") | N55: =IFERROR((K55-I55),"") | O55: =IFERROR(N55/$K$3,"")
B56: Sit to Lying | E56: 02 | F56: 03 | G56: 01 | I56: =IFERROR(INDEX($AC$8:$AC$18,MATCH(E56,$AB$8:$AB$18,0)),"") | J56: =IFERROR(INDEX($AD$8:$AD$18,MATCH(F56,$AB$8:$AB$18,0)),"") | K56: =IFERROR(INDEX($AC$8:$AC$18,MATCH(G56,$AB$8:$AB$18,0)),"") | M56: =IFERROR(IF(OR(F56="-Dash",E56="",F56="",G56="",J56="No"),"",IF(OR(K56<AE56,G56=$AB$14,G56=$AB$15,G56=$AB$16,G56=$AB$17,G56=$AB$18),"UnMet","Met")),"") -> Met | N56: =IFERROR((K56-I56),"") | O56: =IFERROR(N56/$K$3,"")
B57: Lying to Sit | E57: 02 | F57: -Dash | G57: 01 | I57: =IFERROR(INDEX($AC$8:$AC$18,MATCH(E57,$AB$8:$AB$18,0)),"") | J57: =IFERROR(INDEX($AD$8:$AD$18,MATCH(F57,$AB$8:$AB$18,0)),"") | K57: =IFERROR(INDEX($AC$8:$AC$18,MATCH(G57,$AB$8:$AB$18,0)),"") | M57: =IFERROR(IF(OR(F57="-Dash",E57="",F57="",G57="",J57="No"),"",IF(OR(K57<AE57,G57=$AB$14,G57=$AB$15,G57=$AB$16,G57=$AB$17,G57=$AB$18),"UnMet","Met")),"") | N57: =IFERROR((K57-I57),"") | O57: =IFERROR(N57/$K$3,"")
B58: Sit to Stand | E58: 88 | F58: -Dash | G58: 01 | I58: =IFERROR(INDEX($AC$8:$AC$18,MATCH(E58,$AB$8:$AB$18,0)),"") | J58: =IFERROR(INDEX($AD$8:$AD$18,MATCH(F58,$AB$8:$AB$18,0)),"") | K58: =IFERROR(INDEX($AC$8:$AC$18,MATCH(G58,$AB$8:$AB$18,0)),"") | M58: =IFERROR(IF(OR(F58="-Dash",E58="",F58="",G58="",J58="No"),"",IF(OR(K58<AE58,G58=$AB$14,G58=$AB$15,G58=$AB$16,G58=$AB$17,G58=$AB$18),"UnMet","Met")),"") | N58: =IFERROR((K58-I58),"") | O58: =IFERROR(N58/$K$3,"")
B59: Bed to Chair T/f | E59: 01 | F59: -Dash | G59: 01 | I59: =IFERROR(INDEX($AC$8:$AC$18,MATCH(E59,$AB$8:$AB$18,0)),"") | J59: =IFERROR(INDEX($AD$8:$AD$18,MATCH(F59,$AB$8:$AB$18,0)),"") | K59: =IFERROR(INDEX($AC$8:$AC$18,MATCH(G59,$AB$8:$AB$18,0)),"") | M59: =IFERROR(IF(OR(F59="-Dash",E59="",F59="",G59="",J59="No"),"",IF(OR(K59<AE59,G59=$AB$14,G59=$AB$15,G59=$AB$16,G59=$AB$17,G59=$AB$18),"UnMet","Met")),"") | N59: =IFERROR((K59-I59),"") | O59: =IFERROR(N59/$K$3,"")
B60: Toilet T/f | E60: 88 | F60: -Dash | G60: 01 | I60: =IFERROR(INDEX($AC$8:$AC$18,MATCH(E60,$AB$8:$AB$18,0)),"") | J60: =IFERROR(INDEX($AD$8:$AD$18,MATCH(F60,$AB$8:$AB$18,0)),"") | K60: =IFERROR(INDEX($AC$8:$AC$18,MATCH(G60,$AB$8:$AB$18,0)),"") | M60: =IFERROR(IF(OR(F60="-Dash",E60="",F60="",G60="",J60="No"),"",IF(OR(K60<AE60,G60=$AB$14,G60=$AB$15,G60=$AB$16,G60=$AB$17,G60=$AB$18),"UnMet","Met")),"") | N60: =IFERROR((K60-I60),"") | O60: =IFERROR(N60/$K$3,"")
B61: Car T/f | E61: 88 | F61: -Dash | G61: 01 | I61: =IFERROR(INDEX($AC$8:$AC$18,MATCH(E61,$AB$8:$AB$18,0)),"") | J61: =IFERROR(INDEX($AD$8:$AD$18,MATCH(F61,$AB$8:$AB$18,0)),"") | K61: =IFERROR(INDEX($AC$8:$AC$18,MATCH(G61,$AB$8:$AB$18,0)),"") | M61: =IFERROR(IF(OR(F61="-Dash",E61="",F61="",G61="",J61="No"),"",IF(OR(K61<AE61,G61=$AB$14,G61=$AB$15,G61=$AB$16,G61=$AB$17,G61=$AB$18),"UnMet","Met")),"") | N61: =IFERROR((K61-I61),"") | O61: =IFERROR(N61/$K$3,"")
B62: Walk 10 ft | E62: 88 | F62: -Dash | G62: 88 | I62: =IFERROR(INDEX($AC$8:$AC$18,MATCH(E62,$AB$8:$AB$18,0)),"") | J62: =IFERROR(INDEX($AD$8:$AD$18,MATCH(F62,$AB$8:$AB$18,0)),"") | K62: =IFERROR(INDEX($AC$8:$AC$18,MATCH(G62,$AB$8:$AB$18,0)),"") | M62: =IFERROR(IF(OR(F62="-Dash",E62="",F62="",G62="",J62="No"),"",IF(OR(K62<AE62,G62=$AB$14,G62=$AB$15,G62=$AB$16,G62=$AB$17,G62=$AB$18),"UnMet","Met")),"") | N62: =IFERROR((K62-I62),"") | O62: =IFERROR(N62/$K$3,"")
B63: Walk 50 ft w/ 2 turns | E63: 88 | F63: -Dash | G63: 88 | I63: =IFERROR(INDEX($AC$8:$AC$18,MATCH(E63,$AB$8:$AB$18,0)),"") | J63: =IFERROR(INDEX($AD$8:$AD$18,MATCH(F63,$AB$8:$AB$18,0)),"") | K63: =IFERROR(INDEX($AC$8:$AC$18,MATCH(G63,$AB$8:$AB$18,0)),"") | M63: =IFERROR(IF(OR(F63="-Dash",E63="",F63="",G63="",J63="No"),"",IF(OR(K63<AE63,G63=$AB$14,G63=$AB$15,G63=$AB$16,G63=$AB$17,G63=$AB$18),"UnMet","Met")),"") | N63: =IFERROR((K63-I63),"") | O63: =IFERROR(N63/$K$3,"")
B64: Walk 150 ft | E64: 88 | F64: -Dash | G64: 88 | I64: =IFERROR(INDEX($AC$8:$AC$18,MATCH(E64,$AB$8:$AB$18,0)),"") | J64: =IFERROR(INDEX($AD$8:$AD$18,MATCH(F64,$AB$8:$AB$18,0)),"") | K64: =IFERROR(INDEX($AC$8:$AC$18,MATCH(G64,$AB$8:$AB$18,0)),"") | M64: =IFERROR(IF(OR(F64="-Dash",E64="",F64="",G64="",J64="No"),"",IF(OR(K64<AE64,G64=$AB$14,G64=$AB$15,G64=$AB$16,G64=$AB$17,G64=$AB$18),"UnMet","Met")),"") | N64: =IFERROR((K64-I64),"") | O64: =IFERROR(N64/$K$3,"")
B65: Walk 10 ft uneven surfaces | E65: 88 | F65: -Dash | G65: 88 | I65: =IFERROR(INDEX($AC$8:$AC$18,MATCH(E65,$AB$8:$AB$18,0)),"") | J65: =IFERROR(INDEX($AD$8:$AD$18,MATCH(F65,$AB$8:$AB$18,0)),"") | K65: =IFERROR(INDEX($AC$8:$AC$18,MATCH(G65,$AB$8:$AB$18,0)),"") | M65: =IFERROR(IF(OR(F65="-Dash",E65="",F65="",G65="",J65="No"),"",IF(OR(K65<AE65,G65=$AB$14,G65=$AB$15,G65=$AB$16,G65=$AB$17,G65=$AB$18),"UnMet","Met")),"") | N65: =IFERROR((K65-I65),"") | O65: =IFERROR(N65/$K$3,"")
B66: 1 curb/step | E66: 88 | F66: -Dash | G66: 88 | I66: =IFERROR(INDEX($AC$8:$AC$18,MATCH(E66,$AB$8:$AB$18,0)),"") | J66: =IFERROR(INDEX($AD$8:$AD$18,MATCH(F66,$AB$8:$AB$18,0)),"") | K66: =IFERROR(INDEX($AC$8:$AC$18,MATCH(G66,$AB$8:$AB$18,0)),"") | M66: =IFERROR(IF(OR(F66="-Dash",E66="",F66="",G66="",J66="No"),"",IF(OR(K66<AE66,G66=$AB$14,G66=$AB$15,G66=$AB$16,G66=$AB$17,G66=$AB$18),"UnMet","Met")),"") | N66: =IFERROR((K66-I66),"") | O66: =IFERROR(N66/$K$3,"")
B67: 4 steps | E67: 88 | F67: -Dash | G67: 88 | I67: =IFERROR(INDEX($AC$8:$AC$18,MATCH(E67,$AB$8:$AB$18,0)),"") | J67: =IFERROR(INDEX($AD$8:$AD$18,MATCH(F67,$AB$8:$AB$18,0)),"") | K67: =IFERROR(INDEX($AC$8:$AC$18,MATCH(G67,$AB$8:$AB$18,0)),"") | M67: =IFERROR(IF(OR(F67="-Dash",E67="",F67="",G67="",J67="No"),"",IF(OR(K67<AE67,G67=$AB$14,G67=$AB$15,G67=$AB$16,G67=$AB$17,G67=$AB$18),"UnMet","Met")),"") | N67: =IFERROR((K67-I67),"") | O67: =IFERROR(N67/$K$3,"")
B68: 12 steps | E68: 88 | F68: -Dash | G68: 88 | I68: =IFERROR(INDEX($AC$8:$AC$18,MATCH(E68,$AB$8:$AB$18,0)),"") | J68: =IFERROR(INDEX($AD$8:$AD$18,MATCH(F68,$AB$8:$AB$18,0)),"") | K68: =IFERROR(INDEX($AC$8:$AC$18,MATCH(G68,$AB$8:$AB$18,0)),"") | M68: =IFERROR(IF(OR(F68="-Dash",E68="",F68="",G68="",J68="No"),"",IF(OR(K68<AE68,G68=$AB$14,G68=$AB$15,G68=$AB$16,G68=$AB$17,G68=$AB$18),"UnMet","Met")),"") | N68: =IFERROR((K68-I68),"") | O68: =IFERROR(N68/$K$3,"")
B69: Picking up object | E69: 88 | F69: -Dash | G69: 88 | I69: =IFERROR(INDEX($AC$8:$AC$18,MATCH(E69,$AB$8:$AB$18,0)),"") | J69: =IFERROR(INDEX($AD$8:$AD$18,MATCH(F69,$AB$8:$AB$18,0)),"") | K69: =IFERROR(INDEX($AC$8:$AC$18,MATCH(G69,$AB$8:$AB$18,0)),"") | M69: =IFERROR(IF(OR(F69="-Dash",E69="",F69="",G69="",J69="No"),"",IF(OR(K69<AE69,G69=$AB$14,G69=$AB$15,G69=$AB$16,G69=$AB$17,G69=$AB$18),"UnMet","Met")),"") | N69: =IFERROR((K69-I69),"") | O69: =IFERROR(N69/$K$3,"")
B70: W/c 50 ft w/ 2 turns | E70: 01 | F70: -Dash | G70: 01 | I70: =IFERROR(INDEX($AC$8:$AC$18,MATCH(E70,$AB$8:$AB$18,0)),"") | J70: =IFERROR(INDEX($AD$8:$AD$18,MATCH(F70,$AB$8:$AB$18,0)),"") | K70: =IFERROR(INDEX($AC$8:$AC$18,MATCH(G70,$AB$8:$AB$18,0)),"") | M70: =IFERROR(IF(OR(F70="-Dash",E70="",F70="",G70="",J70="No"),"",IF(OR(K70<AE70,G70=$AB$14,G70=$AB$15,G70=$AB$16,G70=$AB$17,G70=$AB$18),"UnMet","Met")),"") | N70: =IFERROR((K70-I70),"") | O70: =IFERROR(N70/$K$3,"")
B71: W/c 150 ft | E71: 01 | F71: -Dash | G71: 01 | I71: =IFERROR(INDEX($AC$8:$AC$18,MATCH(E71,$AB$8:$AB$18,0)),"") | J71: =IFERROR(INDEX($AD$8:$AD$18,MATCH(F71,$AB$8:$AB$18,0)),"") | K71: =IFERROR(INDEX($AC$8:$AC$18,MATCH(G71,$AB$8:$AB$18,0)),"") | M71: =IFERROR(IF(OR(F71="-Dash",E71="",F71="",G71="",J71="No"),"",IF(OR(K71<AE71,G71=$AB$14,G71=$AB$15,G71=$AB$16,G71=$AB$17,G71=$AB$18),"UnMet","Met")),"") | N71: =IFERROR((K71-I71),"") | O71: =IFERROR(N71/$K$3,"")
E72: Mobility Scores | I72: =SUM(I55:I69) -> 0 | J72: =COUNTIF(J55:J71,"Yes") -> 0 | K72: =SUM(K55:L69) -> 0 | M72: =COUNTIF(M55:M71,"Met") -> 1 | N72: =IFERROR(K72-I72,"") -> 0 | O72: =IFERROR(N72/$K$3,"")
E73: % of Total Points | I73: =IFERROR(($I$35/90),"") -> 247.88889 | K73: =IFERROR(($K$35/90),"") | M73: =IFERROR($M$35/SUM(COUNTIF(M55:M71,"Met")+COUNTIF(M55:M71,"UnMet")),"") -> 49

Sheet CSS-RU NEW

Sheet Sheet6
B1: ='QRM - GG Audit (7-15-20)'!B2 -> Facility: | C1: ='QRM - GG Audit (7-15-20)'!C2 -> Example Facility | D1: ='QRM - GG Audit (7-15-20)'!D2 -> 0 | E1: ='QRM - GG Audit (7-15-20)'!E2 -> 0 | F1: ='QRM - GG Audit (7-15-20)'!F2 -> QRM ID: | G1: ='QRM - GG Audit (7-15-20)'!G2 -> 0 | I1: ='QRM - GG Audit (7-15-20)'!I2 -> 22310 | J1: ='QRM - GG Audit (7-15-20)'!J2 -> 0 | K1: ='QRM - GG Audit (7-15-20)'!K2 -> Audit Date: | L1: ='QRM - GG Audit (7-15-20)'!L2 -> 0 | M1: ='QRM - GG Audit (7-15-20)'!M2 -> 0 | N1: ='QRM - GG Audit (7-15-20)'!N2 -> 44048 | O1: ='QRM - GG Audit (7-15-20)'!O2 -> 0
B2: ='QRM - GG Audit (7-15-20)'!B3 -> Patient's First Name: | C2: ='QRM - GG Audit (7-15-20)'!C3 -> Case | D2: ='QRM - GG Audit (7-15-20)'!D3 -> 0 | E2: ='QRM - GG Audit (7-15-20)'!E3 -> 0 | F2: ='QRM - GG Audit (7-15-20)'!F3 -> Patient's Last Name: | G2: ='QRM - GG Audit (7-15-20)'!G3 -> 0 | I2: ='QRM - GG Audit (7-15-20)'!I3 -> Study | J2: ='QRM - GG Audit (7-15-20)'!J3 -> 0 | K2: ='QRM - GG Audit (7-15-20)'!K3 -> PDPM HIPPS: | L2: ='QRM - GG Audit (7-15-20)'!L3 -> 0 | M2: ='QRM - GG Audit (7-15-20)'!M3 -> 0 | N2: ='QRM - GG Audit (7-15-20)'!N3 -> KBXE1 | O2: ='QRM - GG Audit (7-15-20)'!O3 -> 0 | Q2: ='QRM - GG Audit (7-15-20)'!B2 -> Facility: | R2: ='QRM - GG Audit (7-15-20)'!B3 -> Patient's First Name: | S2: ='QRM - GG Audit (7-15-20)'!C3 -> Case | T2: ='QRM - GG Audit (7-15-20)'!D3 -> 0 | U2: ='QRM - GG Audit (7-15-20)'!E3 -> 0 | V2: ='QRM - GG Audit (7-15-20)'!F3 -> Patient's Last Name: | W2: ='QRM - GG Audit (7-15-20)'!G3 -> 0 | X2: ='QRM - GG Audit (7-15-20)'!H3 -> 0 | Y2: ='QRM - GG Audit (7-15-20)'!I3 -> Study | ... AF2: ='QRM - GG Audit (7-15-20)'!P3 -> 0
B3: ='QRM - GG Audit (7-15-20)'!B4 -> Admit Date: | C3: ='QRM - GG Audit (7-15-20)'!C4 -> 43994 | D3: ='QRM - GG Audit (7-15-20)'!D4 -> 0 | E3: ='QRM - GG Audit (7-15-20)'!E4 -> 0 | F3: ='QRM - GG Audit (7-15-20)'!F4 -> Last Cover Day: | G3: ='QRM - GG Audit (7-15-20)'!G4 -> 0 | I3: ='QRM - GG Audit (7-15-20)'!I4 -> 44027 | J3: ='QRM - GG Audit (7-15-20)'!J4 -> 0 | K3: ='QRM - GG Audit (7-15-20)'!K4 -> LOS: | L3: ='QRM - GG Audit (7-15-20)'!L4 -> 0 | M3: ='QRM - GG Audit (7-15-20)'!M4 -> 0 | N3: ='QRM - GG Audit (7-15-20)'!N4 -> 34 | O3: ='QRM - GG Audit (7-15-20)'!O4 -> 0 | Q3: ='QRM - GG Audit (7-15-20)'!C2 -> Example Facility
A4: Delete
B5: ='QRM - GG Audit (7-15-20)'!B6 -> GG Self-Care Items | C5: ='QRM - GG Audit (7-15-20)'!C6 -> 0 | D5: ='QRM - GG Audit (7-15-20)'!D6 -> 0 | E5: ='QRM - GG Audit (7-15-20)'!E6 -> Admit Code | F5: ='QRM - GG Audit (7-15-20)'!F6 -> Goal Code | G5: ='QRM - GG Audit (7-15-20)'!G6 -> D/C Code | H5: ='QRM - GG Audit (7-15-20)'!H6 -> 0 | I5: ='QRM - GG Audit (7-15-20)'!I6 -> Admit Score | ... O5: ='QRM - GG Audit (7-15-20)'!O6 -> Change per Day | Q5: Patient Info | R5: ='QRM - GG Audit (7-15-20)'!B2 -> Facility: | S5: ='QRM - GG Audit (7-15-20)'!C2 -> Example Facility | T5: Delete Column | U5: ='QRM - GG Audit (7-15-20)'!E2 -> 0 | V5: ='QRM - GG Audit (7-15-20)'!F2 -> QRM ID: | W5: ='QRM - GG Audit (7-15-20)'!G2 -> 0 | X5: ='QRM - GG Audit (7-15-20)'!H2 -> 0 | Y5: ='QRM - GG Audit (7-15-20)'!I2 -> 22310 | Z5: ='QRM - GG Audit (7-15-20)'!J2 -> 0 | AA5: ='QRM - GG Audit (7-15-20)'!K2 -> Audit Date: | AB5: ='QRM - GG Audit (7-15-20)'!L2 -> 0 | ... AF5: ='QRM - GG Audit (7-15-20)'!P2 -> 0
B6: ='QRM - GG Audit (7-15-20)'!B7 -> GG Self-Care Items | C6: ='QRM - GG Audit (7-15-20)'!C7 -> 0 | Q6: Patient Info | R6: ='QRM - GG Audit (7-15-20)'!B3 -> Patient's First Name: | S6: ='QRM - GG Audit (7-15-20)'!C3 -> Case | U6: ='QRM - GG Audit (7-15-20)'!E3 -> 0 | V6: ='QRM - GG Audit (7-15-20)'!F3 -> Patient's Last Name: | W6: ='QRM - GG Audit (7-15-20)'!G3 -> 0 | X6: ='QRM - GG Audit (7-15-20)'!H3 -> 0 | Y6: ='QRM - GG Audit (7-15-20)'!I3 -> Study | Z6: ='QRM - GG Audit (7-15-20)'!J3 -> 0 | AA6: ='QRM - GG Audit (7-15-20)'!K3 -> PDPM HIPPS: | AB6: ='QRM - GG Audit (7-15-20)'!L3 -> 0 | ... AF6: ='QRM - GG Audit (7-15-20)'!P3 -> 0
B7: ='QRM - GG Audit (7-15-20)'!B8 -> Eating | C7: ='QRM - GG Audit (7-15-20)'!C8 -> 0 | E7: ='QRM - GG Audit (7-15-20)'!E8 -> 05 | F7: ='QRM - GG Audit (7-15-20)'!F8 -> 06 | G7: ='QRM - GG Audit (7-15-20)'!G8 -> 05 | I7: ='QRM - GG Audit (7-15-20)'!I8 -> 5 | J7: ='QRM - GG Audit (7-15-20)'!J8 -> Yes | K7: ='QRM - GG Audit (7-15-20)'!K8 -> 5 | M7: ='QRM - GG Audit (7-15-20)'!M8 -> UnMet | N7: ='QRM - GG Audit (7-15-20)'!N8 -> 0 | O7: ='QRM - GG Audit (7-15-20)'!O8 -> 0 | Q7: Patient Info | R7: ='QRM - GG Audit (7-15-20)'!B4 -> Admit Date: | S7: ='QRM - GG Audit (7-15-20)'!C4 -> 43994 | U7: ='QRM - GG Audit (7-15-20)'!E4 -> 0 | V7: ='QRM - GG Audit (7-15-20)'!F4 -> Last Cover Day: | W7: ='QRM - GG Audit (7-15-20)'!G4 -> 0 | X7: ='QRM - GG Audit (7-15-20)'!H4 -> 0 | Y7: ='QRM - GG Audit (7-15-20)'!I4 -> 44027 | Z7: ='QRM - GG Audit (7-15-20)'!J4 -> 0 | AA7: ='QRM - GG Audit (7-15-20)'!K4 -> LOS: | AB7: ='QRM - GG Audit (7-15-20)'!L4 -> 0 | ... AF7: ='QRM - GG Audit (7-15-20)'!P4 -> 0
B8: ='QRM - GG Audit (7-15-20)'!B9 -> Oral Hygiene | C8: ='QRM - GG Audit (7-15-20)'!C9 -> 0 | E8: ='QRM - GG Audit (7-15-20)'!E9 -> 05 | F8: ='QRM - GG Audit (7-15-20)'!F9 -> 06 | G8: ='QRM - GG Audit (7-15-20)'!G9 -> 04 | I8: ='QRM - GG Audit (7-15-20)'!I9 -> 5 | J8: ='QRM - GG Audit (7-15-20)'!J9 -> Yes | K8: ='QRM - GG Audit (7-15-20)'!K9 -> 4 | M8: ='QRM - GG Audit (7-15-20)'!M9 -> UnMet | N8: ='QRM - GG Audit (7-15-20)'!N9 -> -1 | O8: ='QRM - GG Audit (7-15-20)'!O9 -> -0.029411765 | Q8: Delete Row | R8: ='QRM - GG Audit (7-15-20)'!B5 -> 0 | S8: ='QRM - GG Audit (7-15-20)'!C5 -> 0 | U8: ='QRM - GG Audit (7-15-20)'!E5 -> 0 | V8: ='QRM - GG Audit (7-15-20)'!F5 -> 0 | W8: ='QRM - GG Audit (7-15-20)'!G5 -> 0 | X8: ='QRM - GG Audit (7-15-20)'!H5 -> 0 | Y8: ='QRM - GG Audit (7-15-20)'!I5 -> 0 | Z8: ='QRM - GG Audit (7-15-20)'!J5 -> 0 | AA8: ='QRM - GG Audit (7-15-20)'!K5 -> 0 | AB8: ='QRM - GG Audit (7-15-20)'!L5 -> 0 | ... AF8: ='QRM - GG Audit (7-15-20)'!P5 -> 0
B9: ='QRM - GG Audit (7-15-20)'!B10 -> Toilet Hygiene | C9: ='QRM - GG Audit (7-15-20)'!C10 -> 0 | E9: ='QRM - GG Audit (7-15-20)'!E10 -> 03 | F9: ='QRM - GG Audit (7-15-20)'!F10 -> 06 | G9: ='QRM - GG Audit (7-15-20)'!G10 -> 03 | I9: ='QRM - GG Audit (7-15-20)'!I10 -> 3 | J9: ='QRM - GG Audit (7-15-20)'!J10 -> Yes | K9: ='QRM - GG Audit (7-15-20)'!K10 -> 3 | M9: ='QRM - GG Audit (7-15-20)'!M10 -> UnMet | N9: ='QRM - GG Audit (7-15-20)'!N10 -> 0 | O9: ='QRM - GG Audit (7-15-20)'!O10 -> 0 | Q9: Section Header | R9: ='QRM - GG Audit (7-15-20)'!B6 -> GG Self-Care Items | S9: ='QRM - GG Audit (7-15-20)'!C6 -> 0 | U9: ='QRM - GG Audit (7-15-20)'!E6 -> Admit Code | V9: ='QRM - GG Audit (7-15-20)'!F6 -> Goal Code | W9: ='QRM - GG Audit (7-15-20)'!G6 -> D/C Code | X9: ='QRM - GG Audit (7-15-20)'!H6 -> 0 | Y9: ='QRM - GG Audit (7-15-20)'!I6 -> Admit Score | Z9: ='QRM - GG Audit (7-15-20)'!J6 -> Goal Y/N | AA9: ='QRM - GG Audit (7-15-20)'!K6 -> D/C Score | AB9: ='QRM - GG Audit (7-15-20)'!L6 -> 0 | ... AF9: ='QRM - GG Audit (7-15-20)'!P6 -> 0
B10: ='QRM - GG Audit (7-15-20)'!B11 -> Shower/bathe self | C10: ='QRM - GG Audit (7-15-20)'!C11 -> 0 | E10: ='QRM - GG Audit (7-15-20)'!E11 -> 03 | F10: ='QRM - GG Audit (7-15-20)'!F11 -> 03 | G10: ='QRM - GG Audit (7-15-20)'!G11 -> 03 | I10: ='QRM - GG Audit (7-15-20)'!I11 -> 3 | J10: ='QRM - GG Audit (7-15-20)'!J11 -> Yes | K10: ='QRM - GG Audit (7-15-20)'!K11 -> 3 | M10: ='QRM - GG Audit (7-15-20)'!M11 -> Met | N10: ='QRM - GG Audit (7-15-20)'!N11 -> 0 | O10: ='QRM - GG Audit (7-15-20)'!O11 -> 0 | Q10: Delete Row | R10: ='QRM - GG Audit (7-15-20)'!B7 -> GG Self-Care Items | S10: ='QRM - GG Audit (7-15-20)'!C7 -> 0 | U10: ='QRM - GG Audit (7-15-20)'!E7 -> 0 | V10: ='QRM - GG Audit (7-15-20)'!F7 -> 0 | W10: ='QRM - GG Audit (7-15-20)'!G7 -> 0 | X10: ='QRM - GG Audit (7-15-20)'!H7 -> 0 | Y10: ='QRM - GG Audit (7-15-20)'!I7 -> 0 | Z10: ='QRM - GG Audit (7-15-20)'!J7 -> 0 | AA10: ='QRM - GG Audit (7-15-20)'!K7 -> 0 | AB10: ='QRM - GG Audit (7-15-20)'!L7 -> 0 | ... AF10: ='QRM - GG Audit (7-15-20)'!P7 -> 0
B11: ='QRM - GG Audit (7-15-20)'!B12 -> UBD | C11: ='QRM - GG Audit (7-15-20)'!C12 -> 0 | E11: ='QRM - GG Audit (7-15-20)'!E12 -> 03 | F11: ='QRM - GG Audit (7-15-20)'!F12 -> 03 | G11: ='QRM - GG Audit (7-15-20)'!G12 -> 03 | I11: ='QRM - GG Audit (7-15-20)'!I12 -> 3 | J11: ='QRM - GG Audit (7-15-20)'!J12 -> Yes | K11: ='QRM - GG Audit (7-15-20)'!K12 -> 3 | M11: ='QRM - GG Audit (7-15-20)'!M12 -> Met | N11: ='QRM - GG Audit (7-15-20)'!N12 -> 0 | O11: ='QRM - GG Audit (7-15-20)'!O12 -> 0 | Q11: GG Self-Care Items | R11: ='QRM - GG Audit (7-15-20)'!B8 -> Eating | S11: ='QRM - GG Audit (7-15-20)'!C8 -> 0 | U11: ='QRM - GG Audit (7-15-20)'!E8 -> 05 | V11: ='QRM - GG Audit (7-15-20)'!F8 -> 06 | W11: ='QRM - GG Audit (7-15-20)'!G8 -> 05 | X11: ='QRM - GG Audit (7-15-20)'!H8 -> 0 | Y11: ='QRM - GG Audit (7-15-20)'!I8 -> 5 | Z11: ='QRM - GG Audit (7-15-20)'!J8 -> Yes | AA11: ='QRM - GG Audit (7-15-20)'!K8 -> 5 | AB11: ='QRM - GG Audit (7-15-20)'!L8 -> 0 | ... AF11: ='QRM - GG Audit (7-15-20)'!P8 -> 0
B12: ='QRM - GG Audit (7-15-20)'!B13 -> LBD | C12: ='QRM - GG Audit (7-15-20)'!C13 -> 0 | E12: ='QRM - GG Audit (7-15-20)'!E13 -> 02 | F12: ='QRM - GG Audit (7-15-20)'!F13 -> 03 | G12: ='QRM - GG Audit (7-15-20)'!G13 -> 03 | I12: ='QRM - GG Audit (7-15-20)'!I13 -> 2 | J12: ='QRM - GG Audit (7-15-20)'!J13 -> Yes | K12: ='QRM - GG Audit (7-15-20)'!K13 -> 3 | M12: ='QRM - GG Audit (7-15-20)'!M13 -> Met | N12: ='QRM - GG Audit (7-15-20)'!N13 -> 1 | O12: ='QRM - GG Audit (7-15-20)'!O13 -> 0.029411765 | Q12: GG Self-Care Items | R12: ='QRM - GG Audit (7-15-20)'!B9 -> Oral Hygiene | S12: ='QRM - GG Audit (7-15-20)'!C9 -> 0 | U12: ='QRM - GG Audit (7-15-20)'!E9 -> 05 | V12: ='QRM - GG Audit (7-15-20)'!F9 -> 06 | W12: ='QRM - GG Audit (7-15-20)'!G9 -> 04 | X12: ='QRM - GG Audit (7-15-20)'!H9 -> 0 | Y12: ='QRM - GG Audit (7-15-20)'!I9 -> 5 | Z12: ='QRM - GG Audit (7-15-20)'!J9 -> Yes | AA12: ='QRM - GG Audit (7-15-20)'!K9 -> 4 | AB12: ='QRM - GG Audit (7-15-20)'!L9 -> 0 | ... AF12: ='QRM - GG Audit (7-15-20)'!P9 -> 0
B13: ='QRM - GG Audit (7-15-20)'!B14 -> Don/doff footwear | C13: ='QRM - GG Audit (7-15-20)'!C14 -> 0 | E13: ='QRM - GG Audit (7-15-20)'!E14 -> 03 | F13: ='QRM - GG Audit (7-15-20)'!F14 -> 03 | G13: ='QRM - GG Audit (7-15-20)'!G14 -> 03 | I13: ='QRM - GG Audit (7-15-20)'!I14 -> 3 | J13: ='QRM - GG Audit (7-15-20)'!J14 -> Yes | K13: ='QRM - GG Audit (7-15-20)'!K14 -> 3 | M13: ='QRM - GG Audit (7-15-20)'!M14 -> Met | N13: ='QRM - GG Audit (7-15-20)'!N14 -> 0 | O13: ='QRM - GG Audit (7-15-20)'!O14 -> 0 | Q13: GG Self-Care Items | R13: ='QRM - GG Audit (7-15-20)'!B10 -> Toilet Hygiene | S13: ='QRM - GG Audit (7-15-20)'!C10 -> 0 | U13: ='QRM - GG Audit (7-15-20)'!E10 -> 03 | V13: ='QRM - GG Audit (7-15-20)'!F10 -> 06 | W13: ='QRM - GG Audit (7-15-20)'!G10 -> 03 | X13: ='QRM - GG Audit (7-15-20)'!H10 -> 0 | Y13: ='QRM - GG Audit (7-15-20)'!I10 -> 3 | Z13: ='QRM - GG Audit (7-15-20)'!J10 -> Yes | AA13: ='QRM - GG Audit (7-15-20)'!K10 -> 3 | AB13: ='QRM - GG Audit (7-15-20)'!L10 -> 0 | ... AF13: ='QRM - GG Audit (7-15-20)'!P10 -> 0
E14: ='QRM - GG Audit (7-15-20)'!E15 -> Self-Care Scores | F14: ='QRM - GG Audit (7-15-20)'!F15 -> 0 | G14: ='QRM - GG Audit (7-15-20)'!G15 -> 0 | I14: ='QRM - GG Audit (7-15-20)'!I15 -> 24 | J14: ='QRM - GG Audit (7-15-20)'!J15 -> 7 | K14: ='QRM - GG Audit (7-15-20)'!K15 -> 24 | M14: ='QRM - GG Audit (7-15-20)'!M15 -> 4 | N14: ='QRM - GG Audit (7-15-20)'!N15 -> 0 | O14: ='QRM - GG Audit (7-15-20)'!O15 -> 0 | Q14: GG Self-Care Items | R14: ='QRM - GG Audit (7-15-20)'!B11 -> Shower/bathe self | S14: ='QRM - GG Audit (7-15-20)'!C11 -> 0 | U14: ='QRM - GG Audit (7-15-20)'!E11 -> 03 | V14: ='QRM - GG Audit (7-15-20)'!F11 -> 03 | W14: ='QRM - GG Audit (7-15-20)'!G11 -> 03 | X14: ='QRM - GG Audit (7-15-20)'!H11 -> 0 | Y14: ='QRM - GG Audit (7-15-20)'!I11 -> 3 | Z14: ='QRM - GG Audit (7-15-20)'!J11 -> Yes | AA14: ='QRM - GG Audit (7-15-20)'!K11 -> 3 | AB14: ='QRM - GG Audit (7-15-20)'!L11 -> 0 | ... AF14: ='QRM - GG Audit (7-15-20)'!P11 -> 0
E15: ='QRM - GG Audit (7-15-20)'!E16 -> % of Total Points | F15: ='QRM - GG Audit (7-15-20)'!F16 -> 0 | G15: ='QRM - GG Audit (7-15-20)'!G16 -> 0 | I15: ='QRM - GG Audit (7-15-20)'!I16 -> 0.57142857 | J15: ='QRM - GG Audit (7-15-20)'!J16 -> 0 | K15: ='QRM - GG Audit (7-15-20)'!K16 -> 0.57142857 | M15: ='QRM - GG Audit (7-15-20)'!M16 -> 0.57142857 | N15: ='QRM - GG Audit (7-15-20)'!N16 -> 0 | O15: ='QRM - GG Audit (7-15-20)'!O16 -> 0 | Q15: GG Self-Care Items | R15: ='QRM - GG Audit (7-15-20)'!B12 -> UBD | S15: ='QRM - GG Audit (7-15-20)'!C12 -> 0 | U15: ='QRM - GG Audit (7-15-20)'!E12 -> 03 | V15: ='QRM - GG Audit (7-15-20)'!F12 -> 03 | W15: ='QRM - GG Audit (7-15-20)'!G12 -> 03 | X15: ='QRM - GG Audit (7-15-20)'!H12 -> 0 | Y15: ='QRM - GG Audit (7-15-20)'!I12 -> 3 | Z15: ='QRM - GG Audit (7-15-20)'!J12 -> Yes | AA15: ='QRM - GG Audit (7-15-20)'!K12 -> 3 | AB15: ='QRM - GG Audit (7-15-20)'!L12 -> 0 | ... AF15: ='QRM - GG Audit (7-15-20)'!P12 -> 0
B16: ='QRM - GG Audit (7-15-20)'!B17 -> GG Mobility Items | C16: ='QRM - GG Audit (7-15-20)'!C17 -> 0 | Q16: GG Self-Care Items | R16: ='QRM - GG Audit (7-15-20)'!B13 -> LBD | S16: ='QRM - GG Audit (7-15-20)'!C13 -> 0 | U16: ='QRM - GG Audit (7-15-20)'!E13 -> 02 | V16: ='QRM - GG Audit (7-15-20)'!F13 -> 03 | W16: ='QRM - GG Audit (7-15-20)'!G13 -> 03 | X16: ='QRM - GG Audit (7-15-20)'!H13 -> 0 | Y16: ='QRM - GG Audit (7-15-20)'!I13 -> 2 | Z16: ='QRM - GG Audit (7-15-20)'!J13 -> Yes | AA16: ='QRM - GG Audit (7-15-20)'!K13 -> 3 | AB16: ='QRM - GG Audit (7-15-20)'!L13 -> 0 | ... AF16: ='QRM - GG Audit (7-15-20)'!P13 -> 0
B17: ='QRM - GG Audit (7-15-20)'!B18 -> Roll L/R | C17: ='QRM - GG Audit (7-15-20)'!C18 -> 0 | E17: ='QRM - GG Audit (7-15-20)'!E18 -> 04 | F17: ='QRM - GG Audit (7-15-20)'!F18 -> 04 | G17: ='QRM - GG Audit (7-15-20)'!G18 -> 04 | I17: ='QRM - GG Audit (7-15-20)'!I18 -> 4 | J17: ='QRM - GG Audit (7-15-20)'!J18 -> Yes | K17: ='QRM - GG Audit (7-15-20)'!K18 -> 4 | M17: ='QRM - GG Audit (7-15-20)'!M18 -> Met | N17: ='QRM - GG Audit (7-15-20)'!N18 -> 0 | O17: ='QRM - GG Audit (7-15-20)'!O18 -> 0 | Q17: GG Self-Care Items | R17: ='QRM - GG Audit (7-15-20)'!B14 -> Don/doff footwear | S17: ='QRM - GG Audit (7-15-20)'!C14 -> 0 | U17: ='QRM - GG Audit (7-15-20)'!E14 -> 03 | V17: ='QRM - GG Audit (7-15-20)'!F14 -> 03 | W17: ='QRM - GG Audit (7-15-20)'!G14 -> 03 | X17: ='QRM - GG Audit (7-15-20)'!H14 -> 0 | Y17: ='QRM - GG Audit (7-15-20)'!I14 -> 3 | Z17: ='QRM - GG Audit (7-15-20)'!J14 -> Yes | AA17: ='QRM - GG Audit (7-15-20)'!K14 -> 3 | AB17: ='QRM - GG Audit (7-15-20)'!L14 -> 0 | ... AF17: ='QRM - GG Audit (7-15-20)'!P14 -> 0
B18: ='QRM - GG Audit (7-15-20)'!B19 -> Sit to Lying | C18: ='QRM - GG Audit (7-15-20)'!C19 -> 0 | E18: ='QRM - GG Audit (7-15-20)'!E19 -> 05 | F18: ='QRM - GG Audit (7-15-20)'!F19 -> 06 | G18: ='QRM - GG Audit (7-15-20)'!G19 -> 04 | I18: ='QRM - GG Audit (7-15-20)'!I19 -> 5 | J18: ='QRM - GG Audit (7-15-20)'!J19 -> Yes | K18: ='QRM - GG Audit (7-15-20)'!K19 -> 4 | M18: ='QRM - GG Audit (7-15-20)'!M19 -> UnMet | N18: ='QRM - GG Audit (7-15-20)'!N19 -> -1 | O18: ='QRM - GG Audit (7-15-20)'!O19 -> -0.029411765 | Q18: Self-Care Scores | S18: ='QRM - GG Audit (7-15-20)'!C15 -> 0 | U18: ='QRM - GG Audit (7-15-20)'!E15 -> Self-Care Scores | V18: ='QRM - GG Audit (7-15-20)'!F15 -> 0 | W18: ='QRM - GG Audit (7-15-20)'!G15 -> 0 | X18: ='QRM - GG Audit (7-15-20)'!H15 -> 0 | Y18: ='QRM - GG Audit (7-15-20)'!I15 -> 24 | Z18: ='QRM - GG Audit (7-15-20)'!J15 -> 7 | AA18: ='QRM - GG Audit (7-15-20)'!K15 -> 24 | AB18: ='QRM - GG Audit (7-15-20)'!L15 -> 0 | ... AF18: ='QRM - GG Audit (7-15-20)'!P15 -> 0
B19: ='QRM - GG Audit (7-15-20)'!B20 -> Lying to Sit | C19: ='QRM - GG Audit (7-15-20)'!C20 -> 0 | E19: ='QRM - GG Audit (7-15-20)'!E20 -> 04 | F19: ='QRM - GG Audit (7-15-20)'!F20 -> 04 | G19: ='QRM - GG Audit (7-15-20)'!G20 -> 04 | I19: ='QRM - GG Audit (7-15-20)'!I20 -> 4 | J19: ='QRM - GG Audit (7-15-20)'!J20 -> Yes | K19: ='QRM - GG Audit (7-15-20)'!K20 -> 4 | M19: ='QRM - GG Audit (7-15-20)'!M20 -> Met | N19: ='QRM - GG Audit (7-15-20)'!N20 -> 0 | O19: ='QRM - GG Audit (7-15-20)'!O20 -> 0 | Q19: % of Total Points | S19: ='QRM - GG Audit (7-15-20)'!C16 -> 0 | U19: ='QRM - GG Audit (7-15-20)'!E16 -> % of Total Points | V19: ='QRM - GG Audit (7-15-20)'!F16 -> 0 | W19: ='QRM - GG Audit (7-15-20)'!G16 -> 0 | X19: ='QRM - GG Audit (7-15-20)'!H16 -> 0 | Y19: ='QRM - GG Audit (7-15-20)'!I16 -> 0.57142857 | Z19: ='QRM - GG Audit (7-15-20)'!J16 -> 0 | AA19: ='QRM - GG Audit (7-15-20)'!K16 -> 0.57142857 | AB19: ='QRM - GG Audit (7-15-20)'!L16 -> 0 | ... AF19: ='QRM - GG Audit (7-15-20)'!P16 -> 0
B20: ='QRM - GG Audit (7-15-20)'!B21 -> Sit to Stand | C20: ='QRM - GG Audit (7-15-20)'!C21 -> 0 | E20: ='QRM - GG Audit (7-15-20)'!E21 -> 04 | F20: ='QRM - GG Audit (7-15-20)'!F21 -> 04 | G20: ='QRM - GG Audit (7-15-20)'!G21 -> 04 | I20: ='QRM - GG Audit (7-15-20)'!I21 -> 4 | J20: ='QRM - GG Audit (7-15-20)'!J21 -> Yes | K20: ='QRM - GG Audit (7-15-20)'!K21 -> 4 | M20: ='QRM - GG Audit (7-15-20)'!M21 -> Met | N20: ='QRM - GG Audit (7-15-20)'!N21 -> 0 | O20: ='QRM - GG Audit (7-15-20)'!O21 -> 0 | Q20: GG Mobility Items | R20: ='QRM - GG Audit (7-15-20)'!B17 -> GG Mobility Items | S20: ='QRM - GG Audit (7-15-20)'!C17 -> 0 | U20: ='QRM - GG Audit (7-15-20)'!E17 -> 0 | V20: ='QRM - GG Audit (7-15-20)'!F17 -> 0 | W20: ='QRM - GG Audit (7-15-20)'!G17 -> 0 | X20: ='QRM - GG Audit (7-15-20)'!H17 -> 0 | Y20: ='QRM - GG Audit (7-15-20)'!I17 -> 0 | Z20: ='QRM - GG Audit (7-15-20)'!J17 -> 0 | AA20: ='QRM - GG Audit (7-15-20)'!K17 -> 0 | AB20: ='QRM - GG Audit (7-15-20)'!L17 -> 0 | ... AF20: ='QRM - GG Audit (7-15-20)'!P17 -> 0
B21: ='QRM - GG Audit (7-15-20)'!B22 -> Bed to Chair T/f | C21: ='QRM - GG Audit (7-15-20)'!C22 -> 0 | E21: ='QRM - GG Audit (7-15-20)'!E22 -> 04 | F21: ='QRM - GG Audit (7-15-20)'!F22 -> 04 | G21: ='QRM - GG Audit (7-15-20)'!G22 -> 04 | I21: ='QRM - GG Audit (7-15-20)'!I22 -> 4 | J21: ='QRM - GG Audit (7-15-20)'!J22 -> Yes | K21: ='QRM - GG Audit (7-15-20)'!K22 -> 4 | M21: ='QRM - GG Audit (7-15-20)'!M22 -> Met | N21: ='QRM - GG Audit (7-15-20)'!N22 -> 0 | O21: ='QRM - GG Audit (7-15-20)'!O22 -> 0 | Q21: GG Mobility Items | R21: ='QRM - GG Audit (7-15-20)'!B18 -> Roll L/R | S21: ='QRM - GG Audit (7-15-20)'!C18 -> 0 | U21: ='QRM - GG Audit (7-15-20)'!E18 -> 04 | V21: ='QRM - GG Audit (7-15-20)'!F18 -> 04 | W21: ='QRM - GG Audit (7-15-20)'!G18 -> 04 | X21: ='QRM - GG Audit (7-15-20)'!H18 -> 0 | Y21: ='QRM - GG Audit (7-15-20)'!I18 -> 4 | Z21: ='QRM - GG Audit (7-15-20)'!J18 -> Yes | AA21: ='QRM - GG Audit (7-15-20)'!K18 -> 4 | AB21: ='QRM - GG Audit (7-15-20)'!L18 -> 0 | ... AF21: ='QRM - GG Audit (7-15-20)'!P18 -> 0
B22: ='QRM - GG Audit (7-15-20)'!B23 -> Toilet T/f | C22: ='QRM - GG Audit (7-15-20)'!C23 -> 0 | E22: ='QRM - GG Audit (7-15-20)'!E23 -> 03 | F22: ='QRM - GG Audit (7-15-20)'!F23 -> 03 | G22: ='QRM - GG Audit (7-15-20)'!G23 -> 03 | I22: ='QRM - GG Audit (7-15-20)'!I23 -> 3 | J22: ='QRM - GG Audit (7-15-20)'!J23 -> Yes | K22: ='QRM - GG Audit (7-15-20)'!K23 -> 3 | M22: ='QRM - GG Audit (7-15-20)'!M23 -> Met | N22: ='QRM - GG Audit (7-15-20)'!N23 -> 0 | O22: ='QRM - GG Audit (7-15-20)'!O23 -> 0 | Q22: GG Mobility Items | R22: ='QRM - GG Audit (7-15-20)'!B19 -> Sit to Lying | S22: ='QRM - GG Audit (7-15-20)'!C19 -> 0 | U22: ='QRM - GG Audit (7-15-20)'!E19 -> 05 | V22: ='QRM - GG Audit (7-15-20)'!F19 -> 06 | W22: ='QRM - GG Audit (7-15-20)'!G19 -> 04 | X22: ='QRM - GG Audit (7-15-20)'!H19 -> 0 | Y22: ='QRM - GG Audit (7-15-20)'!I19 -> 5 | Z22: ='QRM - GG Audit (7-15-20)'!J19 -> Yes | AA22: ='QRM - GG Audit (7-15-20)'!K19 -> 4 | AB22: ='QRM - GG Audit (7-15-20)'!L19 -> 0 | ... AF22: ='QRM - GG Audit (7-15-20)'!P19 -> 0
B23: ='QRM - GG Audit (7-15-20)'!B24 -> Car T/f | C23: ='QRM - GG Audit (7-15-20)'!C24 -> 0 | E23: ='QRM - GG Audit (7-15-20)'!E24 -> 10 | F23: ='QRM - GG Audit (7-15-20)'!F24 -> 10 | G23: ='QRM - GG Audit (7-15-20)'!G24 -> 09 | I23: ='QRM - GG Audit (7-15-20)'!I24 -> 1 | J23: ='QRM - GG Audit (7-15-20)'!J24 -> No | K23: ='QRM - GG Audit (7-15-20)'!K24 -> 1 | M23: ='QRM - GG Audit (7-15-20)'!M24 | N23: ='QRM - GG Audit (7-15-20)'!N24 -> 0 | O23: ='QRM - GG Audit (7-15-20)'!O24 -> 0 | Q23: GG Mobility Items | R23: ='QRM - GG Audit (7-15-20)'!B20 -> Lying to Sit | S23: ='QRM - GG Audit (7-15-20)'!C20 -> 0 | U23: ='QRM - GG Audit (7-15-20)'!E20 -> 04 | V23: ='QRM - GG Audit (7-15-20)'!F20 -> 04 | W23: ='QRM - GG Audit (7-15-20)'!G20 -> 04 | X23: ='QRM - GG Audit (7-15-20)'!H20 -> 0 | Y23: ='QRM - GG Audit (7-15-20)'!I20 -> 4 | Z23: ='QRM - GG Audit (7-15-20)'!J20 -> Yes | AA23: ='QRM - GG Audit (7-15-20)'!K20 -> 4 | AB23: ='QRM - GG Audit (7-15-20)'!L20 -> 0 | ... AF23: ='QRM - GG Audit (7-15-20)'!P20 -> 0
B24: ='QRM - GG Audit (7-15-20)'!B25 -> Walk 10 ft | C24: ='QRM - GG Audit (7-15-20)'!C25 -> 0 | E24: ='QRM - GG Audit (7-15-20)'!E25 -> 04 | F24: ='QRM - GG Audit (7-15-20)'!F25 -> 04 | G24: ='QRM - GG Audit (7-15-20)'!G25 -> 04 | I24: ='QRM - GG Audit (7-15-20)'!I25 -> 4 | J24: ='QRM - GG Audit (7-15-20)'!J25 -> Yes | K24: ='QRM - GG Audit (7-15-20)'!K25 -> 4 | M24: ='QRM - GG Audit (7-15-20)'!M25 -> Met | N24: ='QRM - GG Audit (7-15-20)'!N25 -> 0 | O24: ='QRM - GG Audit (7-15-20)'!O25 -> 0 | Q24: GG Mobility Items | R24: ='QRM - GG Audit (7-15-20)'!B21 -> Sit to Stand | S24: ='QRM - GG Audit (7-15-20)'!C21 -> 0 | U24: ='QRM - GG Audit (7-15-20)'!E21 -> 04 | V24: ='QRM - GG Audit (7-15-20)'!F21 -> 04 | W24: ='QRM - GG Audit (7-15-20)'!G21 -> 04 | X24: ='QRM - GG Audit (7-15-20)'!H21 -> 0 | Y24: ='QRM - GG Audit (7-15-20)'!I21 -> 4 | Z24: ='QRM - GG Audit (7-15-20)'!J21 -> Yes | AA24: ='QRM - GG Audit (7-15-20)'!K21 -> 4 | AB24: ='QRM - GG Audit (7-15-20)'!L21 -> 0 | ... AF24: ='QRM - GG Audit (7-15-20)'!P21 -> 0
B25: ='QRM - GG Audit (7-15-20)'!B26 -> Walk 50 ft w/ 2 turns | C25: ='QRM - GG Audit (7-15-20)'!C26 -> 0 | E25: ='QRM - GG Audit (7-15-20)'!E26 -> 04 | F25: ='QRM - GG Audit (7-15-20)'!F26 -> 04 | G25: ='QRM - GG Audit (7-15-20)'!G26 -> 04 | I25: ='QRM - GG Audit (7-15-20)'!I26 -> 4 | J25: ='QRM - GG Audit (7-15-20)'!J26 -> Yes | K25: ='QRM - GG Audit (7-15-20)'!K26 -> 4 | M25: ='QRM - GG Audit (7-15-20)'!M26 -> Met | N25: ='QRM - GG Audit (7-15-20)'!N26 -> 0 | O25: ='QRM - GG Audit (7-15-20)'!O26 -> 0 | Q25: GG Mobility Items | R25: ='QRM - GG Audit (7-15-20)'!B22 -> Bed to Chair T/f | S25: ='QRM - GG Audit (7-15-20)'!C22 -> 0 | U25: ='QRM - GG Audit (7-15-20)'!E22 -> 04 | V25: ='QRM - GG Audit (7-15-20)'!F22 -> 04 | W25: ='QRM - GG Audit (7-15-20)'!G22 -> 04 | X25: ='QRM - GG Audit (7-15-20)'!H22 -> 0 | Y25: ='QRM - GG Audit (7-15-20)'!I22 -> 4 | Z25: ='QRM - GG Audit (7-15-20)'!J22 -> Yes | AA25: ='QRM - GG Audit (7-15-20)'!K22 -> 4 | AB25: ='QRM - GG Audit (7-15-20)'!L22 -> 0 | ... AF25: ='QRM - GG Audit (7-15-20)'!P22 -> 0
B26: ='QRM - GG Audit (7-15-20)'!B27 -> Walk 150 ft | C26: ='QRM - GG Audit (7-15-20)'!C27 -> 0 | E26: ='QRM - GG Audit (7-15-20)'!E27 -> 04 | F26: ='QRM - GG Audit (7-15-20)'!F27 -> 04 | G26: ='QRM - GG Audit (7-15-20)'!G27 -> 04 | I26: ='QRM - GG Audit (7-15-20)'!I27 -> 4 | J26: ='QRM - GG Audit (7-15-20)'!J27 -> Yes | K26: ='QRM - GG Audit (7-15-20)'!K27 -> 4 | M26: ='QRM - GG Audit (7-15-20)'!M27 -> Met | N26: ='QRM - GG Audit (7-15-20)'!N27 -> 0 | O26: ='QRM - GG Audit (7-15-20)'!O27 -> 0 | Q26: GG Mobility Items | R26: ='QRM - GG Audit (7-15-20)'!B23 -> Toilet T/f | S26: ='QRM - GG Audit (7-15-20)'!C23 -> 0 | U26: ='QRM - GG Audit (7-15-20)'!E23 -> 03 | V26: ='QRM - GG Audit (7-15-20)'!F23 -> 03 | W26: ='QRM - GG Audit (7-15-20)'!G23 -> 03 | X26: ='QRM - GG Audit (7-15-20)'!H23 -> 0 | Y26: ='QRM - GG Audit (7-15-20)'!I23 -> 3 | Z26: ='QRM - GG Audit (7-15-20)'!J23 -> Yes | AA26: ='QRM - GG Audit (7-15-20)'!K23 -> 3 | AB26: ='QRM - GG Audit (7-15-20)'!L23 -> 0 | ... AF26: ='QRM - GG Audit (7-15-20)'!P23 -> 0
B27: ='QRM - GG Audit (7-15-20)'!B28 -> Walk 10 ft uneven surfaces | C27: ='QRM - GG Audit (7-15-20)'!C28 -> 0 | E27: ='QRM - GG Audit (7-15-20)'!E28 -> 04 | F27: ='QRM - GG Audit (7-15-20)'!F28 -> 04 | G27: ='QRM - GG Audit (7-15-20)'!G28 -> 09 | I27: ='QRM - GG Audit (7-15-20)'!I28 -> 4 | J27: ='QRM - GG Audit (7-15-20)'!J28 -> Yes | K27: ='QRM - GG Audit (7-15-20)'!K28 -> 1 | M27: ='QRM - GG Audit (7-15-20)'!M28 -> UnMet | N27: ='QRM - GG Audit (7-15-20)'!N28 -> -3 | O27: ='QRM - GG Audit (7-15-20)'!O28 -> -0.088235294 | Q27: GG Mobility Items | R27: ='QRM - GG Audit (7-15-20)'!B24 -> Car T/f | S27: ='QRM - GG Audit (7-15-20)'!C24 -> 0 | U27: ='QRM - GG Audit (7-15-20)'!E24 -> 10 | V27: ='QRM - GG Audit (7-15-20)'!F24 -> 10 | W27: ='QRM - GG Audit (7-15-20)'!G24 -> 09 | X27: ='QRM - GG Audit (7-15-20)'!H24 -> 0 | Y27: ='QRM - GG Audit (7-15-20)'!I24 -> 1 | Z27: ='QRM - GG Audit (7-15-20)'!J24 -> No | AA27: ='QRM - GG Audit (7-15-20)'!K24 -> 1 | AB27: ='QRM - GG Audit (7-15-20)'!L24 -> 0 | ... AF27: ='QRM - GG Audit (7-15-20)'!P24 -> 0
B28: ='QRM - GG Audit (7-15-20)'!B29 -> 1 curb/step | C28: ='QRM - GG Audit (7-15-20)'!C29 -> 0 | E28: ='QRM - GG Audit (7-15-20)'!E29 -> 03 | F28: ='QRM - GG Audit (7-15-20)'!F29 -> 04 | G28: ='QRM - GG Audit (7-15-20)'!G29 -> 09 | I28: ='QRM - GG Audit (7-15-20)'!I29 -> 3 | J28: ='QRM - GG Audit (7-15-20)'!J29 -> Yes | K28: ='QRM - GG Audit (7-15-20)'!K29 -> 1 | M28: ='QRM - GG Audit (7-15-20)'!M29 -> UnMet | N28: ='QRM - GG Audit (7-15-20)'!N29 -> -2 | O28: ='QRM - GG Audit (7-15-20)'!O29 -> -0.058823529 | Q28: GG Mobility Items | R28: ='QRM - GG Audit (7-15-20)'!B25 -> Walk 10 ft | S28: ='QRM - GG Audit (7-15-20)'!C25 -> 0 | U28: ='QRM - GG Audit (7-15-20)'!E25 -> 04 | V28: ='QRM - GG Audit (7-15-20)'!F25 -> 04 | W28: ='QRM - GG Audit (7-15-20)'!G25 -> 04 | X28: ='QRM - GG Audit (7-15-20)'!H25 -> 0 | Y28: ='QRM - GG Audit (7-15-20)'!I25 -> 4 | Z28: ='QRM - GG Audit (7-15-20)'!J25 -> Yes | AA28: ='QRM - GG Audit (7-15-20)'!K25 -> 4 | AB28: ='QRM - GG Audit (7-15-20)'!L25 -> 0 | ... AF28: ='QRM - GG Audit (7-15-20)'!P25 -> 0
B29: ='QRM - GG Audit (7-15-20)'!B30 -> 4 steps | C29: ='QRM - GG Audit (7-15-20)'!C30 -> 0 | E29: ='QRM - GG Audit (7-15-20)'!E30 -> 03 | F29: ='QRM - GG Audit (7-15-20)'!F30 -> 03 | G29: ='QRM - GG Audit (7-15-20)'!G30 -> 09 | I29: ='QRM - GG Audit (7-15-20)'!I30 -> 3 | J29: ='QRM - GG Audit (7-15-20)'!J30 -> Yes | K29: ='QRM - GG Audit (7-15-20)'!K30 -> 1 | M29: ='QRM - GG Audit (7-15-20)'!M30 -> UnMet | N29: ='QRM - GG Audit (7-15-20)'!N30 -> -2 | O29: ='QRM - GG Audit (7-15-20)'!O30 -> -0.058823529 | Q29: GG Mobility Items | R29: ='QRM - GG Audit (7-15-20)'!B26 -> Walk 50 ft w/ 2 turns | S29: ='QRM - GG Audit (7-15-20)'!C26 -> 0 | U29: ='QRM - GG Audit (7-15-20)'!E26 -> 04 | V29: ='QRM - GG Audit (7-15-20)'!F26 -> 04 | W29: ='QRM - GG Audit (7-15-20)'!G26 -> 04 | X29: ='QRM - GG Audit (7-15-20)'!H26 -> 0 | Y29: ='QRM - GG Audit (7-15-20)'!I26 -> 4 | Z29: ='QRM - GG Audit (7-15-20)'!J26 -> Yes | AA29: ='QRM - GG Audit (7-15-20)'!K26 -> 4 | AB29: ='QRM - GG Audit (7-15-20)'!L26 -> 0 | ... AF29: ='QRM - GG Audit (7-15-20)'!P26 -> 0
B30: ='QRM - GG Audit (7-15-20)'!B31 -> 12 steps | C30: ='QRM - GG Audit (7-15-20)'!C31 -> 0 | E30: ='QRM - GG Audit (7-15-20)'!E31 -> 10 | F30: ='QRM - GG Audit (7-15-20)'!F31 -> 03 | G30: ='QRM - GG Audit (7-15-20)'!G31 -> 09 | I30: ='QRM - GG Audit (7-15-20)'!I31 -> 1 | J30: ='QRM - GG Audit (7-15-20)'!J31 -> Yes | K30: ='QRM - GG Audit (7-15-20)'!K31 -> 1 | M30: ='QRM - GG Audit (7-15-20)'!M31 -> UnMet | N30: ='QRM - GG Audit (7-15-20)'!N31 -> 0 | O30: ='QRM - GG Audit (7-15-20)'!O31 -> 0 | Q30: GG Mobility Items | R30: ='QRM - GG Audit (7-15-20)'!B27 -> Walk 150 ft | S30: ='QRM - GG Audit (7-15-20)'!C27 -> 0 | U30: ='QRM - GG Audit (7-15-20)'!E27 -> 04 | V30: ='QRM - GG Audit (7-15-20)'!F27 -> 04 | W30: ='QRM - GG Audit (7-15-20)'!G27 -> 04 | X30: ='QRM - GG Audit (7-15-20)'!H27 -> 0 | Y30: ='QRM - GG Audit (7-15-20)'!I27 -> 4 | Z30: ='QRM - GG Audit (7-15-20)'!J27 -> Yes | AA30: ='QRM - GG Audit (7-15-20)'!K27 -> 4 | AB30: ='QRM - GG Audit (7-15-20)'!L27 -> 0 | ... AF30: ='QRM - GG Audit (7-15-20)'!P27 -> 0
B31: ='QRM - GG Audit (7-15-20)'!B32 -> Picking up object | C31: ='QRM - GG Audit (7-15-20)'!C32 -> 0 | E31: ='QRM - GG Audit (7-15-20)'!E32 -> 88 | F31: ='QRM - GG Audit (7-15-20)'!F32 -> 10 | G31: ='QRM - GG Audit (7-15-20)'!G32 -> 03 | I31: ='QRM - GG Audit (7-15-20)'!I32 -> 1 | J31: ='QRM - GG Audit (7-15-20)'!J32 -> No | K31: ='QRM - GG Audit (7-15-20)'!K32 -> 3 | M31: ='QRM - GG Audit (7-15-20)'!M32 | N31: ='QRM - GG Audit (7-15-20)'!N32 -> 2 | O31: ='QRM - GG Audit (7-15-20)'!O32 -> 0.058823529 | Q31: GG Mobility Items | R31: ='QRM - GG Audit (7-15-20)'!B28 -> Walk 10 ft uneven surfaces | S31: ='QRM - GG Audit (7-15-20)'!C28 -> 0 | U31: ='QRM - GG Audit (7-15-20)'!E28 -> 04 | V31: ='QRM - GG Audit (7-15-20)'!F28 -> 04 | W31: ='QRM - GG Audit (7-15-20)'!G28 -> 09 | X31: ='QRM - GG Audit (7-15-20)'!H28 -> 0 | Y31: ='QRM - GG Audit (7-15-20)'!I28 -> 4 | Z31: ='QRM - GG Audit (7-15-20)'!J28 -> Yes | AA31: ='QRM - GG Audit (7-15-20)'!K28 -> 1 | AB31: ='QRM - GG Audit (7-15-20)'!L28 -> 0 | ... AF31: ='QRM - GG Audit (7-15-20)'!P28 -> 0
... B33: ='QRM - GG Audit (7-15-20)'!B34 -> W/c 150 ft | C33: ='QRM - GG Audit (7-15-20)'!C34 -> 0 | E33: ='QRM - GG Audit (7-15-20)'!E34 -> 09 | F33: ='QRM - GG Audit (7-15-20)'!F34 -> 09 | G33: ='QRM - GG Audit (7-15-20)'!G34 -> 09 | I33: ='QRM - GG Audit (7-15-20)'!I34 -> 1 | J33: ='QRM - GG Audit (7-15-20)'!J34 -> No | K33: ='QRM - GG Audit (7-15-20)'!K34 -> 1 | M33: ='QRM - GG Audit (7-15-20)'!M34 | N33: ='QRM - GG Audit (7-15-20)'!N34 -> 0 | O33: ='QRM - GG Audit (7-15-20)'!O34 -> 0 | Q33: GG Mobility Items | R33: ='QRM - GG Audit (7-15-20)'!B30 -> 4 steps | S33: ='QRM - GG Audit (7-15-20)'!C30 -> 0 | U33: ='QRM - GG Audit (7-15-20)'!E30 -> 03 | V33: ='QRM - GG Audit (7-15-20)'!F30 -> 03 | W33: ='QRM - GG Audit (7-15-20)'!G30 -> 09 | X33: ='QRM - GG Audit (7-15-20)'!H30 -> 0 | Y33: ='QRM - GG Audit (7-15-20)'!I30 -> 3 | Z33: ='QRM - GG Audit (7-15-20)'!J30 -> Yes | AA33: ='QRM - GG Audit (7-15-20)'!K30 -> 1 | AB33: ='QRM - GG Audit (7-15-20)'!L30 -> 0 | ... AF33: ='QRM - GG Audit (7-15-20)'!P30 -> 0
E34: ='QRM - GG Audit (7-15-20)'!E35 -> Mobility Scores | F34: ='QRM - GG Audit (7-15-20)'!F35 -> 0 | G34: ='QRM - GG Audit (7-15-20)'!G35 -> 0 | I34: ='QRM - GG Audit (7-15-20)'!I35 -> 49 | J34: ='QRM - GG Audit (7-15-20)'!J35 -> 13 | K34: ='QRM - GG Audit (7-15-20)'!K35 -> 43 | M34: ='QRM - GG Audit (7-15-20)'!M35 -> 8 | N34: ='QRM - GG Audit (7-15-20)'!N35 -> -6 | O34: ='QRM - GG Audit (7-15-20)'!O35 -> -0.17647059 | Q34: GG Mobility Items | R34: ='QRM - GG Audit (7-15-20)'!B31 -> 12 steps | S34: ='QRM - GG Audit (7-15-20)'!C31 -> 0 | U34: ='QRM - GG Audit (7-15-20)'!E31 -> 10 | V34: ='QRM - GG Audit (7-15-20)'!F31 -> 03 | W34: ='QRM - GG Audit (7-15-20)'!G31 -> 09 | X34: ='QRM - GG Audit (7-15-20)'!H31 -> 0 | Y34: ='QRM - GG Audit (7-15-20)'!I31 -> 1 | Z34: ='QRM - GG Audit (7-15-20)'!J31 -> Yes | AA34: ='QRM - GG Audit (7-15-20)'!K31 -> 1 | AB34: ='QRM - GG Audit (7-15-20)'!L31 -> 0 | ... AF34: ='QRM - GG Audit (7-15-20)'!P31 -> 0
E35: ='QRM - GG Audit (7-15-20)'!E36 -> % of Total Points | F35: ='QRM - GG Audit (7-15-20)'!F36 -> 0 | G35: ='QRM - GG Audit (7-15-20)'!G36 -> 0 | I35: ='QRM - GG Audit (7-15-20)'!I36 -> 0.54444444 | J35: ='QRM - GG Audit (7-15-20)'!J36 -> 0 | K35: ='QRM - GG Audit (7-15-20)'!K36 -> 0.47777778 | M35: ='QRM - GG Audit (7-15-20)'!M36 -> 0.61538462 | N35: ='QRM - GG Audit (7-15-20)'!N36 -> 0 | O35: ='QRM - GG Audit (7-15-20)'!O36 -> 0 | Q35: GG Mobility Items | R35: ='QRM - GG Audit (7-15-20)'!B32 -> Picking up object | S35: ='QRM - GG Audit (7-15-20)'!C32 -> 0 | U35: ='QRM - GG Audit (7-15-20)'!E32 -> 88 | V35: ='QRM - GG Audit (7-15-20)'!F32 -> 10 | W35: ='QRM - GG Audit (7-15-20)'!G32 -> 03 | X35: ='QRM - GG Audit (7-15-20)'!H32 -> 0 | Y35: ='QRM - GG Audit (7-15-20)'!I32 -> 1 | Z35: ='QRM - GG Audit (7-15-20)'!J32 -> No | AA35: ='QRM - GG Audit (7-15-20)'!K32 -> 3 | AB35: ='QRM - GG Audit (7-15-20)'!L32 -> 0 | ... AF35: ='QRM - GG Audit (7-15-20)'!P32 -> 0
Q36: GG Mobility Items | R36: ='QRM - GG Audit (7-15-20)'!B33 -> W/c 50 ft w/ 2 turns | S36: ='QRM - GG Audit (7-15-20)'!C33 -> 0 | U36: ='QRM - GG Audit (7-15-20)'!E33 -> 09 | V36: ='QRM - GG Audit (7-15-20)'!F33 -> 09 | W36: ='QRM - GG Audit (7-15-20)'!G33 -> 09 | X36: ='QRM - GG Audit (7-15-20)'!H33 -> 0 | Y36: ='QRM - GG Audit (7-15-20)'!I33 -> 1 | Z36: ='QRM - GG Audit (7-15-20)'!J33 -> No | AA36: ='QRM - GG Audit (7-15-20)'!K33 -> 1 | AB36: ='QRM - GG Audit (7-15-20)'!L33 -> 0 | ... AF36: ='QRM - GG Audit (7-15-20)'!P33 -> 0
Q37: GG Mobility Items | R37: ='QRM - GG Audit (7-15-20)'!B34 -> W/c 150 ft | S37: ='QRM - GG Audit (7-15-20)'!C34 -> 0 | U37: ='QRM - GG Audit (7-15-20)'!E34 -> 09 | V37: ='QRM - GG Audit (7-15-20)'!F34 -> 09 | W37: ='QRM - GG Audit (7-15-20)'!G34 -> 09 | X37: ='QRM - GG Audit (7-15-20)'!H34 -> 0 | Y37: ='QRM - GG Audit (7-15-20)'!I34 -> 1 | Z37: ='QRM - GG Audit (7-15-20)'!J34 -> No | AA37: ='QRM - GG Audit (7-15-20)'!K34 -> 1 | AB37: ='QRM - GG Audit (7-15-20)'!L34 -> 0 | ... AF37: ='QRM - GG Audit (7-15-20)'!P34 -> 0
Q38: Mobility Scores | R38: ='QRM - GG Audit (7-15-20)'!B35 -> 0 | S38: ='QRM - GG Audit (7-15-20)'!C35 -> 0 | U38: ='QRM - GG Audit (7-15-20)'!E35 -> Mobility Scores | V38: ='QRM - GG Audit (7-15-20)'!F35 -> 0 | W38: ='QRM - GG Audit (7-15-20)'!G35 -> 0 | X38: ='QRM - GG Audit (7-15-20)'!H35 -> 0 | Y38: ='QRM - GG Audit (7-15-20)'!I35 -> 49 | Z38: ='QRM - GG Audit (7-15-20)'!J35 -> 13 | AA38: ='QRM - GG Audit (7-15-20)'!K35 -> 43 | AB38: ='QRM - GG Audit (7-15-20)'!L35 -> 0 | ... AF38: ='QRM - GG Audit (7-15-20)'!P35 -> 0
Q39: % of Total Points | R39: ='QRM - GG Audit (7-15-20)'!B36 -> 0 | S39: ='QRM - GG Audit (7-15-20)'!C36 -> 0 | U39: ='QRM - GG Audit (7-15-20)'!E36 -> % of Total Points | V39: ='QRM - GG Audit (7-15-20)'!F36 -> 0 | W39: ='QRM - GG Audit (7-15-20)'!G36 -> 0 | X39: ='QRM - GG Audit (7-15-20)'!H36 -> 0 | Y39: ='QRM - GG Audit (7-15-20)'!I36 -> 0.54444444 | Z39: ='QRM - GG Audit (7-15-20)'!J36 -> 0 | AA39: ='QRM - GG Audit (7-15-20)'!K36 -> 0.47777778 | AB39: ='QRM - GG Audit (7-15-20)'!L36 -> 0 | ... AF39: ='QRM - GG Audit (7-15-20)'!P36 -> 0
Q42: {=July_PatientInfo} -> Facility: | R42: Example Facility | S42: 0 | T42: 0 | U42: QRM ID: | V42: 0 | W42: 0 | X42: 22310 | Y42: 0 | Z42: Audit Date: | AA42: 0 | AB42: 0 | AC42: 44048 | AD42: 0
Q43: Patient's First Name: | R43: Case | S43: 0 | T43: 0 | U43: Patient's Last Name: | V43: 0 | W43: 0 | X43: Study | Y43: 0 | Z43: PDPM HIPPS: | AA43: 0 | AB43: 0 | AC43: KBXE1 | AD43: 0
Q44: Admit Date: | R44: 43994 | S44: 0 | T44: 0 | U44: Last Cover Day: | V44: 0 | W44: 0 | X44: 44027 | Y44: 0 | Z44: LOS: | AA44: 0 | AB44: 0 | AC44: 34 | AD44: 0
Q47: Facility | R47: QRM ID: | S47: Audit Date:
Q50: Patient First Name | R50: Patient Last Name | T50: Audit Date | U50: Admit Date | V50: Last Cover Day | W50: LOS | X50: PDPM HIPPS | Y50: I0020B Primary Reason for SNF Stay: ICD-10 Code, not words | Z50: GG Category | AA50: GG Sub-Category | AB50: GG Item | AC50: Admit Code | AD50: Goal Code | AE50: D/C Code | AF50: Admit Score | AG50: Goal Y/N | AH50: D/C Score | AI50: Goal Met | AJ50: Change Score | AK50: Change per Day
S54: PDPM HIPPS:
Q55: Patient's Last Name: | S55: LOS:
Q56: Last Cover Day:

Sheet Sheet7
B2: Facility | C2: QRM ID: | D2: Audit Date: | E2: Patient First Name | F2: Patient Last Name | G2: PDPM HIPPS | H2: Admit Date | I2: Last Cover Day | J2: LOS | L2: Admit Code | M2: Goal Code | N2: D/C Code | O2: Admit Score | P2: Goal Y/N | Q2: D/C Score | R2: Goal Met | S2: Change Score | T2: Change per Day | W2: Self Care Item | X2: Admit Code | Y2: Goal Code | Z2: D/C Code | AA2: Admit Score | AB2: Goal Y/N | AC2: D/C Score | AD2: Goal Met | AE2: Change Score | AF2: Change per Day
J3: Self-Care | K3: ='QRM - GG Audit (7-15-20)'!B6 -> GG Self-Care Items | L3: ='QRM - GG Audit (7-15-20)'!D6 -> 0 | M3: ='QRM - GG Audit (7-15-20)'!E6 -> Admit Code | N3: ='QRM - GG Audit (7-15-20)'!F6 -> Goal Code | O3: ='QRM - GG Audit (7-15-20)'!G6 -> D/C Code | P3: ='QRM - GG Audit (7-15-20)'!H6 -> 0 | Q3: ='QRM - GG Audit (7-15-20)'!I6 -> Admit Score | R3: ='QRM - GG Audit (7-15-20)'!J6 -> Goal Y/N | S3: ='QRM - GG Audit (7-15-20)'!K6 -> D/C Score | ... W3: ='QRM - GG Audit (7-15-20)'!O6 -> Change per Day
J4: Self-Care | K4: ='QRM - GG Audit (7-15-20)'!B7 -> GG Self-Care Items | L4: ='QRM - GG Audit (7-15-20)'!D7 -> 0 | M4: ='QRM - GG Audit (7-15-20)'!E7 -> 0 | N4: ='QRM - GG Audit (7-15-20)'!F7 -> 0 | O4: ='QRM - GG Audit (7-15-20)'!G7 -> 0 | P4: ='QRM - GG Audit (7-15-20)'!H7 -> 0 | Q4: ='QRM - GG Audit (7-15-20)'!I7 -> 0 | R4: ='QRM - GG Audit (7-15-20)'!J7 -> 0 | S4: ='QRM - GG Audit (7-15-20)'!K7 -> 0 | ... W4: ='QRM - GG Audit (7-15-20)'!O7 -> 0
J5: Self-Care | K5: ='QRM - GG Audit (7-15-20)'!B8 -> Eating | L5: ='QRM - GG Audit (7-15-20)'!D8 -> 0 | M5: ='QRM - GG Audit (7-15-20)'!E8 -> 05 | N5: ='QRM - GG Audit (7-15-20)'!F8 -> 06 | O5: ='QRM - GG Audit (7-15-20)'!G8 -> 05 | P5: ='QRM - GG Audit (7-15-20)'!H8 -> 0 | Q5: ='QRM - GG Audit (7-15-20)'!I8 -> 5 | R5: ='QRM - GG Audit (7-15-20)'!J8 -> Yes | S5: ='QRM - GG Audit (7-15-20)'!K8 -> 5 | ... W5: ='QRM - GG Audit (7-15-20)'!O8 -> 0
J6: Self-Care | K6: ='QRM - GG Audit (7-15-20)'!B9 -> Oral Hygiene | L6: ='QRM - GG Audit (7-15-20)'!D9 -> 0 | M6: ='QRM - GG Audit (7-15-20)'!E9 -> 05 | N6: ='QRM - GG Audit (7-15-20)'!F9 -> 06 | O6: ='QRM - GG Audit (7-15-20)'!G9 -> 04 | P6: ='QRM - GG Audit (7-15-20)'!H9 -> 0 | Q6: ='QRM - GG Audit (7-15-20)'!I9 -> 5 | R6: ='QRM - GG Audit (7-15-20)'!J9 -> Yes | S6: ='QRM - GG Audit (7-15-20)'!K9 -> 4 | ... W6: ='QRM - GG Audit (7-15-20)'!O9 -> -0.029411765
J7: Self-Care | K7: ='QRM - GG Audit (7-15-20)'!B10 -> Toilet Hygiene | L7: ='QRM - GG Audit (7-15-20)'!D10 -> 0 | M7: ='QRM - GG Audit (7-15-20)'!E10 -> 03 | N7: ='QRM - GG Audit (7-15-20)'!F10 -> 06 | O7: ='QRM - GG Audit (7-15-20)'!G10 -> 03 | P7: ='QRM - GG Audit (7-15-20)'!H10 -> 0 | Q7: ='QRM - GG Audit (7-15-20)'!I10 -> 3 | R7: ='QRM - GG Audit (7-15-20)'!J10 -> Yes | S7: ='QRM - GG Audit (7-15-20)'!K10 -> 3 | ... W7: ='QRM - GG Audit (7-15-20)'!O10 -> 0
J8: Self-Care | K8: ='QRM - GG Audit (7-15-20)'!B11 -> Shower/bathe self | L8: ='QRM - GG Audit (7-15-20)'!D11 -> 0 | M8: ='QRM - GG Audit (7-15-20)'!E11 -> 03 | N8: ='QRM - GG Audit (7-15-20)'!F11 -> 03 | O8: ='QRM - GG Audit (7-15-20)'!G11 -> 03 | P8: ='QRM - GG Audit (7-15-20)'!H11 -> 0 | Q8: ='QRM - GG Audit (7-15-20)'!I11 -> 3 | R8: ='QRM - GG Audit (7-15-20)'!J11 -> Yes | S8: ='QRM - GG Audit (7-15-20)'!K11 -> 3 | ... W8: ='QRM - GG Audit (7-15-20)'!O11 -> 0
J9: Self-Care | K9: ='QRM - GG Audit (7-15-20)'!B12 -> UBD | L9: ='QRM - GG Audit (7-15-20)'!D12 -> 0 | M9: ='QRM - GG Audit (7-15-20)'!E12 -> 03 | N9: ='QRM - GG Audit (7-15-20)'!F12 -> 03 | O9: ='QRM - GG Audit (7-15-20)'!G12 -> 03 | P9: ='QRM - GG Audit (7-15-20)'!H12 -> 0 | Q9: ='QRM - GG Audit (7-15-20)'!I12 -> 3 | R9: ='QRM - GG Audit (7-15-20)'!J12 -> Yes | S9: ='QRM - GG Audit (7-15-20)'!K12 -> 3 | ... W9: ='QRM - GG Audit (7-15-20)'!O12 -> 0
J10: Self-Care | K10: ='QRM - GG Audit (7-15-20)'!B13 -> LBD | L10: ='QRM - GG Audit (7-15-20)'!D13 -> 0 | M10: ='QRM - GG Audit (7-15-20)'!E13 -> 02 | N10: ='QRM - GG Audit (7-15-20)'!F13 -> 03 | O10: ='QRM - GG Audit (7-15-20)'!G13 -> 03 | P10: ='QRM - GG Audit (7-15-20)'!H13 -> 0 | Q10: ='QRM - GG Audit (7-15-20)'!I13 -> 2 | R10: ='QRM - GG Audit (7-15-20)'!J13 -> Yes | S10: ='QRM - GG Audit (7-15-20)'!K13 -> 3 | ... W10: ='QRM - GG Audit (7-15-20)'!O13 -> 0.029411765
J11: Self-Care | K11: ='QRM - GG Audit (7-15-20)'!B14 -> Don/doff footwear | L11: ='QRM - GG Audit (7-15-20)'!D14 -> 0 | M11: ='QRM - GG Audit (7-15-20)'!E14 -> 03 | N11: ='QRM - GG Audit (7-15-20)'!F14 -> 03 | O11: ='QRM - GG Audit (7-15-20)'!G14 -> 03 | P11: ='QRM - GG Audit (7-15-20)'!H14 -> 0 | Q11: ='QRM - GG Audit (7-15-20)'!I14 -> 3 | R11: ='QRM - GG Audit (7-15-20)'!J14 -> Yes | S11: ='QRM - GG Audit (7-15-20)'!K14 -> 3 | ... W11: ='QRM - GG Audit (7-15-20)'!O14 -> 0
J12: Self-Care Scores | K12: Scores | L12: ='QRM - GG Audit (7-15-20)'!D15 -> 0 | M12: ='QRM - GG Audit (7-15-20)'!E15 -> Self-Care Scores | N12: ='QRM - GG Audit (7-15-20)'!F15 -> 0 | O12: ='QRM - GG Audit (7-15-20)'!G15 -> 0 | P12: ='QRM - GG Audit (7-15-20)'!H15 -> 0 | Q12: ='QRM - GG Audit (7-15-20)'!I15 -> 24 | R12: ='QRM - GG Audit (7-15-20)'!J15 -> 7 | S12: ='QRM - GG Audit (7-15-20)'!K15 -> 24 | ... W12: ='QRM - GG Audit (7-15-20)'!O15 -> 0
J13: Self-Care Scores | K13: % of Total Points | L13: ='QRM - GG Audit (7-15-20)'!D16 -> 0 | M13: ='QRM - GG Audit (7-15-20)'!E16 -> % of Total Points | N13: ='QRM - GG Audit (7-15-20)'!F16 -> 0 | O13: ='QRM - GG Audit (7-15-20)'!G16 -> 0 | P13: ='QRM - GG Audit (7-15-20)'!H16 -> 0 | Q13: ='QRM - GG Audit (7-15-20)'!I16 -> 0.57142857 | R13: ='QRM - GG Audit (7-15-20)'!J16 -> 0 | S13: ='QRM - GG Audit (7-15-20)'!K16 -> 0.57142857 | ... W13: ='QRM - GG Audit (7-15-20)'!O16 -> 0
K14: ='QRM - GG Audit (7-15-20)'!B17 -> GG Mobility Items | L14: ='QRM - GG Audit (7-15-20)'!D17 -> 0 | M14: ='QRM - GG Audit (7-15-20)'!E17 -> 0 | N14: ='QRM - GG Audit (7-15-20)'!F17 -> 0 | O14: ='QRM - GG Audit (7-15-20)'!G17 -> 0 | P14: ='QRM - GG Audit (7-15-20)'!H17 -> 0 | Q14: ='QRM - GG Audit (7-15-20)'!I17 -> 0 | R14: ='QRM - GG Audit (7-15-20)'!J17 -> 0 | S14: ='QRM - GG Audit (7-15-20)'!K17 -> 0 | ... U14: ='QRM - GG Audit (7-15-20)'!M17 -> 0
J15: Mobility Items | K15: ='QRM - GG Audit (7-15-20)'!B18 -> Roll L/R | L15: ='QRM - GG Audit (7-15-20)'!D18 -> 0 | M15: ='QRM - GG Audit (7-15-20)'!E18 -> 04 | N15: ='QRM - GG Audit (7-15-20)'!F18 -> 04 | O15: ='QRM - GG Audit (7-15-20)'!G18 -> 04 | P15: ='QRM - GG Audit (7-15-20)'!H18 -> 0 | Q15: ='QRM - GG Audit (7-15-20)'!I18 -> 4 | R15: ='QRM - GG Audit (7-15-20)'!J18 -> Yes | S15: ='QRM - GG Audit (7-15-20)'!K18 -> 4 | ... W15: ='QRM - GG Audit (7-15-20)'!O18 -> 0
J16: Mobility Items | K16: ='QRM - GG Audit (7-15-20)'!B19 -> Sit to Lying | L16: ='QRM - GG Audit (7-15-20)'!D19 -> 0 | M16: ='QRM - GG Audit (7-15-20)'!E19 -> 05 | N16: ='QRM - GG Audit (7-15-20)'!F19 -> 06 | O16: ='QRM - GG Audit (7-15-20)'!G19 -> 04 | P16: ='QRM - GG Audit (7-15-20)'!H19 -> 0 | Q16: ='QRM - GG Audit (7-15-20)'!I19 -> 5 | R16: ='QRM - GG Audit (7-15-20)'!J19 -> Yes | S16: ='QRM - GG Audit (7-15-20)'!K19 -> 4 | ... W16: ='QRM - GG Audit (7-15-20)'!O19 -> -0.029411765
J17: Mobility Items | K17: ='QRM - GG Audit (7-15-20)'!B20 -> Lying to Sit | L17: ='QRM - GG Audit (7-15-20)'!D20 -> 0 | M17: ='QRM - GG Audit (7-15-20)'!E20 -> 04 | N17: ='QRM - GG Audit (7-15-20)'!F20 -> 04 | O17: ='QRM - GG Audit (7-15-20)'!G20 -> 04 | P17: ='QRM - GG Audit (7-15-20)'!H20 -> 0 | Q17: ='QRM - GG Audit (7-15-20)'!I20 -> 4 | R17: ='QRM - GG Audit (7-15-20)'!J20 -> Yes | S17: ='QRM - GG Audit (7-15-20)'!K20 -> 4 | ... W17: ='QRM - GG Audit (7-15-20)'!O20 -> 0
J18: Mobility Items | K18: ='QRM - GG Audit (7-15-20)'!B21 -> Sit to Stand | L18: ='QRM - GG Audit (7-15-20)'!D21 -> 0 | M18: ='QRM - GG Audit (7-15-20)'!E21 -> 04 | N18: ='QRM - GG Audit (7-15-20)'!F21 -> 04 | O18: ='QRM - GG Audit (7-15-20)'!G21 -> 04 | P18: ='QRM - GG Audit (7-15-20)'!H21 -> 0 | Q18: ='QRM - GG Audit (7-15-20)'!I21 -> 4 | R18: ='QRM - GG Audit (7-15-20)'!J21 -> Yes | S18: ='QRM - GG Audit (7-15-20)'!K21 -> 4 | ... W18: ='QRM - GG Audit (7-15-20)'!O21 -> 0
J19: Mobility Items | K19: ='QRM - GG Audit (7-15-20)'!B22 -> Bed to Chair T/f | L19: ='QRM - GG Audit (7-15-20)'!D22 -> 0 | M19: ='QRM - GG Audit (7-15-20)'!E22 -> 04 | N19: ='QRM - GG Audit (7-15-20)'!F22 -> 04 | O19: ='QRM - GG Audit (7-15-20)'!G22 -> 04 | P19: ='QRM - GG Audit (7-15-20)'!H22 -> 0 | Q19: ='QRM - GG Audit (7-15-20)'!I22 -> 4 | R19: ='QRM - GG Audit (7-15-20)'!J22 -> Yes | S19: ='QRM - GG Audit (7-15-20)'!K22 -> 4 | ... W19: ='QRM - GG Audit (7-15-20)'!O22 -> 0
J20: Mobility Items | K20: ='QRM - GG Audit (7-15-20)'!B23 -> Toilet T/f | L20: ='QRM - GG Audit (7-15-20)'!D23 -> 0 | M20: ='QRM - GG Audit (7-15-20)'!E23 -> 03 | N20: ='QRM - GG Audit (7-15-20)'!F23 -> 03 | O20: ='QRM - GG Audit (7-15-20)'!G23 -> 03 | P20: ='QRM - GG Audit (7-15-20)'!H23 -> 0 | Q20: ='QRM - GG Audit (7-15-20)'!I23 -> 3 | R20: ='QRM - GG Audit (7-15-20)'!J23 -> Yes | S20: ='QRM - GG Audit (7-15-20)'!K23 -> 3 | ... W20: ='QRM - GG Audit (7-15-20)'!O23 -> 0
J21: Mobility Items | K21: ='QRM - GG Audit (7-15-20)'!B24 -> Car T/f | L21: ='QRM - GG Audit (7-15-20)'!D24 -> 0 | M21: ='QRM - GG Audit (7-15-20)'!E24 -> 10 | N21: ='QRM - GG Audit (7-15-20)'!F24 -> 10 | O21: ='QRM - GG Audit (7-15-20)'!G24 -> 09 | P21: ='QRM - GG Audit (7-15-20)'!H24 -> 0 | Q21: ='QRM - GG Audit (7-15-20)'!I24 -> 1 | R21: ='QRM - GG Audit (7-15-20)'!J24 -> No | S21: ='QRM - GG Audit (7-15-20)'!K24 -> 1 | ... W21: ='QRM - GG Audit (7-15-20)'!O24 -> 0
J22: Mobility Items | K22: ='QRM - GG Audit (7-15-20)'!B25 -> Walk 10 ft | L22: ='QRM - GG Audit (7-15-20)'!D25 -> 0 | M22: ='QRM - GG Audit (7-15-20)'!E25 -> 04 | N22: ='QRM - GG Audit (7-15-20)'!F25 -> 04 | O22: ='QRM - GG Audit (7-15-20)'!G25 -> 04 | P22: ='QRM - GG Audit (7-15-20)'!H25 -> 0 | Q22: ='QRM - GG Audit (7-15-20)'!I25 -> 4 | R22: ='QRM - GG Audit (7-15-20)'!J25 -> Yes | S22: ='QRM - GG Audit (7-15-20)'!K25 -> 4 | ... W22: ='QRM - GG Audit (7-15-20)'!O25 -> 0
J23: Mobility Items | K23: ='QRM - GG Audit (7-15-20)'!B26 -> Walk 50 ft w/ 2 turns | L23: ='QRM - GG Audit (7-15-20)'!D26 -> 0 | M23: ='QRM - GG Audit (7-15-20)'!E26 -> 04 | N23: ='QRM - GG Audit (7-15-20)'!F26 -> 04 | O23: ='QRM - GG Audit (7-15-20)'!G26 -> 04 | P23: ='QRM - GG Audit (7-15-20)'!H26 -> 0 | Q23: ='QRM - GG Audit (7-15-20)'!I26 -> 4 | R23: ='QRM - GG Audit (7-15-20)'!J26 -> Yes | S23: ='QRM - GG Audit (7-15-20)'!K26 -> 4 | ... W23: ='QRM - GG Audit (7-15-20)'!O26 -> 0
J24: Mobility Items | K24: ='QRM - GG Audit (7-15-20)'!B27 -> Walk 150 ft | L24: ='QRM - GG Audit (7-15-20)'!D27 -> 0 | M24: ='QRM - GG Audit (7-15-20)'!E27 -> 04 | N24: ='QRM - GG Audit (7-15-20)'!F27 -> 04 | O24: ='QRM - GG Audit (7-15-20)'!G27 -> 04 | P24: ='QRM - GG Audit (7-15-20)'!H27 -> 0 | Q24: ='QRM - GG Audit (7-15-20)'!I27 -> 4 | R24: ='QRM - GG Audit (7-15-20)'!J27 -> Yes | S24: ='QRM - GG Audit (7-15-20)'!K27 -> 4 | ... W24: ='QRM - GG Audit (7-15-20)'!O27 -> 0
J25: Mobility Items | K25: ='QRM - GG Audit (7-15-20)'!B28 -> Walk 10 ft uneven surfaces | L25: ='QRM - GG Audit (7-15-20)'!D28 -> 0 | M25: ='QRM - GG Audit (7-15-20)'!E28 -> 04 | N25: ='QRM - GG Audit (7-15-20)'!F28 -> 04 | O25: ='QRM - GG Audit (7-15-20)'!G28 -> 09 | P25: ='QRM - GG Audit (7-15-20)'!H28 -> 0 | Q25: ='QRM - GG Audit (7-15-20)'!I28 -> 4 | R25: ='QRM - GG Audit (7-15-20)'!J28 -> Yes | S25: ='QRM - GG Audit (7-15-20)'!K28 -> 1 | ... W25: ='QRM - GG Audit (7-15-20)'!O28 -> -0.088235294
J26: Mobility Items | K26: ='QRM - GG Audit (7-15-20)'!B29 -> 1 curb/step | L26: ='QRM - GG Audit (7-15-20)'!D29 -> 0 | M26: ='QRM - GG Audit (7-15-20)'!E29 -> 03 | N26: ='QRM - GG Audit (7-15-20)'!F29 -> 04 | O26: ='QRM - GG Audit (7-15-20)'!G29 -> 09 | P26: ='QRM - GG Audit (7-15-20)'!H29 -> 0 | Q26: ='QRM - GG Audit (7-15-20)'!I29 -> 3 | R26: ='QRM - GG Audit (7-15-20)'!J29 -> Yes | S26: ='QRM - GG Audit (7-15-20)'!K29 -> 1 | ... W26: ='QRM - GG Audit (7-15-20)'!O29 -> -0.058823529
... J31: Mobility Items | K31: ='QRM - GG Audit (7-15-20)'!B34 -> W/c 150 ft | L31: ='QRM - GG Audit (7-15-20)'!D34 -> 0 | M31: ='QRM - GG Audit (7-15-20)'!E34 -> 09 | N31: ='QRM - GG Audit (7-15-20)'!F34 -> 09 | O31: ='QRM - GG Audit (7-15-20)'!G34 -> 09 | P31: ='QRM - GG Audit (7-15-20)'!H34 -> 0 | Q31: ='QRM - GG Audit (7-15-20)'!I34 -> 1 | R31: ='QRM - GG Audit (7-15-20)'!J34 -> No | S31: ='QRM - GG Audit (7-15-20)'!K34 -> 1 | ... W31: ='QRM - GG Audit (7-15-20)'!O34 -> 0
J32: Mobility Scores | K32: Mobility Scores | L32: ='QRM - GG Audit (7-15-20)'!D35 -> 0 | M32: ='QRM - GG Audit (7-15-20)'!E35 -> Mobility Scores | N32: ='QRM - GG Audit (7-15-20)'!F35 -> 0 | O32: ='QRM - GG Audit (7-15-20)'!G35 -> 0 | P32: ='QRM - GG Audit (7-15-20)'!H35 -> 0 | Q32: ='QRM - GG Audit (7-15-20)'!I35 -> 49 | R32: ='QRM - GG Audit (7-15-20)'!J35 -> 13 | S32: ='QRM - GG Audit (7-15-20)'!K35 -> 43 | ... W32: ='QRM - GG Audit (7-15-20)'!O35 -> -0.17647059
J33: % of Total Points | K33: % of Total Points | L33: ='QRM - GG Audit (7-15-20)'!D36 -> 0 | M33: ='QRM - GG Audit (7-15-20)'!E36 -> % of Total Points | N33: ='QRM - GG Audit (7-15-20)'!F36 -> 0 | O33: ='QRM - GG Audit (7-15-20)'!G36 -> 0 | P33: ='QRM - GG Audit (7-15-20)'!H36 -> 0 | Q33: ='QRM - GG Audit (7-15-20)'!I36 -> 0.54444444 | R33: ='QRM - GG Audit (7-15-20)'!J36 -> 0 | S33: ='QRM - GG Audit (7-15-20)'!K36 -> 0.47777778 | ... W33: ='QRM - GG Audit (7-15-20)'!O36 -> 0

Sheet SL
A1: QRM ID
A2: 10201
A3: 10202
A4: 10301
A5: 10401
A6: 10402
A7: 10403
A8: 10404
A9: 10405
A10: 10406
A11: 10407
A12: 20301
A13: 20901
... A57: 22701
A58: 22702
A59: 22703
A60: 22704
A61: 22705
A62: 22706
A63: 22707
A64: 22708
A65: 22709
A66: 22710
A67: 22711
A68: 22712
A69: 22713
A70: 22714
A71: 22715
A72: 22716
A73: 22717
A74: 22718
A75: 22719
A76: 22720
A77: 22721
A78: 22722
A79: 22801
A80: 22802
A81: 22901
A82: 22902
A83: 30101
A84: 30301
A85: 30302
A86: 30401
A87: 30402
A88: 30403
A89: 30404
A90: 30405
A91: 30406
A92: 30407
A93: 30408
A94: 30409
... A144: 40701
A145: 40702
A146: 40703
A147: 40704
A148: 40705
A149: 40706
A150: 40707
A151: 40708
A152: 40709
A153: 40710
A154: 40711
A155: 40712
A156: 40713
A157: 40714
A158: 40715
A159: 40716
A160: 40717
A161: 40718
A162: 40719
A163: 40720
A164: 40721
A165: 40722
A166: 40723
A167: 40724
A168: 40725
A169: 40726
A170: 40727
A171: 40728
A172: 40729
A173: 40730
A174: 40731
A175: 40732
A176: 40733
A177: 40734
A178: 40735
A179: 40736
A180: 40737
A181: 40738
A182: 40739
A183: 40740
A184: 40741
A185: 40742
A186: 40743
A187: 40744
A188: 40745
A189: 40746
A190: 40747
A191: 40748
A192: 40749
...
