Workbook
Name Admit_Date: 'CSS-RU'!$AJ$2
Name Audit_Date: 'CSS-RU'!$AB$4
Name Audit_Link: 'CSS-RU'!$Z$2:$AM$36
Name CSS_General: 'CSS-RU'!$A$2:$I$3
Name CSS_RU: 'CSS-RU'!$A$2:$U$30
Name CSS_RU_NoSum: 'CSS-RU'!$A$2:$U$26
Name CSS_Summary: 'CSS-RU'!$A$32:$R$36
Name CSSNEW1: 'CSS-RU NEW'!$A$1:$V$37
Name CSSNEW2: 'CSS-RU NEW'!$O$1:$AZ$13
Name Facility: 'CSS-RU'!$AB$2
Name July_15_Form_Results: 'QRM - GG Audit (7-15-20)'!$B$6:$AA$36
Name July_15_Mobility: 'QRM - GG Audit (7-15-20)'!$B$17:$O$36
Name July_15_Patient_1Line: 'QRM - GG Audit (7-15-20)'!$S$6:$AA$7
Name July_15_Patient_Info: 'QRM - GG Audit (7-15-20)'!$B$2:$O$4
Name July_15_SelfCare: 'QRM - GG Audit (7-15-20)'!$B$6:$O$16
Name July_PatientInfo: 'QRM - GG Audit (7-15-20)'!$B$2:$O$4
Name Mobility: 'CSS-RU'!$Z$17:$AM$36
Name Patient: 'CSS-RU'!$AB$3
Name Self_Care: 'CSS-RU'!$AA$6:$AN$16

Sheet QRM - GG Audit (7-15-20)
AH1: 1
B2: Facility: | C2: Example Facility | F2: QRM ID: | I2: 22310 | K2: Audit Date: | N2: 44048
A3: Patient's First Name: | B3: Patient's First Name: | C3: Case | F3: Patient's Last Name: | I3: Study | K3: PDPM HIPPS: | N3: KBXE1
B4: Admit Date: | C4: 43994 | F4: Last Cover Day: | I4: 44027 | K4: LOS: | N4: =IF(OR(C4="",C4=""),"",_xlfn.DAYS(I4,C4)+1) -> 34
AG5: Change per Day = Change Score/LOS
B6: GG Self-Care Items | E6: Admit Code | F6: Goal Code | G6: D/C Code | I6: Admit Score | J6: Goal Y/N | K6: D/C Score | M6: Goal Met | N6: Change Score | O6: Change per Day | R6: Version | S6: Facility | T6: QRM ID | U6: Audit Date | V6: Patient's First Name | W6: Patient's Last Name | X6: PDPM HIPPS | Y6: Admit Date | Z6: Last Cover Day | AA6: LOS | AD6: Crosswalk
B7: GG Self-Care Items | R7: Updated 7/15/20 | S7: =C2 -> Example Facility | T7: =I2 -> 22310 | U7: =N2 -> 44048 | V7: =C3 -> Case | W7: =I3 -> Study | X7: =N3 -> KBXE1 | Y7: =C4 -> 43994 | Z7: =I4 -> 44027 | AA7: =N4 -> 34 | AD7: GG Code | AE7: GG Score
B8: Eating | E8: 05 | F8: 06 | G8: 05 | I8: =IFERROR(INDEX($AE$8:$AE$18,MATCH(E8,$AD$8:$AD$18,0)),"") -> 5 | J8: =IFERROR(INDEX($AF$8:$AF$18,MATCH(F8,$AD$8:$AD$18,0)),"") -> Yes | K8: =IFERROR(INDEX($AE$8:$AE$18,MATCH(G8,$AD$8:$AD$18,0)),"") -> 5 | M8: =IFERROR(IF(OR(F8="-Dash",E8="",F8="",G8="",J8="No"),"",IF(OR(K8<AG8,G8=$AD$14,G8=$AD$15,G8=$AD$16,G8=$AD$17,G8=$AD$18),"UnMet","Met")),"") -> UnMet | N8: =IFERROR((K8-I8),"") -> 0 | O8: =IFERROR(N8/$N$4,"") -> 0 | AD8: 01 | AE8: 1 | AF8: Yes | AG8: =IFERROR(INDEX($AE$8:$AE$18,MATCH(F8,$AD$8:$AD$18,0)),"") -> 6
B9: Oral Hygiene | E9: 05 | F9: 06 | G9: 04 | I9: =IFERROR(INDEX($AE$8:$AE$18,MATCH(E9,$AD$8:$AD$18,0)),"") -> 5 | J9: =IFERROR(INDEX($AF$8:$AF$18,MATCH(F9,$AD$8:$AD$18,0)),"") -> Yes | K9: =IFERROR(INDEX($AE$8:$AE$18,MATCH(G9,$AD$8:$AD$18,0)),"") -> 4 | M9: =IFERROR(IF(OR(F9="-Dash",E9="",F9="",G9="",J9="No"),"",IF(OR(K9<AG9,G9=$AD$14,G9=$AD$15,G9=$AD$16,G9=$AD$17,G9=$AD$18),"UnMet","Met")),"") -> UnMet | N9: =IFERROR((K9-I9),"") -> -1 | O9: =IFERROR(N9/$N$4,"") -> -0.029411765 | AD9: 02 | AE9: 2 | AF9: Yes | AG9: =IFERROR(INDEX($AE$8:$AE$18,MATCH(F9,$AD$8:$AD$18,0)),"") -> 6
B10: Toilet Hygiene | E10: 03 | F10: 06 | G10: 03 | I10: =IFERROR(INDEX($AE$8:$AE$18,MATCH(E10,$AD$8:$AD$18,0)),"") -> 3 | J10: =IFERROR(INDEX($AF$8:$AF$18,MATCH(F10,$AD$8:$AD$18,0)),"") -> Yes | K10: =IFERROR(INDEX($AE$8:$AE$18,MATCH(G10,$AD$8:$AD$18,0)),"") -> 3 | M10: =IFERROR(IF(OR(F10="-Dash",E10="",F10="",G10="",J10="No"),"",IF(OR(K10<AG10,G10=$AD$14,G10=$AD$15,G10=$AD$16,G10=$AD$17,G10=$AD$18),"UnMet","Met")),"") -> UnMet | N10: =IFERROR((K10-I10),"") -> 0 | O10: =IFERROR(N10/$N$4,"") -> 0 | AD10: 03 | AE10: 3 | AF10: Yes | AG10: =IFERROR(INDEX($AE$8:$AE$18,MATCH(F10,$AD$8:$AD$18,0)),"") -> 6
B11: Shower/bathe self | E11: 03 | F11: 03 | G11: 03 | I11: =IFERROR(INDEX($AE$8:$AE$18,MATCH(E11,$AD$8:$AD$18,0)),"") -> 3 | J11: =IFERROR(INDEX($AF$8:$AF$18,MATCH(F11,$AD$8:$AD$18,0)),"") -> Yes | K11: =IFERROR(INDEX($AE$8:$AE$18,MATCH(G11,$AD$8:$AD$18,0)),"") -> 3 | M11: =IFERROR(IF(OR(F11="-Dash",E11="",F11="",G11="",J11="No"),"",IF(OR(K11<AG11,G11=$AD$14,G11=$AD$15,G11=$AD$16,G11=$AD$17,G11=$AD$18),"UnMet","Met")),"") -> Met | N11: =IFERROR((K11-I11),"") -> 0 | O11: =IFERROR(N11/$N$4,"") -> 0 | AD11: 04 | AE11: 4 | AF11: Yes | AG11: =IFERROR(INDEX($AE$8:$AE$18,MATCH(F11,$AD$8:$AD$18,0)),"") -> 3
B12: UBD | E12: 03 | F12: 03 | G12: 03 | I12: =IFERROR(INDEX($AE$8:$AE$18,MATCH(E12,$AD$8:$AD$18,0)),"") -> 3 | J12: =IFERROR(INDEX($AF$8:$AF$18,MATCH(F12,$AD$8:$AD$18,0)),"") -> Yes | K12: =IFERROR(INDEX($AE$8:$AE$18,MATCH(G12,$AD$8:$AD$18,0)),"") -> 3 | M12: =IFERROR(IF(OR(F12="-Dash",E12="",F12="",G12="",J12="No"),"",IF(OR(K12<AG12,G12=$AD$14,G12=$AD$15,G12=$AD$16,G12=$AD$17,G12=$AD$18),"UnMet","Met")),"") -> Met | N12: =IFERROR((K12-I12),"") -> 0 | O12: =IFERROR(N12/$N$4,"") -> 0 | AD12: 05 | AE12: 5 | AF12: Yes | AG12: =IFERROR(INDEX($AE$8:$AE$18,MATCH(F12,$AD$8:$AD$18,0)),"") -> 3
B13: LBD | E13: 02 | F13: 03 | G13: 03 | I13: =IFERROR(INDEX($AE$8:$AE$18,MATCH(E13,$AD$8:$AD$18,0)),"") -> 2 | J13: =IFERROR(INDEX($AF$8:$AF$18,MATCH(F13,$AD$8:$AD$18,0)),"") -> Yes | K13: =IFERROR(INDEX($AE$8:$AE$18,MATCH(G13,$AD$8:$AD$18,0)),"") -> 3 | M13: =IFERROR(IF(OR(F13="-Dash",E13="",F13="",G13="",J13="No"),"",IF(OR(K13<AG13,G13=$AD$14,G13=$AD$15,G13=$AD$16,G13=$AD$17,G13=$AD$18),"UnMet","Met")),"") -> Met | N13: =IFERROR((K13-I13),"") -> 1 | O13: =IFERROR(N13/$N$4,"") -> 0.029411765 | AD13: 06 | AE13: 6 | AF13: Yes | AG13: =IFERROR(INDEX($AE$8:$AE$18,MATCH(F13,$AD$8:$AD$18,0)),"") -> 3
B14: Don/doff footwear | E14: 03 | F14: 03 | G14: 03 | I14: =IFERROR(INDEX($AE$8:$AE$18,MATCH(E14,$AD$8:$AD$18,0)),"") -> 3 | J14: =IFERROR(INDEX($AF$8:$AF$18,MATCH(F14,$AD$8:$AD$18,0)),"") -> Yes | K14: =IFERROR(INDEX($AE$8:$AE$18,MATCH(G14,$AD$8:$AD$18,0)),"") -> 3 | M14: =IFERROR(IF(OR(F14="-Dash",E14="",F14="",G14="",J14="No"),"",IF(OR(K14<AG14,G14=$AD$14,G14=$AD$15,G14=$AD$16,G14=$AD$17,G14=$AD$18),"UnMet","Met")),"") -> Met | N14: =IFERROR((K14-I14),"") -> 0 | O14: =IFERROR(N14/$N$4,"") -> 0 | AD14: 07 | AE14: 1 | AF14: No | AG14: =IFERROR(INDEX($AE$8:$AE$18,MATCH(F14,$AD$8:$AD$18,0)),"") -> 3 | BA14: LOS:
B15: GG Mobility Items | E15: Self-Care Scores | I15: =SUM(I8:I14) -> 24 | J15: =COUNTIF(J8:J14,"Yes") -> 7 | K15: =SUM(K8:K14) -> 24 | M15: =COUNTIF(M8:M14,"Met") -> 4 | N15: =IFERROR(K15-I15,"") -> 0 | O15: =IFERROR(N15/N4,"") -> 0 | AD15: 09 | AE15: 1 | AF15: No
B16: GG Mobility Items | E16: % of Total Points | I16: =IFERROR((I15/42),"") -> 0.57142857 | K16: =IFERROR((K15/42),"") -> 0.57142857 | M16: =IFERROR($M$15/SUM(COUNTIF($M$8:$M$14,"Met")+COUNTIF($M$8:$M$14,"UnMet")),"") -> 0.57142857 | AD16: 88 | AE16: 1 | AF16: No
B17: GG Mobility Items | AD17: 10 | AE17: 1 | AF17: No
B18: Roll L/R | E18: 04 | F18: 04 | G18: 04 | I18: =IFERROR(INDEX($AE$8:$AE$18,MATCH(E18,$AD$8:$AD$18,0)),"") -> 4 | J18: =IFERROR(INDEX($AF$8:$AF$18,MATCH(F18,$AD$8:$AD$18,0)),"") -> Yes | K18: =IFERROR(INDEX($AE$8:$AE$18,MATCH(G18,$AD$8:$AD$18,0)),"") -> 4 | M18: =IFERROR(IF(OR(F18="-Dash",E18="",F18="",G18="",J18="No"),"",IF(OR(K18<AG18,G18=$AD$14,G18=$AD$15,G18=$AD$16,G18=$AD$17,G18=$AD$18),"UnMet","Met")),"") -> Met | N18: =IFERROR((K18-I18),"") -> 0 | O18: =IFERROR(N18/$N$4,"") -> 0 | AD18: -Dash | AE18: 1 | AF18: No | AG18: =IFERROR(INDEX($AE$8:$AE$18,MATCH(F18,$AD$8:$AD$18,0)),"") -> 4
B19: Sit to Lying | E19: 05 | F19: 06 | G19: 04 | I19: =IFERROR(INDEX($AE$8:$AE$18,MATCH(E19,$AD$8:$AD$18,0)),"") -> 5 | J19: =IFERROR(INDEX($AF$8:$AF$18,MATCH(F19,$AD$8:$AD$18,0)),"") -> Yes | K19: =IFERROR(INDEX($AE$8:$AE$18,MATCH(G19,$AD$8:$AD$18,0)),"") -> 4 | M19: =IFERROR(IF(OR(F19="-Dash",E19="",F19="",G19="",J19="No"),"",IF(OR(K19<AG19,G19=$AD$14,G19=$AD$15,G19=$AD$16,G19=$AD$17,G19=$AD$18),"UnMet","Met")),"") -> UnMet | N19: =IFERROR((K19-I19),"") -> -1 | O19: =IFERROR(N19/$N$4,"") -> -0.029411765 | AD19: Goals | AG19: =IFERROR(INDEX($AE$8:$AE$18,MATCH(F19,$AD$8:$AD$18,0)),"") -> 6
B20: Lying to Sit | E20: 04 | F20: 04 | G20: 04 | I20: =IFERROR(INDEX($AE$8:$AE$18,MATCH(E20,$AD$8:$AD$18,0)),"") -> 4 | J20: =IFERROR(INDEX($AF$8:$AF$18,MATCH(F20,$AD$8:$AD$18,0)),"") -> Yes | K20: =IFERROR(INDEX($AE$8:$AE$18,MATCH(G20,$AD$8:$AD$18,0)),"") -> 4 | M20: =IFERROR(IF(OR(F20="-Dash",E20="",F20="",G20="",J20="No"),"",IF(OR(K20<AG20,G20=$AD$14,G20=$AD$15,G20=$AD$16,G20=$AD$17,G20=$AD$18),"UnMet","Met")),"") -> Met | N20: =IFERROR((K20-I20),"") -> 0 | O20: =IFERROR(N20/$N$4,"") -> 0 | AD20: Goal Status | AE20: Goal Status Score | AG20: =IFERROR(INDEX($AE$8:$AE$18,MATCH(F20,$AD$8:$AD$18,0)),"") -> 4
B21: Sit to Stand | E21: 04 | F21: 04 | G21: 04 | I21: =IFERROR(INDEX($AE$8:$AE$18,MATCH(E21,$AD$8:$AD$18,0)),"") -> 4 | J21: =IFERROR(INDEX($AF$8:$AF$18,MATCH(F21,$AD$8:$AD$18,0)),"") -> Yes | K21: =IFERROR(INDEX($AE$8:$AE$18,MATCH(G21,$AD$8:$AD$18,0)),"") -> 4 | M21: =IFERROR(IF(OR(F21="-Dash",E21="",F21="",G21="",J21="No"),"",IF(OR(K21<AG21,G21=$AD$14,G21=$AD$15,G21=$AD$16,G21=$AD$17,G21=$AD$18),"UnMet","Met")),"") -> Met | N21: =IFERROR((K21-I21),"") -> 0 | O21: =IFERROR(N21/$N$4,"") -> 0 | AD21: Met | AE21: 1 | AG21: =IFERROR(INDEX($AE$8:$AE$18,MATCH(F21,$AD$8:$AD$18,0)),"") -> 4
B22: Bed to Chair T/f | E22: 04 | F22: 04 | G22: 04 | I22: =IFERROR(INDEX($AE$8:$AE$18,MATCH(E22,$AD$8:$AD$18,0)),"") -> 4 | J22: =IFERROR(INDEX($AF$8:$AF$18,MATCH(F22,$AD$8:$AD$18,0)),"") -> Yes | K22: =IFERROR(INDEX($AE$8:$AE$18,MATCH(G22,$AD$8:$AD$18,0)),"") -> 4 | M22: =IFERROR(IF(OR(F22="-Dash",E22="",F22="",G22="",J22="No"),"",IF(OR(K22<AG22,G22=$AD$14,G22=$AD$15,G22=$AD$16,G22=$AD$17,G22=$AD$18),"UnMet","Met")),"") -> Met | N22: =IFERROR((K22-I22),"") -> 0 | O22: =IFERROR(N22/$N$4,"") -> 0 | AD22: Unmet | AE22: 0 | AG22: =IFERROR(INDEX($AE$8:$AE$18,MATCH(F22,$AD$8:$AD$18,0)),"") -> 4
B23: Toilet T/f | E23: 03 | F23: 03 | G23: 03 | I23: =IFERROR(INDEX($AE$8:$AE$18,MATCH(E23,$AD$8:$AD$18,0)),"") -> 3 | J23: =IFERROR(INDEX($AF$8:$AF$18,MATCH(F23,$AD$8:$AD$18,0)),"") -> Yes | K23: =IFERROR(INDEX($AE$8:$AE$18,MATCH(G23,$AD$8:$AD$18,0)),"") -> 3 | M23: =IFERROR(IF(OR(F23="-Dash",E23="",F23="",G23="",J23="No"),"",IF(OR(K23<AG23,G23=$AD$14,G23=$AD$15,G23=$AD$16,G23=$AD$17,G23=$AD$18),"UnMet","Met")),"") -> Met | N23: =IFERROR((K23-I23),"") -> 0 | O23: =IFERROR(N23/$N$4,"") -> 0 | AD23: If Goal Code is - | AE23: n/a | AG23: =IFERROR(INDEX($AE$8:$AE$18,MATCH(F23,$AD$8:$AD$18,0)),"") -> 3
B24: Car T/f | E24: 10 | F24: 10 | G24: 09 | I24: =IFERROR(INDEX($AE$8:$AE$18,MATCH(E24,$AD$8:$AD$18,0)),"") -> 1 | J24: =IFERROR(INDEX($AF$8:$AF$18,MATCH(F24,$AD$8:$AD$18,0)),"") -> No | K24: =IFERROR(INDEX($AE$8:$AE$18,MATCH(G24,$AD$8:$AD$18,0)),"") -> 1 | M24: =IFERROR(IF(OR(F24="-Dash",E24="",F24="",G24="",J24="No"),"",IF(OR(K24<AG24,G24=$AD$14,G24=$AD$15,G24=$AD$16,G24=$AD$17,G24=$AD$18),"UnMet","Met")),"") | N24: =IFERROR((K24-I24),"") -> 0 | O24: =IFERROR(N24/$N$4,"") -> 0 | AD24: GG Summary | AG24: =IFERROR(INDEX($AE$8:$AE$18,MATCH(F24,$AD$8:$AD$18,0)),"") -> 1
B25: Walk 10 ft | E25: 04 | F25: 04 | G25: 04 | I25: =IFERROR(INDEX($AE$8:$AE$18,MATCH(E25,$AD$8:$AD$18,0)),"") -> 4 | J25: =IFERROR(INDEX($AF$8:$AF$18,MATCH(F25,$AD$8:$AD$18,0)),"") -> Yes | K25: =IFERROR(INDEX($AE$8:$AE$18,MATCH(G25,$AD$8:$AD$18,0)),"") -> 4 | M25: =IFERROR(IF(OR(F25="-Dash",E25="",F25="",G25="",J25="No"),"",IF(OR(K25<AG25,G25=$AD$14,G25=$AD$15,G25=$AD$16,G25=$AD$17,G25=$AD$18),"UnMet","Met")),"") -> Met | N25: =IFERROR((K25-I25),"") -> 0 | O25: =IFERROR(N25/$N$4,"") -> 0 | AD25: Goal Status | AE25: Goal Status Score | AG25: =IFERROR(INDEX($AE$8:$AE$18,MATCH(F25,$AD$8:$AD$18,0)),"") -> 4
B26: Walk 50 ft w/ 2 turns | E26: 04 | F26: 04 | G26: 04 | I26: =IFERROR(INDEX($AE$8:$AE$18,MATCH(E26,$AD$8:$AD$18,0)),"") -> 4 | J26: =IFERROR(INDEX($AF$8:$AF$18,MATCH(F26,$AD$8:$AD$18,0)),"") -> Yes | K26: =IFERROR(INDEX($AE$8:$AE$18,MATCH(G26,$AD$8:$AD$18,0)),"") -> 4 | M26: =IFERROR(IF(OR(F26="-Dash",E26="",F26="",G26="",J26="No"),"",IF(OR(K26<AG26,G26=$AD$14,G26=$AD$15,G26=$AD$16,G26=$AD$17,G26=$AD$18),"UnMet","Met")),"") -> Met | N26: =IFERROR((K26-I26),"") -> 0 | O26: =IFERROR(N26/$N$4,"") -> 0 | AD26: Met | AE26: 1 | AG26: =IFERROR(INDEX($AE$8:$AE$18,MATCH(F26,$AD$8:$AD$18,0)),"") -> 4
B27: Walk 150 ft | E27: 04 | F27: 04 | G27: 04 | I27: =IFERROR(INDEX($AE$8:$AE$18,MATCH(E27,$AD$8:$AD$18,0)),"") -> 4 | J27: =IFERROR(INDEX($AF$8:$AF$18,MATCH(F27,$AD$8:$AD$18,0)),"") -> Yes | K27: =IFERROR(INDEX($AE$8:$AE$18,MATCH(G27,$AD$8:$AD$18,0)),"") -> 4 | M27: =IFERROR(IF(OR(F27="-Dash",E27="",F27="",G27="",J27="No"),"",IF(OR(K27<AG27,G27=$AD$14,G27=$AD$15,G27=$AD$16,G27=$AD$17,G27=$AD$18),"UnMet","Met")),"") -> Met | N27: =IFERROR((K27-I27),"") -> 0 | O27: =IFERROR(N27/$N$4,"") -> 0 | AD27: Unmet | AE27: 0 | AG27: =IFERROR(INDEX($AE$8:$AE$18,MATCH(F27,$AD$8:$AD$18,0)),"") -> 4
B28: Walk 10 ft uneven surfaces | E28: 04 | F28: 04 | G28: 09 | I28: =IFERROR(INDEX($AE$8:$AE$18,MATCH(E28,$AD$8:$AD$18,0)),"") -> 4 | J28: =IFERROR(INDEX($AF$8:$AF$18,MATCH(F28,$AD$8:$AD$18,0)),"") -> Yes | K28: =IFERROR(INDEX($AE$8:$AE$18,MATCH(G28,$AD$8:$AD$18,0)),"") -> 1 | M28: =IFERROR(IF(OR(F28="-Dash",E28="",F28="",G28="",J28="No"),"",IF(OR(K28<AG28,G28=$AD$14,G28=$AD$15,G28=$AD$16,G28=$AD$17,G28=$AD$18),"UnMet","Met")),"") -> UnMet | N28: =IFERROR((K28-I28),"") -> -3 | O28: =IFERROR(N28/$N$4,"") -> -0.088235294 | AD28: n/a | AG28: =IFERROR(INDEX($AE$8:$AE$18,MATCH(F28,$AD$8:$AD$18,0)),"") -> 4
B29: 1 curb/step | E29: 03 | F29: 04 | G29: 09 | I29: =IFERROR(INDEX($AE$8:$AE$18,MATCH(E29,$AD$8:$AD$18,0)),"") -> 3 | J29: =IFERROR(INDEX($AF$8:$AF$18,MATCH(F29,$AD$8:$AD$18,0)),"") -> Yes | K29: =IFERROR(INDEX($AE$8:$AE$18,MATCH(G29,$AD$8:$AD$18,0)),"") -> 1 | M29: =IFERROR(IF(OR(F29="-Dash",E29="",F29="",G29="",J29="No"),"",IF(OR(K29<AG29,G29=$AD$14,G29=$AD$15,G29=$AD$16,G29=$AD$17,G29=$AD$18),"UnMet","Met")),"") -> UnMet | N29: =IFERROR((K29-I29),"") -> -2 | O29: =IFERROR(N29/$N$4,"") -> -0.058823529 | AG29: =IFERROR(INDEX($AE$8:$AE$18,MATCH(F29,$AD$8:$AD$18,0)),"") -> 4
B30: 4 steps | E30: 03 | F30: 03 | G30: 09 | I30: =IFERROR(INDEX($AE$8:$AE$18,MATCH(E30,$AD$8:$AD$18,0)),"") -> 3 | J30: =IFERROR(INDEX($AF$8:$AF$18,MATCH(F30,$AD$8:$AD$18,0)),"") -> Yes | K30: =IFERROR(INDEX($AE$8:$AE$18,MATCH(G30,$AD$8:$AD$18,0)),"") -> 1 | M30: =IFERROR(IF(OR(F30="-Dash",E30="",F30="",G30="",J30="No"),"",IF(OR(K30<AG30,G30=$AD$14,G30=$AD$15,G30=$AD$16,G30=$AD$17,G30=$AD$18),"UnMet","Met")),"") -> UnMet | N30: =IFERROR((K30-I30),"") -> -2 | O30: =IFERROR(N30/$N$4,"") -> -0.058823529 | AG30: =IFERROR(INDEX($AE$8:$AE$18,MATCH(F30,$AD$8:$AD$18,0)),"") -> 3
B31: 12 steps | E31: 10 | F31: 03 | G31: 09 | I31: =IFERROR(INDEX($AE$8:$AE$18,MATCH(E31,$AD$8:$AD$18,0)),"") -> 1 | J31: =IFERROR(INDEX($AF$8:$AF$18,MATCH(F31,$AD$8:$AD$18,0)),"") -> Yes | K31: =IFERROR(INDEX($AE$8:$AE$18,MATCH(G31,$AD$8:$AD$18,0)),"") -> 1 | M31: =IFERROR(IF(OR(F31="-Dash",E31="",F31="",G31="",J31="No"),"",IF(OR(K31<AG31,G31=$AD$14,G31=$AD$15,G31=$AD$16,G31=$AD$17,G31=$AD$18),"UnMet","Met")),"") -> UnMet | N31: =IFERROR((K31-I31),"") -> 0 | O31: =IFERROR(N31/$N$4,"") -> 0 | AD31: Goals Met/Unmet Flow | AG31: =IFERROR(INDEX($AE$8:$AE$18,MATCH(F31,$AD$8:$AD$18,0)),"") -> 3
B32: Picking up object | E32: 88 | F32: 10 | G32: 03 | I32: =IFERROR(INDEX($AE$8:$AE$18,MATCH(E32,$AD$8:$AD$18,0)),"") -> 1 | J32: =IFERROR(INDEX($AF$8:$AF$18,MATCH(F32,$AD$8:$AD$18,0)),"") -> No | K32: =IFERROR(INDEX($AE$8:$AE$18,MATCH(G32,$AD$8:$AD$18,0)),"") -> 3 | M32: =IFERROR(IF(OR(F32="-Dash",E32="",F32="",G32="",J32="No"),"",IF(OR(K32<AG32,G32=$AD$14,G32=$AD$15,G32=$AD$16,G32=$AD$17,G32=$AD$18),"UnMet","Met")),"") | N32: =IFERROR((K32-I32),"") -> 2 | O32: =IFERROR(N32/$N$4,"") -> 0.058823529 | AD32: Goal Unmet | AG32: =IFERROR(INDEX($AE$8:$AE$18,MATCH(F32,$AD$8:$AD$18,0)),"") -> 1
B33: W/c 50 ft w/ 2 turns | E33: 09 | F33: 09 | G33: 09 | I33: =IFERROR(INDEX($AE$8:$AE$18,MATCH(E33,$AD$8:$AD$18,0)),"") -> 1 | J33: =IFERROR(INDEX($AF$8:$AF$18,MATCH(F33,$AD$8:$AD$18,0)),"") -> No | K33: =IFERROR(INDEX($AE$8:$AE$18,MATCH(G33,$AD$8:$AD$18,0)),"") -> 1 | M33: =IFERROR(IF(OR(F33="-Dash",E33="",F33="",G33="",J33="No"),"",IF(OR(K33<AG33,G33=$AD$14,G33=$AD$15,G33=$AD$16,G33=$AD$17,G33=$AD$18),"UnMet","Met")),"") | N33: =IFERROR((K33-I33),"") -> 0 | O33: =IFERROR(N33/$N$4,"") -> 0 | AD33: 1) D/C Score is Less than Goal; or | AG33: =IFERROR(INDEX($AE$8:$AE$18,MATCH(F33,$AD$8:$AD$18,0)),"") -> 1
B34: W/c 150 ft | E34: 09 | F34: 09 | G34: 09 | I34: =IFERROR(INDEX($AE$8:$AE$18,MATCH(E34,$AD$8:$AD$18,0)),"") -> 1 | J34: =IFERROR(INDEX($AF$8:$AF$18,MATCH(F34,$AD$8:$AD$18,0)),"") -> No | K34: =IFERROR(INDEX($AE$8:$AE$18,MATCH(G34,$AD$8:$AD$18,0)),"") -> 1 | M34: =IFERROR(IF(OR(F34="-Dash",E34="",F34="",G34="",J34="No"),"",IF(OR(K34<AG34,G34=$AD$14,G34=$AD$15,G34=$AD$16,G34=$AD$17,G34=$AD$18),"UnMet","Met")),"") | N34: =IFERROR((K34-I34),"") -> 0 | O34: =IFERROR(N34/$N$4,"") -> 0 | AD34: 2) D/C Code is Red Option (5 red above) | AG34: =IFERROR(INDEX($AE$8:$AE$18,MATCH(F34,$AD$8:$AD$18,0)),"") -> 1
E35: Mobility Scores | I35: =SUM(I18:I32) -> 49 | J35: =COUNTIF(J18:J34,"Yes") -> 13 | K35: =SUM(K18:L32) -> 43 | M35: =COUNTIF(M18:M34,"Met") -> 8 | N35: =IFERROR(K35-I35,"") -> -6 | O35: =IFERROR(N35/$N$4,"") -> -0.17647059
E36: % of Total Points | I36: =IFERROR(($I$35/90),"") -> 0.54444444 | K36: =IFERROR(($K$35/90),"") -> 0.47777778 | M36: =IFERROR($M$35/SUM(COUNTIF(M18:M34,"Met")+COUNTIF(M18:M34,"UnMet")),"") -> 0.61538462

Sheet QRM - GG Audit
AF1: 1
B2: Facility: | C2: ='QRM - GG Audit (7-15-20)'!C2 -> Example Facility | I2: Admit Date: | K2: ='QRM - GG Audit (7-15-20)'!N2 -> 44048 | M2: Last Cover Day: | O2: ='QRM - GG Audit (7-15-20)'!I4 -> 44027
B3: Patient: | C3: ='QRM - GG Audit (7-15-20)'!C3&" "&'QRM - GG Audit (7-15-20)'!I3 -> Case Study | I3: LOS: | K3: =IF(OR(K2="",O2=""),"",_xlfn.DAYS(O2,K2)+1) -> -20 | M3: PDPM HIPPS: | O3: ='QRM - GG Audit (3)'!N3
A4: Auditor: | B4: Audit Date: | C4: ='QRM - GG Audit (7-15-20)'!C4 -> 43994 | I4: QRM ID # | N4: ='QRM - GG Audit (7-15-20)'!I2 -> 22310
AE5: Change per Day = Change Score/LOS
E6: Admit Code | F6: Goal Code | G6: D/C Code | I6: Admit Score | J6: Goal Y/N | K6: D/C Score | M6: Goal Met | N6: Change Score | O6: Change per Day | AB6: Crosswalk
B7: GG Self-Care Items | AB7: GG Code | AC7: GG Score
B8: Eating | E8: ='QRM - GG Audit (7-15-20)'!E8 -> 05 | F8: ='QRM - GG Audit (7-15-20)'!F8 -> 06 | G8: ='QRM - GG Audit (7-15-20)'!G8 -> 05 | H8: ='QRM - GG Audit (7-15-20)'!H8 -> 0 | I8: ='QRM - GG Audit (7-15-20)'!I8 -> 5 | J8: ='QRM - GG Audit (7-15-20)'!J8 -> Yes | K8: ='QRM - GG Audit (7-15-20)'!K8 -> 5 | L8: ='QRM - GG Audit (7-15-20)'!L8 -> 0 | ... O8: ='QRM - GG Audit (7-15-20)'!O8 -> 0 | AB8: 01 | AC8: 1 | AD8: Yes | AE8: =IFERROR(INDEX($AC$8:$AC$18,MATCH(F8,$AB$8:$AB$18,0)),"") -> 6
B9: Oral Hygiene | E9: ='QRM - GG Audit (7-15-20)'!E9 -> 05 | F9: ='QRM - GG Audit (7-15-20)'!F9 -> 06 | G9: ='QRM - GG Audit (7-15-20)'!G9 -> 04 | H9: ='QRM - GG Audit (7-15-20)'!H9 -> 0 | I9: ='QRM - GG Audit (7-15-20)'!I9 -> 5 | J9: ='QRM - GG Audit (7-15-20)'!J9 -> Yes | K9: ='QRM - GG Audit (7-15-20)'!K9 -> 4 | L9: ='QRM - GG Audit (7-15-20)'!L9 -> 0 | ... O9: ='QRM - GG Audit (7-15-20)'!O9 -> -0.029411765 | AB9: 02 | AC9: 2 | AD9: Yes | AE9: =IFERROR(INDEX($AC$8:$AC$18,MATCH(F9,$AB$8:$AB$18,0)),"") -> 6
B10: Toilet Hygiene | E10: ='QRM - GG Audit (7-15-20)'!E10 -> 03 | F10: ='QRM - GG Audit (7-15-20)'!F10 -> 06 | G10: ='QRM - GG Audit (7-15-20)'!G10 -> 03 | H10: ='QRM - GG Audit (7-15-20)'!H10 -> 0 | I10: ='QRM - GG Audit (7-15-20)'!I10 -> 3 | J10: ='QRM - GG Audit (7-15-20)'!J10 -> Yes | K10: ='QRM - GG Audit (7-15-20)'!K10 -> 3 | L10: ='QRM - GG Audit (7-15-20)'!L10 -> 0 | ... O10: ='QRM - GG Audit (7-15-20)'!O10 -> 0 | AB10: 03 | AC10: 3 | AD10: Yes | AE10: =IFERROR(INDEX($AC$8:$AC$18,MATCH(F10,$AB$8:$AB$18,0)),"") -> 6
B11: Shower/bathe self | E11: ='QRM - GG Audit (7-15-20)'!E11 -> 03 | F11: ='QRM - GG Audit (7-15-20)'!F11 -> 03 | G11: ='QRM - GG Audit (7-15-20)'!G11 -> 03 | H11: ='QRM - GG Audit (7-15-20)'!H11 -> 0 | I11: ='QRM - GG Audit (7-15-20)'!I11 -> 3 | J11: ='QRM - GG Audit (7-15-20)'!J11 -> Yes | K11: ='QRM - GG Audit (7-15-20)'!K11 -> 3 | L11: ='QRM - GG Audit (7-15-20)'!L11 -> 0 | ... O11: ='QRM - GG Audit (7-15-20)'!O11 -> 0 | AB11: 04 | AC11: 4 | AD11: Yes | AE11: =IFERROR(INDEX($AC$8:$AC$18,MATCH(F11,$AB$8:$AB$18,0)),"") -> 3
B12: UBD | E12: ='QRM - GG Audit (7-15-20)'!E12 -> 03 | F12: ='QRM - GG Audit (7-15-20)'!F12 -> 03 | G12: ='QRM - GG Audit (7-15-20)'!G12 -> 03 | H12: ='QRM - GG Audit (7-15-20)'!H12 -> 0 | I12: ='QRM - GG Audit (7-15-20)'!I12 -> 3 | J12: ='QRM - GG Audit (7-15-20)'!J12 -> Yes | K12: ='QRM - GG Audit (7-15-20)'!K12 -> 3 | L12: ='QRM - GG Audit (7-15-20)'!L12 -> 0 | ... O12: ='QRM - GG Audit (7-15-20)'!O12 -> 0 | AB12: 05 | AC12: 5 | AD12: Yes | AE12: =IFERROR(INDEX($AC$8:$AC$18,MATCH(F12,$AB$8:$AB$18,0)),"") -> 3
B13: LBD | E13: ='QRM - GG Audit (7-15-20)'!E13 -> 02 | F13: ='QRM - GG Audit (7-15-20)'!F13 -> 03 | G13: ='QRM - GG Audit (7-15-20)'!G13 -> 03 | H13: ='QRM - GG Audit (7-15-20)'!H13 -> 0 | I13: ='QRM - GG Audit (7-15-20)'!I13 -> 2 | J13: ='QRM - GG Audit (7-15-20)'!J13 -> Yes | K13: ='QRM - GG Audit (7-15-20)'!K13 -> 3 | L13: ='QRM - GG Audit (7-15-20)'!L13 -> 0 | ... O13: ='QRM - GG Audit (7-15-20)'!O13 -> 0.029411765 | AB13: 06 | AC13: 6 | AD13: Yes | AE13: =IFERROR(INDEX($AC$8:$AC$18,MATCH(F13,$AB$8:$AB$18,0)),"") -> 3
B14: Don/doff footwear | E14: ='QRM - GG Audit (7-15-20)'!E14 -> 03 | F14: ='QRM - GG Audit (7-15-20)'!F14 -> 03 | G14: ='QRM - GG Audit (7-15-20)'!G14 -> 03 | H14: ='QRM - GG Audit (7-15-20)'!H14 -> 0 | I14: ='QRM - GG Audit (7-15-20)'!I14 -> 3 | J14: ='QRM - GG Audit (7-15-20)'!J14 -> Yes | K14: ='QRM - GG Audit (7-15-20)'!K14 -> 3 | L14: ='QRM - GG Audit (7-15-20)'!L14 -> 0 | ... O14: ='QRM - GG Audit (7-15-20)'!O14 -> 0 | AB14: 07 | AC14: 1 | AD14: No | AE14: =IFERROR(INDEX($AC$8:$AC$18,MATCH(F14,$AB$8:$AB$18,0)),"") -> 3
E15: Self-Care Scores | I15: =SUM(I8:I14) -> 24 | J15: =COUNTIF(J8:J14,"Yes") -> 7 | K15: =SUM(K8:K14) -> 24 | M15: =COUNTIF(M8:M14,"Met") -> 4 | N15: =IFERROR(K15-I15,"") -> 0 | O15: =IFERROR(N15/K3,"") -> 0 | AB15: 09 | AC15: 1 | AD15: No
E16: % of Total Points | I16: =IFERROR((I15/42),"") -> 0.57142857 | K16: =IFERROR((K15/42),"") -> 0.57142857 | M16: =IFERROR($M$15/SUM(COUNTIF($M$8:$M$14,"Met")+COUNTIF($M$8:$M$14,"UnMet")),"") -> 0.57142857 | AB16: 88 | AC16: 1 | AD16: No
B17: GG Mobility Items | AB17: 10 | AC17: 1 | AD17: No
B18: Roll L/R | E18: ='QRM - GG Audit (7-15-20)'!E18 -> 04 | F18: ='QRM - GG Audit (7-15-20)'!F18 -> 04 | G18: ='QRM - GG Audit (7-15-20)'!G18 -> 04 | H18: ='QRM - GG Audit (7-15-20)'!H18 -> 0 | I18: ='QRM - GG Audit (7-15-20)'!I18 -> 4 | J18: ='QRM - GG Audit (7-15-20)'!J18 -> Yes | K18: ='QRM - GG Audit (7-15-20)'!K18 -> 4 | L18: ='QRM - GG Audit (7-15-20)'!L18 -> 0 | ... O18: ='QRM - GG Audit (7-15-20)'!O18 -> 0 | AB18: -Dash | AC18: 1 | AD18: No | AE18: =IFERROR(INDEX($AC$8:$AC$18,MATCH(F18,$AB$8:$AB$18,0)),"") -> 4
B19: Sit to Lying | E19: ='QRM - GG Audit (7-15-20)'!E19 -> 05 | F19: ='QRM - GG Audit (7-15-20)'!F19 -> 06 | G19: ='QRM - GG Audit (7-15-20)'!G19 -> 04 | H19: ='QRM - GG Audit (7-15-20)'!H19 -> 0 | I19: ='QRM - GG Audit (7-15-20)'!I19 -> 5 | J19: ='QRM - GG Audit (7-15-20)'!J19 -> Yes | K19: ='QRM - GG Audit (7-15-20)'!K19 -> 4 | L19: ='QRM - GG Audit (7-15-20)'!L19 -> 0 | ... O19: ='QRM - GG Audit (7-15-20)'!O19 -> -0.029411765 | AB19: Goals | AE19: =IFERROR(INDEX($AC$8:$AC$18,MATCH(F19,$AB$8:$AB$18,0)),"") -> 6
B20: Lying to Sit | E20: ='QRM - GG Audit (7-15-20)'!E20 -> 04 | F20: ='QRM - GG Audit (7-15-20)'!F20 -> 04 | G20: ='QRM - GG Audit (7-15-20)'!G20 -> 04 | H20: ='QRM - GG Audit (7-15-20)'!H20 -> 0 | I20: ='QRM - GG Audit (7-15-20)'!I20 -> 4 | J20: ='QRM - GG Audit (7-15-20)'!J20 -> Yes | K20: ='QRM - GG Audit (7-15-20)'!K20 -> 4 | L20: ='QRM - GG Audit (7-15-20)'!L20 -> 0 | ... O20: ='QRM - GG Audit (7-15-20)'!O20 -> 0 | AB20: Goal Status | AC20: Goal Status Score | AE20: =IFERROR(INDEX($AC$8:$AC$18,MATCH(F20,$AB$8:$AB$18,0)),"") -> 4
B21: Sit to Stand | E21: ='QRM - GG Audit (7-15-20)'!E21 -> 04 | F21: ='QRM - GG Audit (7-15-20)'!F21 -> 04 | G21: ='QRM - GG Audit (7-15-20)'!G21 -> 04 | H21: ='QRM - GG Audit (7-15-20)'!H21 -> 0 | I21: ='QRM - GG Audit (7-15-20)'!I21 -> 4 | J21: ='QRM - GG Audit (7-15-20)'!J21 -> Yes | K21: ='QRM - GG Audit (7-15-20)'!K21 -> 4 | L21: ='QRM - GG Audit (7-15-20)'!L21 -> 0 | ... O21: ='QRM - GG Audit (7-15-20)'!O21 -> 0 | AB21: Met | AC21: 1 | AE21: =IFERROR(INDEX($AC$8:$AC$18,MATCH(F21,$AB$8:$AB$18,0)),"") -> 4
B22: Bed to Chair T/f | E22: ='QRM - GG Audit (7-15-20)'!E22 -> 04 | F22: ='QRM - GG Audit (7-15-20)'!F22 -> 04 | G22: ='QRM - GG Audit (7-15-20)'!G22 -> 04 | H22: ='QRM - GG Audit (7-15-20)'!H22 -> 0 | I22: ='QRM - GG Audit (7-15-20)'!I22 -> 4 | J22: ='QRM - GG Audit (7-15-20)'!J22 -> Yes | K22: ='QRM - GG Audit (7-15-20)'!K22 -> 4 | L22: ='QRM - GG Audit (7-15-20)'!L22 -> 0 | ... O22: ='QRM - GG Audit (7-15-20)'!O22 -> 0 | AB22: Unmet | AC22: 0 | AE22: =IFERROR(INDEX($AC$8:$AC$18,MATCH(F22,$AB$8:$AB$18,0)),"") -> 4
B23: Toilet T/f | E23: ='QRM - GG Audit (7-15-20)'!E23 -> 03 | F23: ='QRM - GG Audit (7-15-20)'!F23 -> 03 | G23: ='QRM - GG Audit (7-15-20)'!G23 -> 03 | H23: ='QRM - GG Audit (7-15-20)'!H23 -> 0 | I23: ='QRM - GG Audit (7-15-20)'!I23 -> 3 | J23: ='QRM - GG Audit (7-15-20)'!J23 -> Yes | K23: ='QRM - GG Audit (7-15-20)'!K23 -> 3 | L23: ='QRM - GG Audit (7-15-20)'!L23 -> 0 | ... O23: ='QRM - GG Audit (7-15-20)'!O23 -> 0 | AB23: If Goal Code is - | AC23: n/a | AE23: =IFERROR(INDEX($AC$8:$AC$18,MATCH(F23,$AB$8:$AB$18,0)),"") -> 3
B24: Car T/f | E24: ='QRM - GG Audit (7-15-20)'!E24 -> 10 | F24: ='QRM - GG Audit (7-15-20)'!F24 -> 10 | G24: ='QRM - GG Audit (7-15-20)'!G24 -> 09 | H24: ='QRM - GG Audit (7-15-20)'!H24 -> 0 | I24: ='QRM - GG Audit (7-15-20)'!I24 -> 1 | J24: ='QRM - GG Audit (7-15-20)'!J24 -> No | K24: ='QRM - GG Audit (7-15-20)'!K24 -> 1 | L24: ='QRM - GG Audit (7-15-20)'!L24 -> 0 | ... O24: ='QRM - GG Audit (7-15-20)'!O24 -> 0 | AB24: GG Summary | AE24: =IFERROR(INDEX($AC$8:$AC$18,MATCH(F24,$AB$8:$AB$18,0)),"") -> 1
B25: Walk 10 ft | E25: ='QRM - GG Audit (7-15-20)'!E25 -> 04 | F25: ='QRM - GG Audit (7-15-20)'!F25 -> 04 | G25: ='QRM - GG Audit (7-15-20)'!G25 -> 04 | H25: ='QRM - GG Audit (7-15-20)'!H25 -> 0 | I25: ='QRM - GG Audit (7-15-20)'!I25 -> 4 | J25: ='QRM - GG Audit (7-15-20)'!J25 -> Yes | K25: ='QRM - GG Audit (7-15-20)'!K25 -> 4 | L25: ='QRM - GG Audit (7-15-20)'!L25 -> 0 | ... O25: ='QRM - GG Audit (7-15-20)'!O25 -> 0 | AB25: Goal Status | AC25: Goal Status Score | AE25: =IFERROR(INDEX($AC$8:$AC$18,MATCH(F25,$AB$8:$AB$18,0)),"") -> 4
B26: Walk 50 ft w/ 2 turns | E26: ='QRM - GG Audit (7-15-20)'!E26 -> 04 | F26: ='QRM - GG Audit (7-15-20)'!F26 -> 04 | G26: ='QRM - GG Audit (7-15-20)'!G26 -> 04 | H26: ='QRM - GG Audit (7-15-20)'!H26 -> 0 | I26: ='QRM - GG Audit (7-15-20)'!I26 -> 4 | J26: ='QRM - GG Audit (7-15-20)'!J26 -> Yes | K26: ='QRM - GG Audit (7-15-20)'!K26 -> 4 | L26: ='QRM - GG Audit (7-15-20)'!L26 -> 0 | ... O26: ='QRM - GG Audit (7-15-20)'!O26 -> 0 | AB26: Met | AC26: 1 | AE26: =IFERROR(INDEX($AC$8:$AC$18,MATCH(F26,$AB$8:$AB$18,0)),"") -> 4
B27: Walk 150 ft | E27: ='QRM - GG Audit (7-15-20)'!E27 -> 04 | F27: ='QRM - GG Audit (7-15-20)'!F27 -> 04 | G27: ='QRM - GG Audit (7-15-20)'!G27 -> 04 | H27: ='QRM - GG Audit (7-15-20)'!H27 -> 0 | I27: ='QRM - GG Audit (7-15-20)'!I27 -> 4 | J27: ='QRM - GG Audit (7-15-20)'!J27 -> Yes | K27: ='QRM - GG Audit (7-15-20)'!K27 -> 4 | L27: ='QRM - GG Audit (7-15-20)'!L27 -> 0 | ... O27: ='QRM - GG Audit (7-15-20)'!O27 -> 0 | AB27: Unmet | AC27: 0 | AE27: =IFERROR(INDEX($AC$8:$AC$18,MATCH(F27,$AB$8:$AB$18,0)),"") -> 4
B28: Walk 10 ft uneven surfaces | E28: ='QRM - GG Audit (7-15-20)'!E28 -> 04 | F28: ='QRM - GG Audit (7-15-20)'!F28 -> 04 | G28: ='QRM - GG Audit (7-15-20)'!G28 -> 09 | H28: ='QRM - GG Audit (7-15-20)'!H28 -> 0 | I28: ='QRM - GG Audit (7-15-20)'!I28 -> 4 | J28: ='QRM - GG Audit (7-15-20)'!J28 -> Yes | K28: ='QRM - GG Audit (7-15-20)'!K28 -> 1 | L28: ='QRM - GG Audit (7-15-20)'!L28 -> 0 | ... O28: ='QRM - GG Audit (7-15-20)'!O28 -> -0.088235294 | AB28: n/a | AE28: =IFERROR(INDEX($AC$8:$AC$18,MATCH(F28,$AB$8:$AB$18,0)),"") -> 4
B29: 1 curb/step | E29: ='QRM - GG Audit (7-15-20)'!E29 -> 03 | F29: ='QRM - GG Audit (7-15-20)'!F29 -> 04 | G29: ='QRM - GG Audit (7-15-20)'!G29 -> 09 | H29: ='QRM - GG Audit (7-15-20)'!H29 -> 0 | I29: ='QRM - GG Audit (7-15-20)'!I29 -> 3 | J29: ='QRM - GG Audit (7-15-20)'!J29 -> Yes | K29: ='QRM - GG Audit (7-15-20)'!K29 -> 1 | L29: ='QRM - GG Audit (7-15-20)'!L29 -> 0 | ... O29: ='QRM - GG Audit (7-15-20)'!O29 -> -0.058823529 | AE29: =IFERROR(INDEX($AC$8:$AC$18,MATCH(F29,$AB$8:$AB$18,0)),"") -> 4
B30: 4 steps | E30: ='QRM - GG Audit (7-15-20)'!E30 -> 03 | F30: ='QRM - GG Audit (7-15-20)'!F30 -> 03 | G30: ='QRM - GG Audit (7-15-20)'!G30 -> 09 | H30: ='QRM - GG Audit (7-15-20)'!H30 -> 0 | I30: ='QRM - GG Audit (7-15-20)'!I30 -> 3 | J30: ='QRM - GG Audit (7-15-20)'!J30 -> Yes | K30: ='QRM - GG Audit (7-15-20)'!K30 -> 1 | L30: ='QRM - GG Audit (7-15-20)'!L30 -> 0 | ... O30: ='QRM - GG Audit (7-15-20)'!O30 -> -0.058823529 | AE30: =IFERROR(INDEX($AC$8:$AC$18,MATCH(F30,$AB$8:$AB$18,0)),"") -> 3
B31: 12 steps | E31: ='QRM - GG Audit (7-15-20)'!E31 -> 10 | F31: ='QRM - GG Audit (7-15-20)'!F31 -> 03 | G31: ='QRM - GG Audit (7-15-20)'!G31 -> 09 | H31: ='QRM - GG Audit (7-15-20)'!H31 -> 0 | I31: ='QRM - GG Audit (7-15-20)'!I31 -> 1 | J31: ='QRM - GG Audit (7-15-20)'!J31 -> Yes | K31: ='QRM - GG Audit (7-15-20)'!K31 -> 1 | L31: ='QRM - GG Audit (7-15-20)'!L31 -> 0 | ... O31: ='QRM - GG Audit (7-15-20)'!O31 -> 0 | AB31: Goals Met/Unmet Flow | AE31: =IFERROR(INDEX($AC$8:$AC$18,MATCH(F31,$AB$8:$AB$18,0)),"") -> 3
B32: Picking up object | E32: ='QRM - GG Audit (7-15-20)'!E32 -> 88 | F32: ='QRM - GG Audit (7-15-20)'!F32 -> 10 | G32: ='QRM - GG Audit (7-15-20)'!G32 -> 03 | H32: ='QRM - GG Audit (7-15-20)'!H32 -> 0 | I32: ='QRM - GG Audit (7-15-20)'!I32 -> 1 | J32: ='QRM - GG Audit (7-15-20)'!J32 -> No | K32: ='QRM - GG Audit (7-15-20)'!K32 -> 3 | L32: ='QRM - GG Audit (7-15-20)'!L32 -> 0 | ... O32: ='QRM - GG Audit (7-15-20)'!O32 -> 0.058823529 | AB32: Goal Unmet | AE32: =IFERROR(INDEX($AC$8:$AC$18,MATCH(F32,$AB$8:$AB$18,0)),"") -> 1
B33: W/c 50 ft w/ 2 turns | E33: ='QRM - GG Audit (7-15-20)'!E33 -> 09 | F33: ='QRM - GG Audit (7-15-20)'!F33 -> 09 | G33: ='QRM - GG Audit (7-15-20)'!G33 -> 09 | H33: ='QRM - GG Audit (7-15-20)'!H33 -> 0 | I33: ='QRM - GG Audit (7-15-20)'!I33 -> 1 | J33: ='QRM - GG Audit (7-15-20)'!J33 -> No | K33: ='QRM - GG Audit (7-15-20)'!K33 -> 1 | L33: ='QRM - GG Audit (7-15-20)'!L33 -> 0 | ... O33: ='QRM - GG Audit (7-15-20)'!O33 -> 0 | AB33: 1) D/C Score is Less than Goal; or | AE33: =IFERROR(INDEX($AC$8:$AC$18,MATCH(F33,$AB$8:$AB$18,0)),"") -> 1
B34: W/c 150 ft | E34: ='QRM - GG Audit (7-15-20)'!E34 -> 09 | F34: ='QRM - GG Audit (7-15-20)'!F34 -> 09 | G34: ='QRM - GG Audit (7-15-20)'!G34 -> 09 | H34: ='QRM - GG Audit (7-15-20)'!H34 -> 0 | I34: ='QRM - GG Audit (7-15-20)'!I34 -> 1 | J34: ='QRM - GG Audit (7-15-20)'!J34 -> No | K34: ='QRM - GG Audit (7-15-20)'!K34 -> 1 | L34: ='QRM - GG Audit (7-15-20)'!L34 -> 0 | ... O34: ='QRM - GG Audit (7-15-20)'!O34 -> 0 | AB34: 2) D/C Code is Red Option (5 red above) | AE34: =IFERROR(INDEX($AC$8:$AC$18,MATCH(F34,$AB$8:$AB$18,0)),"") -> 1
E35: Mobility Scores | I35: =SUM(I18:I32) -> 49 | J35: =COUNTIF(J18:J34,"Yes") -> 13 | K35: =SUM(K18:L32) -> 43 | M35: =COUNTIF(M18:M34,"Met") -> 8 | N35: =IFERROR(K35-I35,"") -> -6 | O35: =IFERROR(N35/$K$3,"") -> 0.3
E36: % of Total Points | I36: =IFERROR(($I$35/90),"") -> 0.54444444 | K36: =IFERROR(($K$35/90),"") -> 0.47777778 | M36: =IFERROR($M$35/SUM(COUNTIF(M18:M34,"Met")+COUNTIF(M18:M34,"UnMet")),"") -> 0.61538462

Sheet Sheet1

Sheet Sheet2

Sheet Sheet3
A4: Medicare Outcomes Audits
A5: Length of Stay | B5: =IF('QRM - GG Audit (7-15-20)'!N4="","",'QRM - GG Audit (7-15-20)'!N4) -> 34
A6: QRP Discharge Date | B6: =IF('QRM - GG Audit (7-15-20)'!I4="","",'QRM - GG Audit (7-15-20)'!I4) -> 44027
A8: Self Care Outcomes
A9: Self-Care Change in Function | B9: =IF('QRM - GG Audit (7-15-20)'!N15="","",'QRM - GG Audit (7-15-20)'!N15) -> 0
A10: Self-Care Change per day | B10: =IF('QRM - GG Audit (7-15-20)'!O15="","",'QRM - GG Audit (7-15-20)'!O15) -> 0
A11: Self-Care Discharge Performance | B11: =IF('QRM - GG Audit (7-15-20)'!K15="","",'QRM - GG Audit (7-15-20)'!K15) -> 24
A12: Self-Care GG Goals | B12: =IF('QRM - GG Audit (7-15-20)'!J15="","",'QRM - GG Audit (7-15-20)'!J15) -> 7
A13: Self-Care GG Goals Met | B13: =IF('QRM - GG Audit (7-15-20)'!M15="","",'QRM - GG Audit (7-15-20)'!M15) -> 4
A14: Self-Care GG Outcomes % | B14: =IFERROR(B13/B12,"") -> 0.57142857
A16: Mobility Outcomes
A17: Mobility Change in Function | B17: =IF('QRM - GG Audit (7-15-20)'!N35="","",'QRM - GG Audit (7-15-20)'!N35) -> -6
A18: Mobility Change per day | B18: =IF('QRM - GG Audit (7-15-20)'!O35="","",'QRM - GG Audit (7-15-20)'!O35) -> -0.17647059
A19: Mobility Discharge Performance | B19: =IF('QRM - GG Audit (7-15-20)'!K35="","",'QRM - GG Audit (7-15-20)'!K35) -> 43
A20: Mobility GG Goals | B20: =IF('QRM - GG Audit (7-15-20)'!J35="","",'QRM - GG Audit (7-15-20)'!J35) -> 13
A21: Mobility GG Goals Met | B21: =IF('QRM - GG Audit (7-15-20)'!M35="","",'QRM - GG Audit (7-15-20)'!M35) -> 8
A22: Mobility GG Outcomes % | B22: =IFERROR(B21/B20,"") -> 0.61538462
A24: GG Goal Outcomes
A25: Total GG Goals | B25: =IFERROR(SUM(B20,B12),"") -> 20
A26: Total GG Goals Met | B26: =IFERROR(SUM(B21,B13),"") -> 12
A27: Total GG Outcomes % | B27: =IFERROR(B26/B25,"") -> 0.6
A29: Rehab Outcomes % Goals Met
A30: PT
A31: OT
A32: ST
A33: Total
A35: Comments

Sheet CSS-RU
A2: Audit Status | B2: Facility | C2: Patient | D2: Audit Date | E2: Admit Date | F2: Last Cover Day | G2: LOS | H2: PDPM HIPPS | I2: I0020B Primary Reason for SNF Stay: ICD-10 Code, not words | J2: GG Category | K2: GG Sub-Category | L2: GG Item | M2: Admit Code | N2: Goal Code | O2: D/C Code | P2: Admit Score | Q2: Goal Y/N | R2: D/C Score | S2: Goal Met | T2: Change Score | U2: Change per Day | AA2: =IF('QRM - GG Audit'!B2="","",'QRM - GG Audit'!B2) -> Facility: | AB2: =IF('QRM - GG Audit'!C2="","",'QRM - GG Audit'!C2) -> Example Facility | AC2: ='QRM - GG Audit'!D2 -> 0 | AD2: ='QRM - GG Audit'!E2 -> 0 | AE2: ='QRM - GG Audit'!F2 -> 0 | AF2: ='QRM - GG Audit'!G2 -> 0 | AG2: =IF('QRM - GG Audit'!H2="","",'QRM - GG Audit'!H2) | AH2: ='QRM - GG Audit'!I2 -> Admit Date: | AI2: ='QRM - GG Audit'!J2 -> 0 | AJ2: =IF('QRM - GG Audit'!K2="","",'QRM - GG Audit'!K2) -> 44048 | AK2: ='QRM - GG Audit'!L2 -> 0 | AL2: ='QRM - GG Audit'!M2 -> Last Cover Day: | AM2: ='QRM - GG Audit'!N2 -> 0 | AN2: =IF('QRM - GG Audit'!O2="","",'QRM - GG Audit'!O2) -> 44027
A3: {=IF(OR('QRM - GG Audit'!$C$1:$G$1="",'QRM - GG Audit'!$K$1="",'QRM - GG Audit'!$O$1="",'QRM - GG Audit'!$C$2:$G$2="",'QRM - GG Audit'!$O$2="",'QRM - GG Audit'!$C$3:$G$3="",'QRM - GG Audit'!$N$3:$O$3=""),"Incomplete","Complete")} -> Incomplete | B3: =IF('QRM - GG Audit'!$C$2="","",'QRM - GG Audit'!$C$2) -> Example Facility | C3: =IF('QRM - GG Audit'!$C$3="","",'QRM - GG Audit'!$C$3) -> Case Study | D3: =IF('QRM - GG Audit'!$C$4="","",'QRM - GG Audit'!$C$4) -> 43994 | E3: =IF('QRM - GG Audit'!$K$2="","",'QRM - GG Audit'!$K$2) -> 44048 | F3: =IF('QRM - GG Audit'!$O$2="","",'QRM - GG Audit'!$O$2) -> 44027 | G3: =IF('QRM - GG Audit'!$K$3="","",'QRM - GG Audit'!$K$3) -> -20 | H3: =IF('QRM - GG Audit'!$K$2="","",'QRM - GG Audit'!$K$2) -> 44048 | I3: ='QRM - GG Audit'!$N$4 -> 22310 | J3: Self-Care | K3: Self-Care Items | L3: Eating | M3: ='QRM - GG Audit'!E8 -> 05 | N3: ='QRM - GG Audit'!F8 -> 06 | O3: ='QRM - GG Audit'!G8 -> 05 | P3: ='QRM - GG Audit'!I8 -> 5 | Q3: ='QRM - GG Audit'!J8 -> Yes | R3: ='QRM - GG Audit'!K8 -> 5 | S3: ='QRM - GG Audit'!M8 -> UnMet | T3: ='QRM - GG Audit'!N8 -> 0 | U3: ='QRM - GG Audit'!O8 -> 0 | AA3: =IF('QRM - GG Audit'!B3="","",'QRM - GG Audit'!B3) -> Patient: | AB3: =IF('QRM - GG Audit'!C3="","",'QRM - GG Audit'!C3) -> Case Study | AC3: ='QRM - GG Audit'!D3 -> 0 | AD3: ='QRM - GG Audit'!E3 -> 0 | AE3: ='QRM - GG Audit'!F3 -> 0 | AF3: ='QRM - GG Audit'!G3 -> 0 | AH3: ='QRM - GG Audit'!I3 -> LOS: | AI3: ='QRM - GG Audit'!J3 -> 0 | AJ3: =IF('QRM - GG Audit'!K3="","",'QRM - GG Audit'!K3) -> -20 | AK3: ='QRM - GG Audit'!L3 -> 0 | AL3: ='QRM - GG Audit'!M3 -> PDPM HIPPS: | AM3: ='QRM - GG Audit'!N3 -> 0 | AN3: =IF('QRM - GG Audit'!O3="","",'QRM - GG Audit'!O3) -> ='QRM - GG Audit (3)'!N3
A4: {=IF(OR('QRM - GG Audit'!$C$1:$G$1="",'QRM - GG Audit'!$K$1="",'QRM - GG Audit'!$O$1="",'QRM - GG Audit'!$C$2:$G$2="",'QRM - GG Audit'!$O$2="",'QRM - GG Audit'!$C$3:$G$3="",'QRM - GG Audit'!$N$3:$O$3=""),"Incomplete","Complete")} -> Incomplete | B4: =IF('QRM - GG Audit'!$C$2="","",'QRM - GG Audit'!$C$2) -> Example Facility | C4: =IF('QRM - GG Audit'!$C$3="","",'QRM - GG Audit'!$C$3) -> Case Study | D4: =IF('QRM - GG Audit'!$C$4="","",'QRM - GG Audit'!$C$4) -> 43994 | E4: =IF('QRM - GG Audit'!$K$2="","",'QRM - GG Audit'!$K$2) -> 44048 | F4: =IF('QRM - GG Audit'!$O$2="","",'QRM - GG Audit'!$O$2) -> 44027 | G4: =IF('QRM - GG Audit'!$K$3="","",'QRM - GG Audit'!$K$3) -> -20 | H4: =IF('QRM - GG Audit'!$K$2="","",'QRM - GG Audit'!$K$2) -> 44048 | I4: ='QRM - GG Audit'!$N$4 -> 22310 | J4: Self-Care | K4: Self-Care Items | L4: Oral Hygiene | M4: ='QRM - GG Audit'!E9 -> 05 | N4: ='QRM - GG Audit'!F9 -> 06 | O4: ='QRM - GG Audit'!G9 -> 04 | P4: ='QRM - GG Audit'!I9 -> 5 | Q4: ='QRM - GG Audit'!J9 -> Yes | R4: ='QRM - GG Audit'!K9 -> 4 | S4: ='QRM - GG Audit'!M9 -> UnMet | T4: ='QRM - GG Audit'!N9 -> -1 | U4: ='QRM - GG Audit'!O9 -> -0.029411765 | AA4: =IF('QRM - GG Audit'!B4="","",'QRM - GG Audit'!B4) -> Audit Date: | AB4: =IF('QRM - GG Audit'!C4="","",'QRM - GG Audit'!C4) -> 43994 | AC4: ='QRM - GG Audit'!D4 -> 0 | AD4: ='QRM - GG Audit'!E4 -> 0 | AE4: ='QRM - GG Audit'!F4 -> 0 | AF4: ='QRM - GG Audit'!G4 -> 0 | AH4: ='QRM - GG Audit'!I4 -> QRM ID # | AI4: ='QRM - GG Audit'!J4 -> 0 | AJ4: ='QRM - GG Audit'!K4 -> 0 | AK4: ='QRM - GG Audit'!L4 -> 0 | AL4: ='QRM - GG Audit'!M4 -> 0 | AM4: =IF('QRM - GG Audit'!N4="","",'QRM - GG Audit'!N4) | AN4: ='QRM - GG Audit'!O4 -> 0
A5: {=IF(OR('QRM - GG Audit'!$C$1:$G$1="",'QRM - GG Audit'!$K$1="",'QRM - GG Audit'!$O$1="",'QRM - GG Audit'!$C$2:$G$2="",'QRM - GG Audit'!$O$2="",'QRM - GG Audit'!$C$3:$G$3="",'QRM - GG Audit'!$N$3:$O$3=""),"Incomplete","Complete")} -> Incomplete | B5: =IF('QRM - GG Audit'!$C$2="","",'QRM - GG Audit'!$C$2) -> Example Facility | C5: =IF('QRM - GG Audit'!$C$3="","",'QRM - GG Audit'!$C$3) -> Case Study | D5: =IF('QRM - GG Audit'!$C$4="","",'QRM - GG Audit'!$C$4) -> 43994 | E5: =IF('QRM - GG Audit'!$K$2="","",'QRM - GG Audit'!$K$2) -> 44048 | F5: =IF('QRM - GG Audit'!$O$2="","",'QRM - GG Audit'!$O$2) -> 44027 | G5: =IF('QRM - GG Audit'!$K$3="","",'QRM - GG Audit'!$K$3) -> -20 | H5: =IF('QRM - GG Audit'!$K$2="","",'QRM - GG Audit'!$K$2) -> 44048 | I5: ='QRM - GG Audit'!$N$4 -> 22310 | J5: Self-Care | K5: Self-Care Items | L5: Toilet Hygiene | M5: ='QRM - GG Audit'!E10 -> 03 | N5: ='QRM - GG Audit'!F10 -> 06 | O5: ='QRM - GG Audit'!G10 -> 03 | P5: ='QRM - GG Audit'!I10 -> 3 | Q5: ='QRM - GG Audit'!J10 -> Yes | R5: ='QRM - GG Audit'!K10 -> 3 | S5: ='QRM - GG Audit'!M10 -> UnMet | T5: ='QRM - GG Audit'!N10 -> 0 | U5: ='QRM - GG Audit'!O10 -> 0 | AA5: =IF('QRM - GG Audit'!B5="","",'QRM - GG Audit'!B5)
A6: {=IF(OR('QRM - GG Audit'!$C$1:$G$1="",'QRM - GG Audit'!$K$1="",'QRM - GG Audit'!$O$1="",'QRM - GG Audit'!$C$2:$G$2="",'QRM - GG Audit'!$O$2="",'QRM - GG Audit'!$C$3:$G$3="",'QRM - GG Audit'!$N$3:$O$3=""),"Incomplete","Complete")} -> Incomplete | B6: =IF('QRM - GG Audit'!$C$2="","",'QRM - GG Audit'!$C$2) -> Example Facility | C6: =IF('QRM - GG Audit'!$C$3="","",'QRM - GG Audit'!$C$3) -> Case Study | D6: =IF('QRM - GG Audit'!$C$4="","",'QRM - GG Audit'!$C$4) -> 43994 | E6: =IF('QRM - GG Audit'!$K$2="","",'QRM - GG Audit'!$K$2) -> 44048 | F6: =IF('QRM - GG Audit'!$O$2="","",'QRM - GG Audit'!$O$2) -> 44027 | G6: =IF('QRM - GG Audit'!$K$3="","",'QRM - GG Audit'!$K$3) -> -20 | H6: =IF('QRM - GG Audit'!$K$2="","",'QRM - GG Audit'!$K$2) -> 44048 | I6: ='QRM - GG Audit'!$N$4 -> 22310 | J6: Self-Care | K6: Self-Care Items | L6: Shower/bathe self | M6: ='QRM - GG Audit'!E11 -> 03 | N6: ='QRM - GG Audit'!F11 -> 03 | O6: ='QRM - GG Audit'!G11 -> 03 | P6: ='QRM - GG Audit'!I11 -> 3 | Q6: ='QRM - GG Audit'!J11 -> Yes | R6: ='QRM - GG Audit'!K11 -> 3 | S6: ='QRM - GG Audit'!M11 -> Met | T6: ='QRM - GG Audit'!N11 -> 0 | U6: ='QRM - GG Audit'!O11 -> 0 | AD6: ='QRM - GG Audit'!E6 -> Admit Code | AE6: ='QRM - GG Audit'!F6 -> Goal Code | AF6: ='QRM - GG Audit'!G6 -> D/C Code | AH6: ='QRM - GG Audit'!I6 -> Admit Score | AI6: ='QRM - GG Audit'!J6 -> Goal Y/N | AJ6: ='QRM - GG Audit'!K6 -> D/C Score | AL6: ='QRM - GG Audit'!M6 -> Goal Met | AM6: ='QRM - GG Audit'!N6 -> Change Score | AN6: ='QRM - GG Audit'!O6 -> Change per Day
A7: {=IF(OR('QRM - GG Audit'!$C$1:$G$1="",'QRM - GG Audit'!$K$1="",'QRM - GG Audit'!$O$1="",'QRM - GG Audit'!$C$2:$G$2="",'QRM - GG Audit'!$O$2="",'QRM - GG Audit'!$C$3:$G$3="",'QRM - GG Audit'!$N$3:$O$3=""),"Incomplete","Complete")} -> Incomplete | B7: =IF('QRM - GG Audit'!$C$2="","",'QRM - GG Audit'!$C$2) -> Example Facility | C7: =IF('QRM - GG Audit'!$C$3="","",'QRM - GG Audit'!$C$3) -> Case Study | D7: =IF('QRM - GG Audit'!$C$4="","",'QRM - GG Audit'!$C$4) -> 43994 | E7: =IF('QRM - GG Audit'!$K$2="","",'QRM - GG Audit'!$K$2) -> 44048 | F7: =IF('QRM - GG Audit'!$O$2="","",'QRM - GG Audit'!$O$2) -> 44027 | G7: =IF('QRM - GG Audit'!$K$3="","",'QRM - GG Audit'!$K$3) -> -20 | H7: =IF('QRM - GG Audit'!$K$2="","",'QRM - GG Audit'!$K$2) -> 44048 | I7: ='QRM - GG Audit'!$N$4 -> 22310 | J7: Self-Care | K7: Self-Care Items | L7: UBD | M7: ='QRM - GG Audit'!E12 -> 03 | N7: ='QRM - GG Audit'!F12 -> 03 | O7: ='QRM - GG Audit'!G12 -> 03 | P7: ='QRM - GG Audit'!I12 -> 3 | Q7: ='QRM - GG Audit'!J12 -> Yes | R7: ='QRM - GG Audit'!K12 -> 3 | S7: ='QRM - GG Audit'!M12 -> Met | T7: ='QRM - GG Audit'!N12 -> 0 | U7: ='QRM - GG Audit'!O12 -> 0 | AA7: ='QRM - GG Audit'!B7 -> GG Self-Care Items | AB7: ='QRM - GG Audit'!C7 -> 0
A8: {=IF(OR('QRM - GG Audit'!$C$1:$G$1="",'QRM - GG Audit'!$K$1="",'QRM - GG Audit'!$O$1="",'QRM - GG Audit'!$C$2:$G$2="",'QRM - GG Audit'!$O$2="",'QRM - GG Audit'!$C$3:$G$3="",'QRM - GG Audit'!$N$3:$O$3=""),"Incomplete","Complete")} -> Incomplete | B8: =IF('QRM - GG Audit'!$C$2="","",'QRM - GG Audit'!$C$2) -> Example Facility | C8: =IF('QRM - GG Audit'!$C$3="","",'QRM - GG Audit'!$C$3) -> Case Study | D8: =IF('QRM - GG Audit'!$C$4="","",'QRM - GG Audit'!$C$4) -> 43994 | E8: =IF('QRM - GG Audit'!$K$2="","",'QRM - GG Audit'!$K$2) -> 44048 | F8: =IF('QRM - GG Audit'!$O$2="","",'QRM - GG Audit'!$O$2) -> 44027 | G8: =IF('QRM - GG Audit'!$K$3="","",'QRM - GG Audit'!$K$3) -> -20 | H8: =IF('QRM - GG Audit'!$K$2="","",'QRM - GG Audit'!$K$2) -> 44048 | I8: ='QRM - GG Audit'!$N$4 -> 22310 | J8: Self-Care | K8: Self-Care Items | L8: LBD | M8: ='QRM - GG Audit'!E13 -> 02 | N8: ='QRM - GG Audit'!F13 -> 03 | O8: ='QRM - GG Audit'!G13 -> 03 | P8: ='QRM - GG Audit'!I13 -> 2 | Q8: ='QRM - GG Audit'!J13 -> Yes | R8: ='QRM - GG Audit'!K13 -> 3 | S8: ='QRM - GG Audit'!M13 -> Met | T8: ='QRM - GG Audit'!N13 -> 1 | U8: ='QRM - GG Audit'!O13 -> 0.029411765 | AA8: ='QRM - GG Audit'!B8 -> Eating | AB8: ='QRM - GG Audit'!C8 -> 0 | AD8: ='QRM - GG Audit'!E8 -> 05 | AE8: ='QRM - GG Audit'!F8 -> 06 | AF8: ='QRM - GG Audit'!G8 -> 05 | AH8: ='QRM - GG Audit'!I8 -> 5 | AI8: ='QRM - GG Audit'!J8 -> Yes | AJ8: ='QRM - GG Audit'!K8 -> 5 | AL8: ='QRM - GG Audit'!M8 -> UnMet | AM8: ='QRM - GG Audit'!N8 -> 0 | AN8: ='QRM - GG Audit'!O8 -> 0
A9: {=IF(OR('QRM - GG Audit'!$C$1:$G$1="",'QRM - GG Audit'!$K$1="",'QRM - GG Audit'!$O$1="",'QRM - GG Audit'!$C$2:$G$2="",'QRM - GG Audit'!$O$2="",'QRM - GG Audit'!$C$3:$G$3="",'QRM - GG Audit'!$N$3:$O$3=""),"Incomplete","Complete")} -> Incomplete | B9: =IF('QRM - GG Audit'!$C$2="","",'QRM - GG Audit'!$C$2) -> Example Facility | C9: =IF('QRM - GG Audit'!$C$3="","",'QRM - GG Audit'!$C$3) -> Case Study | D9: =IF('QRM - GG Audit'!$C$4="","",'QRM - GG Audit'!$C$4) -> 43994 | E9: =IF('QRM - GG Audit'!$K$2="","",'QRM - GG Audit'!$K$2) -> 44048 | F9: =IF('QRM - GG Audit'!$O$2="","",'QRM - GG Audit'!$O$2) -> 44027 | G9: =IF('QRM - GG Audit'!$K$3="","",'QRM - GG Audit'!$K$3) -> -20 | H9: =IF('QRM - GG Audit'!$K$2="","",'QRM - GG Audit'!$K$2) -> 44048 | I9: ='QRM - GG Audit'!$N$4 -> 22310 | J9: Self-Care | K9: Self-Care Items | L9: Don/doff footwear | M9: ='QRM - GG Audit'!E14 -> 03 | N9: ='QRM - GG Audit'!F14 -> 03 | O9: ='QRM - GG Audit'!G14 -> 03 | P9: ='QRM - GG Audit'!I14 -> 3 | Q9: ='QRM - GG Audit'!J14 -> Yes | R9: ='QRM - GG Audit'!K14 -> 3 | S9: ='QRM - GG Audit'!M14 -> Met | T9: ='QRM - GG Audit'!N14 -> 0 | U9: ='QRM - GG Audit'!O14 -> 0 | AA9: ='QRM - GG Audit'!B9 -> Oral Hygiene | AB9: ='QRM - GG Audit'!C9 -> 0 | AD9: ='QRM - GG Audit'!E9 -> 05 | AE9: ='QRM - GG Audit'!F9 -> 06 | AF9: ='QRM - GG Audit'!G9 -> 04 | AH9: ='QRM - GG Audit'!I9 -> 5 | AI9: ='QRM - GG Audit'!J9 -> Yes | AJ9: ='QRM - GG Audit'!K9 -> 4 | AL9: ='QRM - GG Audit'!M9 -> UnMet | AM9: ='QRM - GG Audit'!N9 -> -1 | AN9: ='QRM - GG Audit'!O9 -> -0.029411765
A10: {=IF(OR('QRM - GG Audit'!$C$1:$G$1="",'QRM - GG Audit'!$K$1="",'QRM - GG Audit'!$O$1="",'QRM - GG Audit'!$C$2:$G$2="",'QRM - GG Audit'!$O$2="",'QRM - GG Audit'!$C$3:$G$3="",'QRM - GG Audit'!$N$3:$O$3=""),"Incomplete","Complete")} -> Incomplete | B10: =IF('QRM - GG Audit'!$C$2="","",'QRM - GG Audit'!$C$2) -> Example Facility | C10: =IF('QRM - GG Audit'!$C$3="","",'QRM - GG Audit'!$C$3) -> Case Study | D10: =IF('QRM - GG Audit'!$C$4="","",'QRM - GG Audit'!$C$4) -> 43994 | E10: =IF('QRM - GG Audit'!$K$2="","",'QRM - GG Audit'!$K$2) -> 44048 | F10: =IF('QRM - GG Audit'!$O$2="","",'QRM - GG Audit'!$O$2) -> 44027 | G10: =IF('QRM - GG Audit'!$K$3="","",'QRM - GG Audit'!$K$3) -> -20 | H10: =IF('QRM - GG Audit'!$K$2="","",'QRM - GG Audit'!$K$2) -> 44048 | I10: ='QRM - GG Audit'!$N$4 -> 22310 | J10: Mobility | K10: Mobility Items | L10: Roll L/R | M10: ='QRM - GG Audit'!E18 -> 04 | N10: ='QRM - GG Audit'!F18 -> 04 | O10: ='QRM - GG Audit'!G18 -> 04 | P10: ='QRM - GG Audit'!I18 -> 4 | Q10: ='QRM - GG Audit'!J18 -> Yes | R10: ='QRM - GG Audit'!K18 -> 4 | S10: ='QRM - GG Audit'!M18 -> Met | T10: ='QRM - GG Audit'!N18 -> 0 | U10: ='QRM - GG Audit'!O18 -> 0 | AA10: ='QRM - GG Audit'!B10 -> Toilet Hygiene | AB10: ='QRM - GG Audit'!C10 -> 0 | AD10: ='QRM - GG Audit'!E10 -> 03 | AE10: ='QRM - GG Audit'!F10 -> 06 | AF10: ='QRM - GG Audit'!G10 -> 03 | AH10: ='QRM - GG Audit'!I10 -> 3 | AI10: ='QRM - GG Audit'!J10 -> Yes | AJ10: ='QRM - GG Audit'!K10 -> 3 | AL10: ='QRM - GG Audit'!M10 -> UnMet | AM10: ='QRM - GG Audit'!N10 -> 0 | AN10: ='QRM - GG Audit'!O10 -> 0
A11: {=IF(OR('QRM - GG Audit'!$C$1:$G$1="",'QRM - GG Audit'!$K$1="",'QRM - GG Audit'!$O$1="",'QRM - GG Audit'!$C$2:$G$2="",'QRM - GG Audit'!$O$2="",'QRM - GG Audit'!$C$3:$G$3="",'QRM - GG Audit'!$N$3:$O$3=""),"Incomplete","Complete")} -> Incomplete | B11: =IF('QRM - GG Audit'!$C$2="","",'QRM - GG Audit'!$C$2) -> Example Facility | C11: =IF('QRM - GG Audit'!$C$3="","",'QRM - GG Audit'!$C$3) -> Case Study | D11: =IF('QRM - GG Audit'!$C$4="","",'QRM - GG Audit'!$C$4) -> 43994 | E11: =IF('QRM - GG Audit'!$K$2="","",'QRM - GG Audit'!$K$2) -> 44048 | F11: =IF('QRM - GG Audit'!$O$2="","",'QRM - GG Audit'!$O$2) -> 44027 | G11: =IF('QRM - GG Audit'!$K$3="","",'QRM - GG Audit'!$K$3) -> -20 | H11: =IF('QRM - GG Audit'!$K$2="","",'QRM - GG Audit'!$K$2) -> 44048 | I11: ='QRM - GG Audit'!$N$4 -> 22310 | J11: Mobility | K11: Mobility Items | L11: Sit to Lying | M11: ='QRM - GG Audit'!E19 -> 05 | N11: ='QRM - GG Audit'!F19 -> 06 | O11: ='QRM - GG Audit'!G19 -> 04 | P11: ='QRM - GG Audit'!I19 -> 5 | Q11: ='QRM - GG Audit'!J19 -> Yes | R11: ='QRM - GG Audit'!K19 -> 4 | S11: ='QRM - GG Audit'!M19 -> UnMet | T11: ='QRM - GG Audit'!N19 -> -1 | U11: ='QRM - GG Audit'!O19 -> -0.029411765 | AA11: ='QRM - GG Audit'!B11 -> Shower/bathe self | AB11: ='QRM - GG Audit'!C11 -> 0 | AD11: ='QRM - GG Audit'!E11 -> 03 | AE11: ='QRM - GG Audit'!F11 -> 03 | AF11: ='QRM - GG Audit'!G11 -> 03 | AH11: ='QRM - GG Audit'!I11 -> 3 | AI11: ='QRM - GG Audit'!J11 -> Yes | AJ11: ='QRM - GG Audit'!K11 -> 3 | AL11: ='QRM - GG Audit'!M11 -> Met | AM11: ='QRM - GG Audit'!N11 -> 0 | AN11: ='QRM - GG Audit'!O11 -> 0
A12: {=IF(OR('QRM - GG Audit'!$C$1:$G$1="",'QRM - GG Audit'!$K$1="",'QRM - GG Audit'!$O$1="",'QRM - GG Audit'!$C$2:$G$2="",'QRM - GG Audit'!$O$2="",'QRM - GG Audit'!$C$3:$G$3="",'QRM - GG Audit'!$N$3:$O$3=""),"Incomplete","Complete")} -> Incomplete | B12: =IF('QRM - GG Audit'!$C$2="","",'QRM - GG Audit'!$C$2) -> Example Facility | C12: =IF('QRM - GG Audit'!$C$3="","",'QRM - GG Audit'!$C$3) -> Case Study | D12: =IF('QRM - GG Audit'!$C$4="","",'QRM - GG Audit'!$C$4) -> 43994 | E12: =IF('QRM - GG Audit'!$K$2="","",'QRM - GG Audit'!$K$2) -> 44048 | F12: =IF('QRM - GG Audit'!$O$2="","",'QRM - GG Audit'!$O$2) -> 44027 | G12: =IF('QRM - GG Audit'!$K$3="","",'QRM - GG Audit'!$K$3) -> -20 | H12: =IF('QRM - GG Audit'!$K$2="","",'QRM - GG Audit'!$K$2) -> 44048 | I12: ='QRM - GG Audit'!$N$4 -> 22310 | J12: Mobility | K12: Mobility Items | L12: Lying to Sit | M12: ='QRM - GG Audit'!E20 -> 04 | N12: ='QRM - GG Audit'!F20 -> 04 | O12: ='QRM - GG Audit'!G20 -> 04 | P12: ='QRM - GG Audit'!I20 -> 4 | Q12: ='QRM - GG Audit'!J20 -> Yes | R12: ='QRM - GG Audit'!K20 -> 4 | S12: ='QRM - GG Audit'!M20 -> Met | T12: ='QRM - GG Audit'!N20 -> 0 | U12: ='QRM - GG Audit'!O20 -> 0 | AA12: ='QRM - GG Audit'!B12 -> UBD | AB12: ='QRM - GG Audit'!C12 -> 0 | AD12: ='QRM - GG Audit'!E12 -> 03 | AE12: ='QRM - GG Audit'!F12 -> 03 | AF12: ='QRM - GG Audit'!G12 -> 03 | AH12: ='QRM - GG Audit'!I12 -> 3 | AI12: ='QRM - GG Audit'!J12 -> Yes | AJ12: ='QRM - GG Audit'!K12 -> 3 | AL12: ='QRM - GG Audit'!M12 -> Met | AM12: ='QRM - GG Audit'!N12 -> 0 | AN12: ='QRM - GG Audit'!O12 -> 0
A13: {=IF(OR('QRM - GG Audit'!$C$1:$G$1="",'QRM - GG Audit'!$K$1="",'QRM - GG Audit'!$O$1="",'QRM - GG Audit'!$C$2:$G$2="",'QRM - GG Audit'!$O$2="",'QRM - GG Audit'!$C$3:$G$3="",'QRM - GG Audit'!$N$3:$O$3=""),"Incomplete","Complete")} -> Incomplete | B13: =IF('QRM - GG Audit'!$C$2="","",'QRM - GG Audit'!$C$2) -> Example Facility | C13: =IF('QRM - GG Audit'!$C$3="","",'QRM - GG Audit'!$C$3) -> Case Study | D13: =IF('QRM - GG Audit'!$C$4="","",'QRM - GG Audit'!$C$4) -> 43994 | E13: =IF('QRM - GG Audit'!$K$2="","",'QRM - GG Audit'!$K$2) -> 44048 | F13: =IF('QRM - GG Audit'!$O$2="","",'QRM - GG Audit'!$O$2) -> 44027 | G13: =IF('QRM - GG Audit'!$K$3="","",'QRM - GG Audit'!$K$3) -> -20 | H13: =IF('QRM - GG Audit'!$K$2="","",'QRM - GG Audit'!$K$2) -> 44048 | I13: ='QRM - GG Audit'!$N$4 -> 22310 | J13: Mobility | K13: Mobility Items | L13: Sit to Stand | M13: ='QRM - GG Audit'!E21 -> 04 | N13: ='QRM - GG Audit'!F21 -> 04 | O13: ='QRM - GG Audit'!G21 -> 04 | P13: ='QRM - GG Audit'!I21 -> 4 | Q13: ='QRM - GG Audit'!J21 -> Yes | R13: ='QRM - GG Audit'!K21 -> 4 | S13: ='QRM - GG Audit'!M21 -> Met | T13: ='QRM - GG Audit'!N21 -> 0 | U13: ='QRM - GG Audit'!O21 -> 0 | AA13: ='QRM - GG Audit'!B13 -> LBD | AB13: ='QRM - GG Audit'!C13 -> 0 | AD13: ='QRM - GG Audit'!E13 -> 02 | AE13: ='QRM - GG Audit'!F13 -> 03 | AF13: ='QRM - GG Audit'!G13 -> 03 | AH13: ='QRM - GG Audit'!I13 -> 2 | AI13: ='QRM - GG Audit'!J13 -> Yes | AJ13: ='QRM - GG Audit'!K13 -> 3 | AL13: ='QRM - GG Audit'!M13 -> Met | AM13: ='QRM - GG Audit'!N13 -> 1 | AN13: ='QRM - GG Audit'!O13 -> 0.029411765
A14: {=IF(OR('QRM - GG Audit'!$C$1:$G$1="",'QRM - GG Audit'!$K$1="",'QRM - GG Audit'!$O$1="",'QRM - GG Audit'!$C$2:$G$2="",'QRM - GG Audit'!$O$2="",'QRM - GG Audit'!$C$3:$G$3="",'QRM - GG Audit'!$N$3:$O$3=""),"Incomplete","Complete")} -> Incomplete | B14: =IF('QRM - GG Audit'!$C$2="","",'QRM - GG Audit'!$C$2) -> Example Facility | C14: =IF('QRM - GG Audit'!$C$3="","",'QRM - GG Audit'!$C$3) -> Case Study | D14: =IF('QRM - GG Audit'!$C$4="","",'QRM - GG Audit'!$C$4) -> 43994 | E14: =IF('QRM - GG Audit'!$K$2="","",'QRM - GG Audit'!$K$2) -> 44048 | F14: =IF('QRM - GG Audit'!$O$2="","",'QRM - GG Audit'!$O$2) -> 44027 | G14: =IF('QRM - GG Audit'!$K$3="","",'QRM - GG Audit'!$K$3) -> -20 | H14: =IF('QRM - GG Audit'!$K$2="","",'QRM - GG Audit'!$K$2) -> 44048 | I14: ='QRM - GG Audit'!$N$4 -> 22310 | J14: Mobility | K14: Mobility Items | L14: Bed to Chair T/f | M14: ='QRM - GG Audit'!E22 -> 04 | N14: ='QRM - GG Audit'!F22 -> 04 | O14: ='QRM - GG Audit'!G22 -> 04 | P14: ='QRM - GG Audit'!I22 -> 4 | Q14: ='QRM - GG Audit'!J22 -> Yes | R14: ='QRM - GG Audit'!K22 -> 4 | S14: ='QRM - GG Audit'!M22 -> Met | T14: ='QRM - GG Audit'!N22 -> 0 | U14: ='QRM - GG Audit'!O22 -> 0 | AA14: ='QRM - GG Audit'!B14 -> Don/doff footwear | AB14: ='QRM - GG Audit'!C14 -> 0 | AD14: ='QRM - GG Audit'!E14 -> 03 | AE14: ='QRM - GG Audit'!F14 -> 03 | AF14: ='QRM - GG Audit'!G14 -> 03 | AH14: ='QRM - GG Audit'!I14 -> 3 | AI14: ='QRM - GG Audit'!J14 -> Yes | AJ14: ='QRM - GG Audit'!K14 -> 3 | AL14: ='QRM - GG Audit'!M14 -> Met | AM14: ='QRM - GG Audit'!N14 -> 0 | AN14: ='QRM - GG Audit'!O14 -> 0
A15: {=IF(OR('QRM - GG Audit'!$C$1:$G$1="",'QRM - GG Audit'!$K$1="",'QRM - GG Audit'!$O$1="",'QRM - GG Audit'!$C$2:$G$2="",'QRM - GG Audit'!$O$2="",'QRM - GG Audit'!$C$3:$G$3="",'QRM - GG Audit'!$N$3:$O$3=""),"Incomplete","Complete")} -> Incomplete | B15: =IF('QRM - GG Audit'!$C$2="","",'QRM - GG Audit'!$C$2) -> Example Facility | C15: =IF('QRM - GG Audit'!$C$3="","",'QRM - GG Audit'!$C$3) -> Case Study | D15: =IF('QRM - GG Audit'!$C$4="","",'QRM - GG Audit'!$C$4) -> 43994 | E15: =IF('QRM - GG Audit'!$K$2="","",'QRM - GG Audit'!$K$2) -> 44048 | F15: =IF('QRM - GG Audit'!$O$2="","",'QRM - GG Audit'!$O$2) -> 44027 | G15: =IF('QRM - GG Audit'!$K$3="","",'QRM - GG Audit'!$K$3) -> -20 | H15: =IF('QRM - GG Audit'!$K$2="","",'QRM - GG Audit'!$K$2) -> 44048 | I15: ='QRM - GG Audit'!$N$4 -> 22310 | J15: Mobility | K15: Mobility Items | L15: Toilet T/f | M15: ='QRM - GG Audit'!E23 -> 03 | N15: ='QRM - GG Audit'!F23 -> 03 | O15: ='QRM - GG Audit'!G23 -> 03 | P15: ='QRM - GG Audit'!I23 -> 3 | Q15: ='QRM - GG Audit'!J23 -> Yes | R15: ='QRM - GG Audit'!K23 -> 3 | S15: ='QRM - GG Audit'!M23 -> Met | T15: ='QRM - GG Audit'!N23 -> 0 | U15: ='QRM - GG Audit'!O23 -> 0 | AD15: ='QRM - GG Audit'!E15 -> Self-Care Scores | AE15: ='QRM - GG Audit'!F15 -> 0 | AF15: ='QRM - GG Audit'!G15 -> 0 | AH15: ='QRM - GG Audit'!I15 -> 24 | AI15: ='QRM - GG Audit'!J15 -> 7 | AJ15: ='QRM - GG Audit'!K15 -> 24 | AL15: ='QRM - GG Audit'!M15 -> 4 | AM15: ='QRM - GG Audit'!N15 -> 0 | AN15: ='QRM - GG Audit'!O15 -> 0
A16: {=IF(OR('QRM - GG Audit'!$C$1:$G$1="",'QRM - GG Audit'!$K$1="",'QRM - GG Audit'!$O$1="",'QRM - GG Audit'!$C$2:$G$2="",'QRM - GG Audit'!$O$2="",'QRM - GG Audit'!$C$3:$G$3="",'QRM - GG Audit'!$N$3:$O$3=""),"Incomplete","Complete")} -> Incomplete | B16: =IF('QRM - GG Audit'!$C$2="","",'QRM - GG Audit'!$C$2) -> Example Facility | C16: =IF('QRM - GG Audit'!$C$3="","",'QRM - GG Audit'!$C$3) -> Case Study | D16: =IF('QRM - GG Audit'!$C$4="","",'QRM - GG Audit'!$C$4) -> 43994 | E16: =IF('QRM - GG Audit'!$K$2="","",'QRM - GG Audit'!$K$2) -> 44048 | F16: =IF('QRM - GG Audit'!$O$2="","",'QRM - GG Audit'!$O$2) -> 44027 | G16: =IF('QRM - GG Audit'!$K$3="","",'QRM - GG Audit'!$K$3) -> -20 | H16: =IF('QRM - GG Audit'!$K$2="","",'QRM - GG Audit'!$K$2) -> 44048 | I16: ='QRM - GG Audit'!$N$4 -> 22310 | J16: Mobility | K16: Mobility Items | L16: Car T/f | M16: ='QRM - GG Audit'!E24 -> 10 | N16: ='QRM - GG Audit'!F24 -> 10 | O16: ='QRM - GG Audit'!G24 -> 09 | P16: ='QRM - GG Audit'!I24 -> 1 | Q16: ='QRM - GG Audit'!J24 -> No | R16: ='QRM - GG Audit'!K24 -> 1 | S16: ='QRM - GG Audit'!M24 | T16: ='QRM - GG Audit'!N24 -> 0 | U16: ='QRM - GG Audit'!O24 -> 0 | AD16: ='QRM - GG Audit'!E16 -> % of Total Points | AE16: ='QRM - GG Audit'!F16 -> 0 | AF16: ='QRM - GG Audit'!G16 -> 0 | AH16: ='QRM - GG Audit'!I16 -> 0.57142857 | AJ16: ='QRM - GG Audit'!K16 -> 0.57142857 | AL16: ='QRM - GG Audit'!M16 -> 0.57142857
A17: {=IF(OR('QRM - GG Audit'!$C$1:$G$1="",'QRM - GG Audit'!$K$1="",'QRM - GG Audit'!$O$1="",'QRM - GG Audit'!$C$2:$G$2="",'QRM - GG Audit'!$O$2="",'QRM - GG Audit'!$C$3:$G$3="",'QRM - GG Audit'!$N$3:$O$3=""),"Incomplete","Complete")} -> Incomplete | B17: =IF('QRM - GG Audit'!$C$2="","",'QRM - GG Audit'!$C$2) -> Example Facility | C17: =IF('QRM - GG Audit'!$C$3="","",'QRM - GG Audit'!$C$3) -> Case Study | D17: =IF('QRM - GG Audit'!$C$4="","",'QRM - GG Audit'!$C$4) -> 43994 | E17: =IF('QRM - GG Audit'!$K$2="","",'QRM - GG Audit'!$K$2) -> 44048 | F17: =IF('QRM - GG Audit'!$O$2="","",'QRM - GG Audit'!$O$2) -> 44027 | G17: =IF('QRM - GG Audit'!$K$3="","",'QRM - GG Audit'!$K$3) -> -20 | H17: =IF('QRM - GG Audit'!$K$2="","",'QRM - GG Audit'!$K$2) -> 44048 | I17: ='QRM - GG Audit'!$N$4 -> 22310 | J17: Mobility | K17: Mobility Items | L17: Walk 10 ft | M17: ='QRM - GG Audit'!E25 -> 04 | N17: ='QRM - GG Audit'!F25 -> 04 | O17: ='QRM - GG Audit'!G25 -> 04 | P17: ='QRM - GG Audit'!I25 -> 4 | Q17: ='QRM - GG Audit'!J25 -> Yes | R17: ='QRM - GG Audit'!K25 -> 4 | S17: ='QRM - GG Audit'!M25 -> Met | T17: ='QRM - GG Audit'!N25 -> 0 | U17: ='QRM - GG Audit'!O25 -> 0 | AA17: ='QRM - GG Audit'!B17 -> GG Mobility Items | AB17: ='QRM - GG Audit'!C17 -> 0
A18: {=IF(OR('QRM - GG Audit'!$C$1:$G$1="",'QRM - GG Audit'!$K$1="",'QRM - GG Audit'!$O$1="",'QRM - GG Audit'!$C$2:$G$2="",'QRM - GG Audit'!$O$2="",'QRM - GG Audit'!$C$3:$G$3="",'QRM - GG Audit'!$N$3:$O$3=""),"Incomplete","Complete")} -> Incomplete | B18: =IF('QRM - GG Audit'!$C$2="","",'QRM - GG Audit'!$C$2) -> Example Facility | C18: =IF('QRM - GG Audit'!$C$3="","",'QRM - GG Audit'!$C$3) -> Case Study | D18: =IF('QRM - GG Audit'!$C$4="","",'QRM - GG Audit'!$C$4) -> 43994 | E18: =IF('QRM - GG Audit'!$K$2="","",'QRM - GG Audit'!$K$2) -> 44048 | F18: =IF('QRM - GG Audit'!$O$2="","",'QRM - GG Audit'!$O$2) -> 44027 | G18: =IF('QRM - GG Audit'!$K$3="","",'QRM - GG Audit'!$K$3) -> -20 | H18: =IF('QRM - GG Audit'!$K$2="","",'QRM - GG Audit'!$K$2) -> 44048 | I18: ='QRM - GG Audit'!$N$4 -> 22310 | J18: Mobility | K18: Mobility Items | L18: Walk 50 ft w/ 2 turns | M18: ='QRM - GG Audit'!E26 -> 04 | N18: ='QRM - GG Audit'!F26 -> 04 | O18: ='QRM - GG Audit'!G26 -> 04 | P18: ='QRM - GG Audit'!I26 -> 4 | Q18: ='QRM - GG Audit'!J26 -> Yes | R18: ='QRM - GG Audit'!K26 -> 4 | S18: ='QRM - GG Audit'!M26 -> Met | T18: ='QRM - GG Audit'!N26 -> 0 | U18: ='QRM - GG Audit'!O26 -> 0 | AA18: ='QRM - GG Audit'!B18 -> Roll L/R | AB18: ='QRM - GG Audit'!C18 -> 0 | AD18: ='QRM - GG Audit'!E18 -> 04 | AE18: ='QRM - GG Audit'!F18 -> 04 | AF18: ='QRM - GG Audit'!G18 -> 04 | AH18: ='QRM - GG Audit'!I18 -> 4 | AI18: ='QRM - GG Audit'!J18 -> Yes | AJ18: ='QRM - GG Audit'!K18 -> 4 | AL18: ='QRM - GG Audit'!M18 -> Met | AM18: ='QRM - GG Audit'!N18 -> 0 | AN18: ='QRM - GG Audit'!O18 -> 0
